BEGIN:VCALENDAR
VERSION:2.0
PRODID:-//ACTUALIZANDOME - ECPv6.15.16//NONSGML v1.0//EN
CALSCALE:GREGORIAN
METHOD:PUBLISH
X-WR-CALNAME:ACTUALIZANDOME
X-ORIGINAL-URL:https://calendario.actualizandome.com
X-WR-CALDESC:Eventos para ACTUALIZANDOME
REFRESH-INTERVAL;VALUE=DURATION:PT1H
X-Robots-Tag:noindex
X-PUBLISHED-TTL:PT1H
BEGIN:VTIMEZONE
TZID:America/Mexico_City
BEGIN:STANDARD
TZOFFSETFROM:-0600
TZOFFSETTO:-0600
TZNAME:CST
DTSTART:20250101T000000
END:STANDARD
END:VTIMEZONE
BEGIN:VEVENT
DTSTART;TZID=America/Mexico_City:20260424T180000
DTEND;TZID=America/Mexico_City:20260424T200000
DTSTAMP:20260419T200714
CREATED:20260302T175322Z
LAST-MODIFIED:20260302T175322Z
UID:10011491-1777053600-1777060800@calendario.actualizandome.com
SUMMARY:Sesión del Seminario en Prevención de Lavado de Dinero
DESCRIPTION:
URL:https://calendario.actualizandome.com/event/sesion-del-seminario-en-prevencion-de-lavado-de-dinero-2/2026-04-24/
CATEGORIES:academia,Cursos,Videoconferencia
ATTACH;FMTTYPE=image/png:https://calendario.actualizandome.com/wp-content/uploads/2026/03/Blue-and-Purple-Modern-Business-Services-Facebook-Post-89.png
END:VEVENT
BEGIN:VEVENT
DTSTART;TZID=America/Mexico_City:20260501T180000
DTEND;TZID=America/Mexico_City:20260501T200000
DTSTAMP:20260419T200714
CREATED:20260302T175322Z
LAST-MODIFIED:20260302T175322Z
UID:10011492-1777658400-1777665600@calendario.actualizandome.com
SUMMARY:Sesión del Seminario en Prevención de Lavado de Dinero
DESCRIPTION:
URL:https://calendario.actualizandome.com/event/sesion-del-seminario-en-prevencion-de-lavado-de-dinero-2/2026-05-01/
CATEGORIES:academia,Cursos,Videoconferencia
ATTACH;FMTTYPE=image/png:https://calendario.actualizandome.com/wp-content/uploads/2026/03/Blue-and-Purple-Modern-Business-Services-Facebook-Post-89.png
END:VEVENT
BEGIN:VEVENT
DTSTART;TZID=America/Mexico_City:20260508T180000
DTEND;TZID=America/Mexico_City:20260508T200000
DTSTAMP:20260419T200714
CREATED:20260302T175322Z
LAST-MODIFIED:20260302T175322Z
UID:10011493-1778263200-1778270400@calendario.actualizandome.com
SUMMARY:Sesión del Seminario en Prevención de Lavado de Dinero
DESCRIPTION:
URL:https://calendario.actualizandome.com/event/sesion-del-seminario-en-prevencion-de-lavado-de-dinero-2/2026-05-08/
CATEGORIES:academia,Cursos,Videoconferencia
ATTACH;FMTTYPE=image/png:https://calendario.actualizandome.com/wp-content/uploads/2026/03/Blue-and-Purple-Modern-Business-Services-Facebook-Post-89.png
END:VEVENT
BEGIN:VEVENT
DTSTART;TZID=America/Mexico_City:20260515T180000
DTEND;TZID=America/Mexico_City:20260515T200000
DTSTAMP:20260419T200714
CREATED:20260302T175322Z
LAST-MODIFIED:20260302T175322Z
UID:10011494-1778868000-1778875200@calendario.actualizandome.com
SUMMARY:Sesión del Seminario en Prevención de Lavado de Dinero
DESCRIPTION:
URL:https://calendario.actualizandome.com/event/sesion-del-seminario-en-prevencion-de-lavado-de-dinero-2/2026-05-15/
CATEGORIES:academia,Cursos,Videoconferencia
ATTACH;FMTTYPE=image/png:https://calendario.actualizandome.com/wp-content/uploads/2026/03/Blue-and-Purple-Modern-Business-Services-Facebook-Post-89.png
END:VEVENT
BEGIN:VEVENT
DTSTART;TZID=America/Mexico_City:20260522T180000
DTEND;TZID=America/Mexico_City:20260522T200000
DTSTAMP:20260419T200714
CREATED:20260302T175322Z
LAST-MODIFIED:20260302T175322Z
UID:10011495-1779472800-1779480000@calendario.actualizandome.com
SUMMARY:Sesión del Seminario en Prevención de Lavado de Dinero
DESCRIPTION:
URL:https://calendario.actualizandome.com/event/sesion-del-seminario-en-prevencion-de-lavado-de-dinero-2/2026-05-22/
CATEGORIES:academia,Cursos,Videoconferencia
ATTACH;FMTTYPE=image/png:https://calendario.actualizandome.com/wp-content/uploads/2026/03/Blue-and-Purple-Modern-Business-Services-Facebook-Post-89.png
END:VEVENT
BEGIN:VEVENT
DTSTART;TZID=America/Mexico_City:20260529T180000
DTEND;TZID=America/Mexico_City:20260529T200000
DTSTAMP:20260419T200714
CREATED:20260302T175322Z
LAST-MODIFIED:20260302T175322Z
UID:10011496-1780077600-1780084800@calendario.actualizandome.com
SUMMARY:Sesión del Seminario en Prevención de Lavado de Dinero
DESCRIPTION:
URL:https://calendario.actualizandome.com/event/sesion-del-seminario-en-prevencion-de-lavado-de-dinero-2/2026-05-29/
CATEGORIES:academia,Cursos,Videoconferencia
ATTACH;FMTTYPE=image/png:https://calendario.actualizandome.com/wp-content/uploads/2026/03/Blue-and-Purple-Modern-Business-Services-Facebook-Post-89.png
END:VEVENT
BEGIN:VEVENT
DTSTART;TZID=America/Mexico_City:20260605T180000
DTEND;TZID=America/Mexico_City:20260605T200000
DTSTAMP:20260419T200714
CREATED:20260302T175322Z
LAST-MODIFIED:20260302T175322Z
UID:10011497-1780682400-1780689600@calendario.actualizandome.com
SUMMARY:Sesión del Seminario en Prevención de Lavado de Dinero
DESCRIPTION:
URL:https://calendario.actualizandome.com/event/sesion-del-seminario-en-prevencion-de-lavado-de-dinero-2/2026-06-05/
CATEGORIES:academia,Cursos,Videoconferencia
ATTACH;FMTTYPE=image/png:https://calendario.actualizandome.com/wp-content/uploads/2026/03/Blue-and-Purple-Modern-Business-Services-Facebook-Post-89.png
END:VEVENT
BEGIN:VEVENT
DTSTART;TZID=America/Mexico_City:20260612T180000
DTEND;TZID=America/Mexico_City:20260612T200000
DTSTAMP:20260419T200714
CREATED:20260302T175322Z
LAST-MODIFIED:20260302T175322Z
UID:10011498-1781287200-1781294400@calendario.actualizandome.com
SUMMARY:Sesión del Seminario en Prevención de Lavado de Dinero
DESCRIPTION:
URL:https://calendario.actualizandome.com/event/sesion-del-seminario-en-prevencion-de-lavado-de-dinero-2/2026-06-12/
CATEGORIES:academia,Cursos,Videoconferencia
ATTACH;FMTTYPE=image/png:https://calendario.actualizandome.com/wp-content/uploads/2026/03/Blue-and-Purple-Modern-Business-Services-Facebook-Post-89.png
END:VEVENT
BEGIN:VEVENT
DTSTART;TZID=America/Mexico_City:20260619T180000
DTEND;TZID=America/Mexico_City:20260619T200000
DTSTAMP:20260419T200714
CREATED:20260302T175322Z
LAST-MODIFIED:20260302T175322Z
UID:10011499-1781892000-1781899200@calendario.actualizandome.com
SUMMARY:Sesión del Seminario en Prevención de Lavado de Dinero
DESCRIPTION:
URL:https://calendario.actualizandome.com/event/sesion-del-seminario-en-prevencion-de-lavado-de-dinero-2/2026-06-19/
CATEGORIES:academia,Cursos,Videoconferencia
ATTACH;FMTTYPE=image/png:https://calendario.actualizandome.com/wp-content/uploads/2026/03/Blue-and-Purple-Modern-Business-Services-Facebook-Post-89.png
END:VEVENT
BEGIN:VEVENT
DTSTART;TZID=America/Mexico_City:20260626T180000
DTEND;TZID=America/Mexico_City:20260626T200000
DTSTAMP:20260419T200714
CREATED:20260302T175322Z
LAST-MODIFIED:20260302T175322Z
UID:10011500-1782496800-1782504000@calendario.actualizandome.com
SUMMARY:Sesión del Seminario en Prevención de Lavado de Dinero
DESCRIPTION:
URL:https://calendario.actualizandome.com/event/sesion-del-seminario-en-prevencion-de-lavado-de-dinero-2/2026-06-26/
CATEGORIES:academia,Cursos,Videoconferencia
ATTACH;FMTTYPE=image/png:https://calendario.actualizandome.com/wp-content/uploads/2026/03/Blue-and-Purple-Modern-Business-Services-Facebook-Post-89.png
END:VEVENT
BEGIN:VEVENT
DTSTART;TZID=America/Mexico_City:20260703T180000
DTEND;TZID=America/Mexico_City:20260703T200000
DTSTAMP:20260419T200714
CREATED:20260302T175322Z
LAST-MODIFIED:20260302T175322Z
UID:10011501-1783101600-1783108800@calendario.actualizandome.com
SUMMARY:Sesión del Seminario en Prevención de Lavado de Dinero
DESCRIPTION:
URL:https://calendario.actualizandome.com/event/sesion-del-seminario-en-prevencion-de-lavado-de-dinero-2/2026-07-03/
CATEGORIES:academia,Cursos,Videoconferencia
ATTACH;FMTTYPE=image/png:https://calendario.actualizandome.com/wp-content/uploads/2026/03/Blue-and-Purple-Modern-Business-Services-Facebook-Post-89.png
END:VEVENT
BEGIN:VEVENT
DTSTART;TZID=America/Mexico_City:20260710T180000
DTEND;TZID=America/Mexico_City:20260710T200000
DTSTAMP:20260419T200714
CREATED:20260302T175322Z
LAST-MODIFIED:20260302T175322Z
UID:10011502-1783706400-1783713600@calendario.actualizandome.com
SUMMARY:Sesión del Seminario en Prevención de Lavado de Dinero
DESCRIPTION:
URL:https://calendario.actualizandome.com/event/sesion-del-seminario-en-prevencion-de-lavado-de-dinero-2/2026-07-10/
CATEGORIES:academia,Cursos,Videoconferencia
ATTACH;FMTTYPE=image/png:https://calendario.actualizandome.com/wp-content/uploads/2026/03/Blue-and-Purple-Modern-Business-Services-Facebook-Post-89.png
END:VEVENT
BEGIN:VEVENT
DTSTART;TZID=America/Mexico_City:20260717T180000
DTEND;TZID=America/Mexico_City:20260717T200000
DTSTAMP:20260419T200714
CREATED:20260302T175322Z
LAST-MODIFIED:20260302T175322Z
UID:10011503-1784311200-1784318400@calendario.actualizandome.com
SUMMARY:Sesión del Seminario en Prevención de Lavado de Dinero
DESCRIPTION:
URL:https://calendario.actualizandome.com/event/sesion-del-seminario-en-prevencion-de-lavado-de-dinero-2/2026-07-17/
CATEGORIES:academia,Cursos,Videoconferencia
ATTACH;FMTTYPE=image/png:https://calendario.actualizandome.com/wp-content/uploads/2026/03/Blue-and-Purple-Modern-Business-Services-Facebook-Post-89.png
END:VEVENT
BEGIN:VEVENT
DTSTART;TZID=America/Mexico_City:20260724T180000
DTEND;TZID=America/Mexico_City:20260724T200000
DTSTAMP:20260419T200714
CREATED:20260302T175322Z
LAST-MODIFIED:20260302T175322Z
UID:10011504-1784916000-1784923200@calendario.actualizandome.com
SUMMARY:Sesión del Seminario en Prevención de Lavado de Dinero
DESCRIPTION:
URL:https://calendario.actualizandome.com/event/sesion-del-seminario-en-prevencion-de-lavado-de-dinero-2/2026-07-24/
CATEGORIES:academia,Cursos,Videoconferencia
ATTACH;FMTTYPE=image/png:https://calendario.actualizandome.com/wp-content/uploads/2026/03/Blue-and-Purple-Modern-Business-Services-Facebook-Post-89.png
END:VEVENT
BEGIN:VEVENT
DTSTART;TZID=America/Mexico_City:20260731T180000
DTEND;TZID=America/Mexico_City:20260731T200000
DTSTAMP:20260419T200714
CREATED:20260302T175322Z
LAST-MODIFIED:20260302T175322Z
UID:10011505-1785520800-1785528000@calendario.actualizandome.com
SUMMARY:Sesión del Seminario en Prevención de Lavado de Dinero
DESCRIPTION:
URL:https://calendario.actualizandome.com/event/sesion-del-seminario-en-prevencion-de-lavado-de-dinero-2/2026-07-31/
CATEGORIES:academia,Cursos,Videoconferencia
ATTACH;FMTTYPE=image/png:https://calendario.actualizandome.com/wp-content/uploads/2026/03/Blue-and-Purple-Modern-Business-Services-Facebook-Post-89.png
END:VEVENT
BEGIN:VEVENT
DTSTART;TZID=America/Mexico_City:20260807T180000
DTEND;TZID=America/Mexico_City:20260807T200000
DTSTAMP:20260419T200714
CREATED:20260302T175322Z
LAST-MODIFIED:20260302T175322Z
UID:10011506-1786125600-1786132800@calendario.actualizandome.com
SUMMARY:Sesión del Seminario en Prevención de Lavado de Dinero
DESCRIPTION:
URL:https://calendario.actualizandome.com/event/sesion-del-seminario-en-prevencion-de-lavado-de-dinero-2/2026-08-07/
CATEGORIES:academia,Cursos,Videoconferencia
ATTACH;FMTTYPE=image/png:https://calendario.actualizandome.com/wp-content/uploads/2026/03/Blue-and-Purple-Modern-Business-Services-Facebook-Post-89.png
END:VEVENT
BEGIN:VEVENT
DTSTART;TZID=America/Mexico_City:20260814T180000
DTEND;TZID=America/Mexico_City:20260814T200000
DTSTAMP:20260419T200714
CREATED:20260302T175322Z
LAST-MODIFIED:20260302T175322Z
UID:10011507-1786730400-1786737600@calendario.actualizandome.com
SUMMARY:Sesión del Seminario en Prevención de Lavado de Dinero
DESCRIPTION:
URL:https://calendario.actualizandome.com/event/sesion-del-seminario-en-prevencion-de-lavado-de-dinero-2/2026-08-14/
CATEGORIES:academia,Cursos,Videoconferencia
ATTACH;FMTTYPE=image/png:https://calendario.actualizandome.com/wp-content/uploads/2026/03/Blue-and-Purple-Modern-Business-Services-Facebook-Post-89.png
END:VEVENT
BEGIN:VEVENT
DTSTART;TZID=America/Mexico_City:20260821T180000
DTEND;TZID=America/Mexico_City:20260821T200000
DTSTAMP:20260419T200714
CREATED:20260302T175322Z
LAST-MODIFIED:20260302T175322Z
UID:10011508-1787335200-1787342400@calendario.actualizandome.com
SUMMARY:Sesión del Seminario en Prevención de Lavado de Dinero
DESCRIPTION:
URL:https://calendario.actualizandome.com/event/sesion-del-seminario-en-prevencion-de-lavado-de-dinero-2/2026-08-21/
CATEGORIES:academia,Cursos,Videoconferencia
ATTACH;FMTTYPE=image/png:https://calendario.actualizandome.com/wp-content/uploads/2026/03/Blue-and-Purple-Modern-Business-Services-Facebook-Post-89.png
END:VEVENT
BEGIN:VEVENT
DTSTART;TZID=America/Mexico_City:20260828T180000
DTEND;TZID=America/Mexico_City:20260828T200000
DTSTAMP:20260419T200714
CREATED:20260302T175322Z
LAST-MODIFIED:20260302T175322Z
UID:10011509-1787940000-1787947200@calendario.actualizandome.com
SUMMARY:Sesión del Seminario en Prevención de Lavado de Dinero
DESCRIPTION:
URL:https://calendario.actualizandome.com/event/sesion-del-seminario-en-prevencion-de-lavado-de-dinero-2/2026-08-28/
CATEGORIES:academia,Cursos,Videoconferencia
ATTACH;FMTTYPE=image/png:https://calendario.actualizandome.com/wp-content/uploads/2026/03/Blue-and-Purple-Modern-Business-Services-Facebook-Post-89.png
END:VEVENT
BEGIN:VEVENT
DTSTART;TZID=America/Mexico_City:20260904T180000
DTEND;TZID=America/Mexico_City:20260904T200000
DTSTAMP:20260419T200714
CREATED:20260302T175322Z
LAST-MODIFIED:20260302T175322Z
UID:10011510-1788544800-1788552000@calendario.actualizandome.com
SUMMARY:Sesión del Seminario en Prevención de Lavado de Dinero
DESCRIPTION:
URL:https://calendario.actualizandome.com/event/sesion-del-seminario-en-prevencion-de-lavado-de-dinero-2/2026-09-04/
CATEGORIES:academia,Cursos,Videoconferencia
ATTACH;FMTTYPE=image/png:https://calendario.actualizandome.com/wp-content/uploads/2026/03/Blue-and-Purple-Modern-Business-Services-Facebook-Post-89.png
END:VEVENT
BEGIN:VEVENT
DTSTART;TZID=America/Mexico_City:20260911T180000
DTEND;TZID=America/Mexico_City:20260911T200000
DTSTAMP:20260419T200714
CREATED:20260302T175322Z
LAST-MODIFIED:20260302T175322Z
UID:10011511-1789149600-1789156800@calendario.actualizandome.com
SUMMARY:Sesión del Seminario en Prevención de Lavado de Dinero
DESCRIPTION:
URL:https://calendario.actualizandome.com/event/sesion-del-seminario-en-prevencion-de-lavado-de-dinero-2/2026-09-11/
CATEGORIES:academia,Cursos,Videoconferencia
ATTACH;FMTTYPE=image/png:https://calendario.actualizandome.com/wp-content/uploads/2026/03/Blue-and-Purple-Modern-Business-Services-Facebook-Post-89.png
END:VEVENT
BEGIN:VEVENT
DTSTART;TZID=America/Mexico_City:20260918T180000
DTEND;TZID=America/Mexico_City:20260918T200000
DTSTAMP:20260419T200714
CREATED:20260302T175322Z
LAST-MODIFIED:20260302T175322Z
UID:10011512-1789754400-1789761600@calendario.actualizandome.com
SUMMARY:Sesión del Seminario en Prevención de Lavado de Dinero
DESCRIPTION:
URL:https://calendario.actualizandome.com/event/sesion-del-seminario-en-prevencion-de-lavado-de-dinero-2/2026-09-18/
CATEGORIES:academia,Cursos,Videoconferencia
ATTACH;FMTTYPE=image/png:https://calendario.actualizandome.com/wp-content/uploads/2026/03/Blue-and-Purple-Modern-Business-Services-Facebook-Post-89.png
END:VEVENT
BEGIN:VEVENT
DTSTART;TZID=America/Mexico_City:20260925T180000
DTEND;TZID=America/Mexico_City:20260925T200000
DTSTAMP:20260419T200714
CREATED:20260302T175322Z
LAST-MODIFIED:20260302T175322Z
UID:10011513-1790359200-1790366400@calendario.actualizandome.com
SUMMARY:Sesión del Seminario en Prevención de Lavado de Dinero
DESCRIPTION:
URL:https://calendario.actualizandome.com/event/sesion-del-seminario-en-prevencion-de-lavado-de-dinero-2/2026-09-25/
CATEGORIES:academia,Cursos,Videoconferencia
ATTACH;FMTTYPE=image/png:https://calendario.actualizandome.com/wp-content/uploads/2026/03/Blue-and-Purple-Modern-Business-Services-Facebook-Post-89.png
END:VEVENT
BEGIN:VEVENT
DTSTART;TZID=America/Mexico_City:20261002T180000
DTEND;TZID=America/Mexico_City:20261002T200000
DTSTAMP:20260419T200714
CREATED:20260302T175322Z
LAST-MODIFIED:20260302T175322Z
UID:10011514-1790964000-1790971200@calendario.actualizandome.com
SUMMARY:Sesión del Seminario en Prevención de Lavado de Dinero
DESCRIPTION:
URL:https://calendario.actualizandome.com/event/sesion-del-seminario-en-prevencion-de-lavado-de-dinero-2/2026-10-02/
CATEGORIES:academia,Cursos,Videoconferencia
ATTACH;FMTTYPE=image/png:https://calendario.actualizandome.com/wp-content/uploads/2026/03/Blue-and-Purple-Modern-Business-Services-Facebook-Post-89.png
END:VEVENT
BEGIN:VEVENT
DTSTART;TZID=America/Mexico_City:20261009T180000
DTEND;TZID=America/Mexico_City:20261009T200000
DTSTAMP:20260419T200714
CREATED:20260302T175322Z
LAST-MODIFIED:20260302T175322Z
UID:10011515-1791568800-1791576000@calendario.actualizandome.com
SUMMARY:Sesión del Seminario en Prevención de Lavado de Dinero
DESCRIPTION:
URL:https://calendario.actualizandome.com/event/sesion-del-seminario-en-prevencion-de-lavado-de-dinero-2/2026-10-09/
CATEGORIES:academia,Cursos,Videoconferencia
ATTACH;FMTTYPE=image/png:https://calendario.actualizandome.com/wp-content/uploads/2026/03/Blue-and-Purple-Modern-Business-Services-Facebook-Post-89.png
END:VEVENT
BEGIN:VEVENT
DTSTART;TZID=America/Mexico_City:20261016T180000
DTEND;TZID=America/Mexico_City:20261016T200000
DTSTAMP:20260419T200714
CREATED:20260302T175322Z
LAST-MODIFIED:20260302T175322Z
UID:10011516-1792173600-1792180800@calendario.actualizandome.com
SUMMARY:Sesión del Seminario en Prevención de Lavado de Dinero
DESCRIPTION:
URL:https://calendario.actualizandome.com/event/sesion-del-seminario-en-prevencion-de-lavado-de-dinero-2/2026-10-16/
CATEGORIES:academia,Cursos,Videoconferencia
ATTACH;FMTTYPE=image/png:https://calendario.actualizandome.com/wp-content/uploads/2026/03/Blue-and-Purple-Modern-Business-Services-Facebook-Post-89.png
END:VEVENT
BEGIN:VEVENT
DTSTART;TZID=America/Mexico_City:20261023T180000
DTEND;TZID=America/Mexico_City:20261023T200000
DTSTAMP:20260419T200714
CREATED:20260302T175322Z
LAST-MODIFIED:20260302T175322Z
UID:10011517-1792778400-1792785600@calendario.actualizandome.com
SUMMARY:Sesión del Seminario en Prevención de Lavado de Dinero
DESCRIPTION:
URL:https://calendario.actualizandome.com/event/sesion-del-seminario-en-prevencion-de-lavado-de-dinero-2/2026-10-23/
CATEGORIES:academia,Cursos,Videoconferencia
ATTACH;FMTTYPE=image/png:https://calendario.actualizandome.com/wp-content/uploads/2026/03/Blue-and-Purple-Modern-Business-Services-Facebook-Post-89.png
END:VEVENT
BEGIN:VEVENT
DTSTART;TZID=America/Mexico_City:20261030T180000
DTEND;TZID=America/Mexico_City:20261030T200000
DTSTAMP:20260419T200714
CREATED:20260302T175322Z
LAST-MODIFIED:20260302T175322Z
UID:10011518-1793383200-1793390400@calendario.actualizandome.com
SUMMARY:Sesión del Seminario en Prevención de Lavado de Dinero
DESCRIPTION:
URL:https://calendario.actualizandome.com/event/sesion-del-seminario-en-prevencion-de-lavado-de-dinero-2/2026-10-30/
CATEGORIES:academia,Cursos,Videoconferencia
ATTACH;FMTTYPE=image/png:https://calendario.actualizandome.com/wp-content/uploads/2026/03/Blue-and-Purple-Modern-Business-Services-Facebook-Post-89.png
END:VEVENT
BEGIN:VEVENT
DTSTART;TZID=America/Mexico_City:20261106T180000
DTEND;TZID=America/Mexico_City:20261106T200000
DTSTAMP:20260419T200714
CREATED:20260302T175322Z
LAST-MODIFIED:20260302T175322Z
UID:10011519-1793988000-1793995200@calendario.actualizandome.com
SUMMARY:Sesión del Seminario en Prevención de Lavado de Dinero
DESCRIPTION:
URL:https://calendario.actualizandome.com/event/sesion-del-seminario-en-prevencion-de-lavado-de-dinero-2/2026-11-06/
CATEGORIES:academia,Cursos,Videoconferencia
ATTACH;FMTTYPE=image/png:https://calendario.actualizandome.com/wp-content/uploads/2026/03/Blue-and-Purple-Modern-Business-Services-Facebook-Post-89.png
END:VEVENT
BEGIN:VEVENT
DTSTART;TZID=America/Mexico_City:20261113T180000
DTEND;TZID=America/Mexico_City:20261113T200000
DTSTAMP:20260419T200714
CREATED:20260302T175322Z
LAST-MODIFIED:20260302T175322Z
UID:10011520-1794592800-1794600000@calendario.actualizandome.com
SUMMARY:Sesión del Seminario en Prevención de Lavado de Dinero
DESCRIPTION:
URL:https://calendario.actualizandome.com/event/sesion-del-seminario-en-prevencion-de-lavado-de-dinero-2/2026-11-13/
CATEGORIES:academia,Cursos,Videoconferencia
ATTACH;FMTTYPE=image/png:https://calendario.actualizandome.com/wp-content/uploads/2026/03/Blue-and-Purple-Modern-Business-Services-Facebook-Post-89.png
END:VEVENT
END:VCALENDAR