BEGIN:VCALENDAR
VERSION:2.0
PRODID:-//ACTUALIZANDOME - ECPv6.15.16//NONSGML v1.0//EN
CALSCALE:GREGORIAN
METHOD:PUBLISH
X-ORIGINAL-URL:https://calendario.actualizandome.com
X-WR-CALDESC:Eventos para ACTUALIZANDOME
REFRESH-INTERVAL;VALUE=DURATION:PT1H
X-Robots-Tag:noindex
X-PUBLISHED-TTL:PT1H
BEGIN:VTIMEZONE
TZID:America/Mexico_City
BEGIN:STANDARD
TZOFFSETFROM:-0600
TZOFFSETTO:-0600
TZNAME:CST
DTSTART:20260101T000000
END:STANDARD
END:VTIMEZONE
BEGIN:VEVENT
DTSTART;TZID=America/Mexico_City:20270303T210000
DTEND;TZID=America/Mexico_City:20270303T210000
DTSTAMP:20260420T123952
CREATED:20231109T233529Z
LAST-MODIFIED:20260129T002251Z
UID:10001510-1804107600-1804107600@calendario.actualizandome.com
SUMMARY:Club de estudio sobre Reglas Misceláneas 2026
DESCRIPTION:
URL:https://calendario.actualizandome.com/event/club-de-estudio-sobre-reglas-miscelaneas-2026/2027-03-03/
CATEGORIES:academia,Cursos
ATTACH;FMTTYPE=image/png:https://calendario.actualizandome.com/wp-content/uploads/2023/11/Club-de-estudio-sobre-Reglas-Miscelaneas-2024-26-1400x788-1.png
END:VEVENT
BEGIN:VEVENT
DTSTART;TZID=America/Mexico_City:20270305T180000
DTEND;TZID=America/Mexico_City:20270305T200000
DTSTAMP:20260420T123952
CREATED:20260302T175322Z
LAST-MODIFIED:20260302T175322Z
UID:10011536-1804269600-1804276800@calendario.actualizandome.com
SUMMARY:Sesión del Seminario en Prevención de Lavado de Dinero
DESCRIPTION:
URL:https://calendario.actualizandome.com/event/sesion-del-seminario-en-prevencion-de-lavado-de-dinero-2/2027-03-05/
CATEGORIES:academia,Cursos,Videoconferencia
ATTACH;FMTTYPE=image/png:https://calendario.actualizandome.com/wp-content/uploads/2026/03/Blue-and-Purple-Modern-Business-Services-Facebook-Post-89.png
END:VEVENT
BEGIN:VEVENT
DTSTART;TZID=America/Mexico_City:20270310T210000
DTEND;TZID=America/Mexico_City:20270310T210000
DTSTAMP:20260420T123952
CREATED:20231109T233529Z
LAST-MODIFIED:20260129T002251Z
UID:10001511-1804712400-1804712400@calendario.actualizandome.com
SUMMARY:Club de estudio sobre Reglas Misceláneas 2026
DESCRIPTION:
URL:https://calendario.actualizandome.com/event/club-de-estudio-sobre-reglas-miscelaneas-2026/2027-03-10/
CATEGORIES:academia,Cursos
ATTACH;FMTTYPE=image/png:https://calendario.actualizandome.com/wp-content/uploads/2023/11/Club-de-estudio-sobre-Reglas-Miscelaneas-2024-26-1400x788-1.png
END:VEVENT
BEGIN:VEVENT
DTSTART;TZID=America/Mexico_City:20270312T180000
DTEND;TZID=America/Mexico_City:20270312T200000
DTSTAMP:20260420T123952
CREATED:20260302T175322Z
LAST-MODIFIED:20260302T175322Z
UID:10011537-1804874400-1804881600@calendario.actualizandome.com
SUMMARY:Sesión del Seminario en Prevención de Lavado de Dinero
DESCRIPTION:
URL:https://calendario.actualizandome.com/event/sesion-del-seminario-en-prevencion-de-lavado-de-dinero-2/2027-03-12/
CATEGORIES:academia,Cursos,Videoconferencia
ATTACH;FMTTYPE=image/png:https://calendario.actualizandome.com/wp-content/uploads/2026/03/Blue-and-Purple-Modern-Business-Services-Facebook-Post-89.png
END:VEVENT
BEGIN:VEVENT
DTSTART;TZID=America/Mexico_City:20270317T210000
DTEND;TZID=America/Mexico_City:20270317T210000
DTSTAMP:20260420T123952
CREATED:20231109T233529Z
LAST-MODIFIED:20260129T002251Z
UID:10001512-1805317200-1805317200@calendario.actualizandome.com
SUMMARY:Club de estudio sobre Reglas Misceláneas 2026
DESCRIPTION:
URL:https://calendario.actualizandome.com/event/club-de-estudio-sobre-reglas-miscelaneas-2026/2027-03-17/
CATEGORIES:academia,Cursos
ATTACH;FMTTYPE=image/png:https://calendario.actualizandome.com/wp-content/uploads/2023/11/Club-de-estudio-sobre-Reglas-Miscelaneas-2024-26-1400x788-1.png
END:VEVENT
BEGIN:VEVENT
DTSTART;TZID=America/Mexico_City:20270319T180000
DTEND;TZID=America/Mexico_City:20270319T200000
DTSTAMP:20260420T123952
CREATED:20260302T175322Z
LAST-MODIFIED:20260302T175322Z
UID:10011538-1805479200-1805486400@calendario.actualizandome.com
SUMMARY:Sesión del Seminario en Prevención de Lavado de Dinero
DESCRIPTION:
URL:https://calendario.actualizandome.com/event/sesion-del-seminario-en-prevencion-de-lavado-de-dinero-2/2027-03-19/
CATEGORIES:academia,Cursos,Videoconferencia
ATTACH;FMTTYPE=image/png:https://calendario.actualizandome.com/wp-content/uploads/2026/03/Blue-and-Purple-Modern-Business-Services-Facebook-Post-89.png
END:VEVENT
BEGIN:VEVENT
DTSTART;TZID=America/Mexico_City:20270324T210000
DTEND;TZID=America/Mexico_City:20270324T210000
DTSTAMP:20260420T123952
CREATED:20231109T233529Z
LAST-MODIFIED:20260129T002251Z
UID:10001513-1805922000-1805922000@calendario.actualizandome.com
SUMMARY:Club de estudio sobre Reglas Misceláneas 2026
DESCRIPTION:
URL:https://calendario.actualizandome.com/event/club-de-estudio-sobre-reglas-miscelaneas-2026/2027-03-24/
CATEGORIES:academia,Cursos
ATTACH;FMTTYPE=image/png:https://calendario.actualizandome.com/wp-content/uploads/2023/11/Club-de-estudio-sobre-Reglas-Miscelaneas-2024-26-1400x788-1.png
END:VEVENT
BEGIN:VEVENT
DTSTART;TZID=America/Mexico_City:20270326T180000
DTEND;TZID=America/Mexico_City:20270326T200000
DTSTAMP:20260420T123952
CREATED:20260302T175322Z
LAST-MODIFIED:20260302T175322Z
UID:10011539-1806084000-1806091200@calendario.actualizandome.com
SUMMARY:Sesión del Seminario en Prevención de Lavado de Dinero
DESCRIPTION:
URL:https://calendario.actualizandome.com/event/sesion-del-seminario-en-prevencion-de-lavado-de-dinero-2/2027-03-26/
CATEGORIES:academia,Cursos,Videoconferencia
ATTACH;FMTTYPE=image/png:https://calendario.actualizandome.com/wp-content/uploads/2026/03/Blue-and-Purple-Modern-Business-Services-Facebook-Post-89.png
END:VEVENT
BEGIN:VEVENT
DTSTART;TZID=America/Mexico_City:20270331T210000
DTEND;TZID=America/Mexico_City:20270331T210000
DTSTAMP:20260420T123952
CREATED:20231109T233529Z
LAST-MODIFIED:20260129T002251Z
UID:10001514-1806526800-1806526800@calendario.actualizandome.com
SUMMARY:Club de estudio sobre Reglas Misceláneas 2026
DESCRIPTION:
URL:https://calendario.actualizandome.com/event/club-de-estudio-sobre-reglas-miscelaneas-2026/2027-03-31/
CATEGORIES:academia,Cursos
ATTACH;FMTTYPE=image/png:https://calendario.actualizandome.com/wp-content/uploads/2023/11/Club-de-estudio-sobre-Reglas-Miscelaneas-2024-26-1400x788-1.png
END:VEVENT
END:VCALENDAR