BEGIN:VCALENDAR
VERSION:2.0
PRODID:-//ACTUALIZANDOME - ECPv6.15.16//NONSGML v1.0//EN
CALSCALE:GREGORIAN
METHOD:PUBLISH
X-ORIGINAL-URL:https://calendario.actualizandome.com
X-WR-CALDESC:Eventos para ACTUALIZANDOME
REFRESH-INTERVAL;VALUE=DURATION:PT1H
X-Robots-Tag:noindex
X-PUBLISHED-TTL:PT1H
BEGIN:VTIMEZONE
TZID:America/New_York
BEGIN:DAYLIGHT
TZOFFSETFROM:-0500
TZOFFSETTO:-0400
TZNAME:EDT
DTSTART:20220313T070000
END:DAYLIGHT
BEGIN:STANDARD
TZOFFSETFROM:-0400
TZOFFSETTO:-0500
TZNAME:EST
DTSTART:20221106T060000
END:STANDARD
BEGIN:DAYLIGHT
TZOFFSETFROM:-0500
TZOFFSETTO:-0400
TZNAME:EDT
DTSTART:20230312T070000
END:DAYLIGHT
BEGIN:STANDARD
TZOFFSETFROM:-0400
TZOFFSETTO:-0500
TZNAME:EST
DTSTART:20231105T060000
END:STANDARD
BEGIN:DAYLIGHT
TZOFFSETFROM:-0500
TZOFFSETTO:-0400
TZNAME:EDT
DTSTART:20240310T070000
END:DAYLIGHT
BEGIN:STANDARD
TZOFFSETFROM:-0400
TZOFFSETTO:-0500
TZNAME:EST
DTSTART:20241103T060000
END:STANDARD
END:VTIMEZONE
BEGIN:VEVENT
DTSTART;TZID=America/New_York:20230818T170000
DTEND;TZID=America/New_York:20230818T180000
DTSTAMP:20260425T174258
CREATED:20230811T205150Z
LAST-MODIFIED:20230811T205150Z
UID:10000070-1692378000-1692381600@calendario.actualizandome.com
SUMMARY:Esta bien no Estar bien – #BarraActualizandome
DESCRIPTION:
URL:https://calendario.actualizandome.com/event/esta-bien-no-estar-bien-barraactualizandome/
CATEGORIES:Aula Virtual
ATTACH;FMTTYPE=image/png:https://calendario.actualizandome.com/wp-content/uploads/2023/08/1-Nuevos32.png
END:VEVENT
BEGIN:VEVENT
DTSTART;TZID=America/New_York:20230818T130000
DTEND;TZID=America/New_York:20230818T140000
DTSTAMP:20260425T174258
CREATED:20230811T205043Z
LAST-MODIFIED:20230818T191115Z
UID:10000069-1692363600-1692367200@calendario.actualizandome.com
SUMMARY:Sesión Interactiva de la Revista Digital Actualizandome Edición 133 - 2da Parte - #BarraActualizandome
DESCRIPTION:
URL:https://calendario.actualizandome.com/event/el-mundo-mas-alla-de-lo-contable-y-fiscal-barraactualizandome/
CATEGORIES:Aula Virtual
ATTACH;FMTTYPE=image/png:https://calendario.actualizandome.com/wp-content/uploads/2023/08/interactiva2.png
END:VEVENT
BEGIN:VEVENT
DTSTART;TZID=America/New_York:20230818T120000
DTEND;TZID=America/New_York:20230818T130000
DTSTAMP:20260425T174258
CREATED:20230811T204846Z
LAST-MODIFIED:20230811T204846Z
UID:10000068-1692360000-1692363600@calendario.actualizandome.com
SUMMARY:Contabilidad y algo más – #BarraActualizandome
DESCRIPTION:
URL:https://calendario.actualizandome.com/event/contabilidad-y-algo-mas-barraactualizandome/
CATEGORIES:Aula Virtual
ATTACH;FMTTYPE=image/png:https://calendario.actualizandome.com/wp-content/uploads/2023/08/1-Nuevos30.png
END:VEVENT
BEGIN:VEVENT
DTSTART;TZID=America/New_York:20230818T110000
DTEND;TZID=America/New_York:20230818T120000
DTSTAMP:20260425T174258
CREATED:20230811T204812Z
LAST-MODIFIED:20230811T204914Z
UID:10000067-1692356400-1692360000@calendario.actualizandome.com
SUMMARY:Metamorfosis – #BarraActualizandome
DESCRIPTION:
URL:https://calendario.actualizandome.com/event/metamorfosis-barraactualizandome/
CATEGORIES:Aula Virtual
ATTACH;FMTTYPE=image/png:https://calendario.actualizandome.com/wp-content/uploads/2023/08/1-Nuevos29.png
END:VEVENT
BEGIN:VEVENT
DTSTART;TZID=America/New_York:20230818T100000
DTEND;TZID=America/New_York:20230818T110000
DTSTAMP:20260425T174258
CREATED:20230811T204443Z
LAST-MODIFIED:20230818T004023Z
UID:10000066-1692352800-1692356400@calendario.actualizandome.com
SUMMARY:Sembrando el Conocimiento – #BarraActualizandome
DESCRIPTION:
URL:https://calendario.actualizandome.com/event/sembrando-el-conocimiento-barraactualizandome/
CATEGORIES:Aula Virtual
ATTACH;FMTTYPE=image/png:https://calendario.actualizandome.com/wp-content/uploads/2023/08/sembrando.png
END:VEVENT
BEGIN:VEVENT
DTSTART;VALUE=DATE:20230818
DTEND;VALUE=DATE:20230819
DTSTAMP:20260425T174258
CREATED:20230809T183329Z
LAST-MODIFIED:20230818T004816Z
UID:10000013-1692316800-1692403199@calendario.actualizandome.com
SUMMARY:Programación de la Barra Actualizandome
DESCRIPTION:
URL:https://calendario.actualizandome.com/event/programacion-de-la-barra-actualizandome-7/
CATEGORIES:Aula Virtual
ATTACH;FMTTYPE=image/png:https://calendario.actualizandome.com/wp-content/uploads/2023/08/viernes.png
END:VEVENT
BEGIN:VEVENT
DTSTART;TZID=America/New_York:20230817T180000
DTEND;TZID=America/New_York:20230817T190000
DTSTAMP:20260425T174258
CREATED:20230811T201919Z
LAST-MODIFIED:20230817T184934Z
UID:10000059-1692295200-1692298800@calendario.actualizandome.com
SUMMARY:Sesión Interactiva de la Revista Digital Actualizandome Edición 133 - 1ra Parte -  #BarraActualizandome
DESCRIPTION:
URL:https://calendario.actualizandome.com/event/fiscal-contable-barraactualizandome/
CATEGORIES:Aula Virtual
ATTACH;FMTTYPE=image/png:https://calendario.actualizandome.com/wp-content/uploads/2023/08/interactiva.png
END:VEVENT
BEGIN:VEVENT
DTSTART;TZID=America/New_York:20230817T170000
DTEND;TZID=America/New_York:20230817T180000
DTSTAMP:20260425T174258
CREATED:20230811T201834Z
LAST-MODIFIED:20230816T231108Z
UID:10000058-1692291600-1692295200@calendario.actualizandome.com
SUMMARY:Consultoria Fiscal Empresarial - #BarraActualizandome
DESCRIPTION:
URL:https://calendario.actualizandome.com/event/consultoria-fiscal-empresarial-barraactualizandome/
CATEGORIES:Aula Virtual
ATTACH;FMTTYPE=image/png:https://calendario.actualizandome.com/wp-content/uploads/2023/08/consultoria.png
END:VEVENT
BEGIN:VEVENT
DTSTART;TZID=America/New_York:20230817T140000
DTEND;TZID=America/New_York:20230817T150000
DTSTAMP:20260425T174258
CREATED:20230811T201725Z
LAST-MODIFIED:20230816T235217Z
UID:10000057-1692280800-1692284400@calendario.actualizandome.com
SUMMARY:Presentación de la Revista Digital Actualizandome No. 135 - #BarraActualizandome
DESCRIPTION:
URL:https://calendario.actualizandome.com/event/hora-de-charlar-barraactualizandome/
CATEGORIES:Aula Virtual
ATTACH;FMTTYPE=image/png:https://calendario.actualizandome.com/wp-content/uploads/2023/08/revista.png
END:VEVENT
BEGIN:VEVENT
DTSTART;TZID=America/New_York:20230817T130000
DTEND;TZID=America/New_York:20230817T140000
DTSTAMP:20260425T174258
CREATED:20230811T201656Z
LAST-MODIFIED:20230816T230710Z
UID:10000056-1692277200-1692280800@calendario.actualizandome.com
SUMMARY:Participando en Grupo - #BarraActualizandome
DESCRIPTION:
URL:https://calendario.actualizandome.com/event/barraactualizandome/
CATEGORIES:Aula Virtual
ATTACH;FMTTYPE=image/png:https://calendario.actualizandome.com/wp-content/uploads/2023/08/participando.png
END:VEVENT
BEGIN:VEVENT
DTSTART;TZID=America/New_York:20230817T120000
DTEND;TZID=America/New_York:20230817T130000
DTSTAMP:20260425T174258
CREATED:20230811T201627Z
LAST-MODIFIED:20230817T001329Z
UID:10000055-1692273600-1692277200@calendario.actualizandome.com
SUMMARY:Diálogos Fiscales: Defensa fiscal contra las cédulas de liquidación emitidas por el IMSS - #BarraActualizandome
DESCRIPTION:
URL:https://calendario.actualizandome.com/event/dialogos-fiscales-barraactualizandome/
CATEGORIES:Aula Virtual
ATTACH;FMTTYPE=image/png:https://calendario.actualizandome.com/wp-content/uploads/2023/08/1-Nuevos-4.png
END:VEVENT
BEGIN:VEVENT
DTSTART;TZID=America/New_York:20230817T110000
DTEND;TZID=America/New_York:20230817T120000
DTSTAMP:20260425T174258
CREATED:20230811T201547Z
LAST-MODIFIED:20230817T001305Z
UID:10000054-1692270000-1692273600@calendario.actualizandome.com
SUMMARY:JB el fiscal: ¿COMO VA EL RIF AGOSTO 2023? - #BarraActualizandome
DESCRIPTION:
URL:https://calendario.actualizandome.com/event/jb-el-fiscal-barraactualizandome/
CATEGORIES:Aula Virtual
ATTACH;FMTTYPE=image/png:https://calendario.actualizandome.com/wp-content/uploads/2023/08/1.png
END:VEVENT
BEGIN:VEVENT
DTSTART;TZID=America/New_York:20230817T100000
DTEND;TZID=America/New_York:20230817T110000
DTSTAMP:20260425T174258
CREATED:20230811T201406Z
LAST-MODIFIED:20230816T230523Z
UID:10000053-1692266400-1692270000@calendario.actualizandome.com
SUMMARY:En Sintonía Fiscal - #BarraActualizandome
DESCRIPTION:
URL:https://calendario.actualizandome.com/event/sintoniia-fiscal-barraactualizandome/
CATEGORIES:Aula Virtual
ATTACH;FMTTYPE=image/png:https://calendario.actualizandome.com/wp-content/uploads/2023/08/sintonia.png
END:VEVENT
BEGIN:VEVENT
DTSTART;VALUE=DATE:20230817
DTEND;VALUE=DATE:20230818
DTSTAMP:20260425T174258
CREATED:20230809T183307Z
LAST-MODIFIED:20230817T174305Z
UID:10000012-1692230400-1692316799@calendario.actualizandome.com
SUMMARY:Programación de la Barra Actualizandome
DESCRIPTION:
URL:https://calendario.actualizandome.com/event/programacion-de-la-barra-actualizandome-6/
CATEGORIES:Aula Virtual
ATTACH;FMTTYPE=image/png:https://calendario.actualizandome.com/wp-content/uploads/2023/08/jueves-1.png
END:VEVENT
BEGIN:VEVENT
DTSTART;TZID=America/New_York:20230816T180000
DTEND;TZID=America/New_York:20230816T190000
DTSTAMP:20260425T174258
CREATED:20230811T203843Z
LAST-MODIFIED:20230811T203843Z
UID:10000065-1692208800-1692212400@calendario.actualizandome.com
SUMMARY:Mitos y Realidades Tributarias – #BarraActualizandome
DESCRIPTION:
URL:https://calendario.actualizandome.com/event/mitos-y-realidades-tributarias-barraactualizandome/
CATEGORIES:Aula Virtual
ATTACH;FMTTYPE=image/png:https://calendario.actualizandome.com/wp-content/uploads/2023/08/1-Nuevos20.png
END:VEVENT
BEGIN:VEVENT
DTSTART;TZID=America/New_York:20230816T170000
DTEND;TZID=America/New_York:20230816T180000
DTSTAMP:20260425T174258
CREATED:20230811T203755Z
LAST-MODIFIED:20230811T203755Z
UID:10000064-1692205200-1692208800@calendario.actualizandome.com
SUMMARY:Sinergia laboral infonavimss – #BarraActualizandome
DESCRIPTION:
URL:https://calendario.actualizandome.com/event/sinergia-laboral-infonavimss-barraactualizandome/
CATEGORIES:Aula Virtual
ATTACH;FMTTYPE=image/png:https://calendario.actualizandome.com/wp-content/uploads/2023/08/1-Nuevos19.png
END:VEVENT
BEGIN:VEVENT
DTSTART;TZID=America/New_York:20230816T140000
DTEND;TZID=America/New_York:20230816T150000
DTSTAMP:20260425T174258
CREATED:20230815T234523Z
LAST-MODIFIED:20230815T234523Z
UID:10000073-1692194400-1692198000@calendario.actualizandome.com
SUMMARY:Quadrando la Info – #BarraActualizandome
DESCRIPTION:
URL:https://calendario.actualizandome.com/event/quadrando-la-info-barraactualizandome/
CATEGORIES:Aula Virtual
ATTACH;FMTTYPE=image/png:https://calendario.actualizandome.com/wp-content/uploads/2023/08/quadrando.png
END:VEVENT
BEGIN:VEVENT
DTSTART;TZID=America/New_York:20230816T130000
DTEND;TZID=America/New_York:20230816T140000
DTSTAMP:20260425T174258
CREATED:20230815T233819Z
LAST-MODIFIED:20230815T233819Z
UID:10000072-1692190800-1692194400@calendario.actualizandome.com
SUMMARY:Contabilidad y Leyes Fiscales – #BarraActualizandome
DESCRIPTION:
URL:https://calendario.actualizandome.com/event/contabilidad-y-leyes-fiscales-barraactualizandome-2/
CATEGORIES:Aula Virtual
ATTACH;FMTTYPE=image/png:https://calendario.actualizandome.com/wp-content/uploads/2023/08/contab.png
END:VEVENT
BEGIN:VEVENT
DTSTART;TZID=America/New_York:20230816T120000
DTEND;TZID=America/New_York:20230816T130000
DTSTAMP:20260425T174258
CREATED:20230811T203325Z
LAST-MODIFIED:20230811T203325Z
UID:10000061-1692187200-1692190800@calendario.actualizandome.com
SUMMARY:Las Partes relacionadas – #BarraActualizandome
DESCRIPTION:
URL:https://calendario.actualizandome.com/event/las-partes-relacionadas-barraactualizandome/
CATEGORIES:Aula Virtual
ATTACH;FMTTYPE=image/png:https://calendario.actualizandome.com/wp-content/uploads/2023/08/1-Nuevos16.png
END:VEVENT
BEGIN:VEVENT
DTSTART;TZID=America/New_York:20230816T110000
DTEND;TZID=America/New_York:20230816T120000
DTSTAMP:20260425T174258
CREATED:20230811T203245Z
LAST-MODIFIED:20230811T203245Z
UID:10000060-1692183600-1692187200@calendario.actualizandome.com
SUMMARY:Foro fiscal – #BarraActualizandome
DESCRIPTION:
URL:https://calendario.actualizandome.com/event/foro-fiscal-barraactualizandome/
CATEGORIES:Aula Virtual
ATTACH;FMTTYPE=image/png:https://calendario.actualizandome.com/wp-content/uploads/2023/08/1-Nuevos15.png
END:VEVENT
BEGIN:VEVENT
DTSTART;TZID=America/New_York:20230816T100000
DTEND;TZID=America/New_York:20230816T110000
DTSTAMP:20260425T174258
CREATED:20230811T194053Z
LAST-MODIFIED:20230811T194053Z
UID:10000052-1692180000-1692183600@calendario.actualizandome.com
SUMMARY:Tríada Fiscal - #BarraActualizandome
DESCRIPTION:
URL:https://calendario.actualizandome.com/event/triada-fiscal-barraactualizandome/
CATEGORIES:Aula Virtual
ATTACH;FMTTYPE=image/png:https://calendario.actualizandome.com/wp-content/uploads/2023/08/1-Nuevos14.png
END:VEVENT
BEGIN:VEVENT
DTSTART;VALUE=DATE:20230816
DTEND;VALUE=DATE:20230817
DTSTAMP:20260425T174258
CREATED:20230809T183246Z
LAST-MODIFIED:20230809T190958Z
UID:10000011-1692144000-1692230399@calendario.actualizandome.com
SUMMARY:Programación de la Barra Actualizandome
DESCRIPTION:
URL:https://calendario.actualizandome.com/event/26412/
CATEGORIES:Aula Virtual
ATTACH;FMTTYPE=image/png:https://calendario.actualizandome.com/wp-content/uploads/2023/08/2-Generales14.png
END:VEVENT
BEGIN:VEVENT
DTSTART;TZID=America/New_York:20230815T180000
DTEND;TZID=America/New_York:20230815T190000
DTSTAMP:20260425T174258
CREATED:20230811T192225Z
LAST-MODIFIED:20230814T232446Z
UID:10000051-1692122400-1692126000@calendario.actualizandome.com
SUMMARY:Conquista los Impuestos - #BarraActualizandome
DESCRIPTION:
URL:https://calendario.actualizandome.com/event/conquista-los-impuestos-barraactualizandome/
CATEGORIES:Aula Virtual
ATTACH;FMTTYPE=image/png:https://calendario.actualizandome.com/wp-content/uploads/2023/08/conquista.png
END:VEVENT
BEGIN:VEVENT
DTSTART;TZID=America/New_York:20230815T170000
DTEND;TZID=America/New_York:20230815T180000
DTSTAMP:20260425T174258
CREATED:20230811T192104Z
LAST-MODIFIED:20230811T192104Z
UID:10000050-1692118800-1692122400@calendario.actualizandome.com
SUMMARY:Defensa Fiscal Práctica - #BarraActualizandome
DESCRIPTION:
URL:https://calendario.actualizandome.com/event/defensa-fiscal-practica-barraactualizandome-2/
CATEGORIES:Aula Virtual
ATTACH;FMTTYPE=image/png:https://calendario.actualizandome.com/wp-content/uploads/2023/08/1-Nuevos12.png
END:VEVENT
BEGIN:VEVENT
DTSTART;TZID=America/New_York:20230815T130000
DTEND;TZID=America/New_York:20230815T140000
DTSTAMP:20260425T174258
CREATED:20230811T192033Z
LAST-MODIFIED:20230811T192033Z
UID:10000049-1692104400-1692108000@calendario.actualizandome.com
SUMMARY:Contabilidad y Operatividad - #BarraActualizandome
DESCRIPTION:
URL:https://calendario.actualizandome.com/event/contabilidad-y-operatividad-barraactualizandome/
CATEGORIES:Aula Virtual
ATTACH;FMTTYPE=image/png:https://calendario.actualizandome.com/wp-content/uploads/2023/08/1-Nuevos11.png
END:VEVENT
BEGIN:VEVENT
DTSTART;TZID=America/New_York:20230815T120000
DTEND;TZID=America/New_York:20230815T130000
DTSTAMP:20260425T174258
CREATED:20230811T191913Z
LAST-MODIFIED:20230814T234700Z
UID:10000047-1692100800-1692104400@calendario.actualizandome.com
SUMMARY:Noticas en Actualizandome - #BarraActualizandome
DESCRIPTION:
URL:https://calendario.actualizandome.com/event/noticas-en-actualizandome-barraactualizandome/
CATEGORIES:Aula Virtual
ATTACH;FMTTYPE=image/png:https://calendario.actualizandome.com/wp-content/uploads/2023/08/noticias.png
END:VEVENT
BEGIN:VEVENT
DTSTART;TZID=America/New_York:20230815T110000
DTEND;TZID=America/New_York:20230815T120000
DTSTAMP:20260425T174258
CREATED:20230811T191957Z
LAST-MODIFIED:20230811T191957Z
UID:10000048-1692097200-1692100800@calendario.actualizandome.com
SUMMARY:Tópicos de Seguridad Social - #BarraActualizandome
DESCRIPTION:
URL:https://calendario.actualizandome.com/event/topicos-de-seguridad-social-barraactualizandome/
CATEGORIES:Aula Virtual
ATTACH;FMTTYPE=image/png:https://calendario.actualizandome.com/wp-content/uploads/2023/08/1-Nuevos9.png
END:VEVENT
BEGIN:VEVENT
DTSTART;TZID=America/New_York:20230815T100000
DTEND;TZID=America/New_York:20230815T110000
DTSTAMP:20260425T174258
CREATED:20230811T191825Z
LAST-MODIFIED:20230814T231222Z
UID:10000046-1692093600-1692097200@calendario.actualizandome.com
SUMMARY:Inttegra Sistemas - #BarraActualizandome
DESCRIPTION:
URL:https://calendario.actualizandome.com/event/inttegra-sistemas-barraactualizandome/
CATEGORIES:Aula Virtual
ATTACH;FMTTYPE=image/png:https://calendario.actualizandome.com/wp-content/uploads/2023/08/inttegra.png
END:VEVENT
BEGIN:VEVENT
DTSTART;VALUE=DATE:20230815
DTEND;VALUE=DATE:20230816
DTSTAMP:20260425T174258
CREATED:20230809T183159Z
LAST-MODIFIED:20230809T185345Z
UID:10000014-1692057600-1692143999@calendario.actualizandome.com
SUMMARY:Programación de la Barra Actualizandome martes 15/08/2023
DESCRIPTION:
URL:https://calendario.actualizandome.com/event/programacion-de-la-barra-actualizandome-5/
CATEGORIES:Aula Virtual
ATTACH;FMTTYPE=image/png:https://calendario.actualizandome.com/wp-content/uploads/2023/08/2-Generales13.png
END:VEVENT
BEGIN:VEVENT
DTSTART;TZID=America/New_York:20230814T180000
DTEND;TZID=America/New_York:20230814T190000
DTSTAMP:20260425T174258
CREATED:20230811T191052Z
LAST-MODIFIED:20230811T191052Z
UID:10000045-1692036000-1692039600@calendario.actualizandome.com
SUMMARY:ABC de lo Fiscal - #BarraActualizandome
DESCRIPTION:
URL:https://calendario.actualizandome.com/event/abc-de-lo-fiscal-barraactualizandome/
CATEGORIES:Aula Virtual
ATTACH;FMTTYPE=image/png:https://calendario.actualizandome.com/wp-content/uploads/2023/08/1-Nuevos7.png
END:VEVENT
END:VCALENDAR