BEGIN:VCALENDAR
VERSION:2.0
PRODID:-//ACTUALIZANDOME - ECPv6.15.16//NONSGML v1.0//EN
CALSCALE:GREGORIAN
METHOD:PUBLISH
X-ORIGINAL-URL:https://calendario.actualizandome.com
X-WR-CALDESC:Eventos para ACTUALIZANDOME
REFRESH-INTERVAL;VALUE=DURATION:PT1H
X-Robots-Tag:noindex
X-PUBLISHED-TTL:PT1H
BEGIN:VTIMEZONE
TZID:America/Mexico_City
BEGIN:DAYLIGHT
TZOFFSETFROM:-0600
TZOFFSETTO:-0500
TZNAME:CDT
DTSTART:20220403T080000
END:DAYLIGHT
BEGIN:STANDARD
TZOFFSETFROM:-0500
TZOFFSETTO:-0600
TZNAME:CST
DTSTART:20221030T070000
END:STANDARD
END:VTIMEZONE
BEGIN:VTIMEZONE
TZID:America/New_York
BEGIN:DAYLIGHT
TZOFFSETFROM:-0500
TZOFFSETTO:-0400
TZNAME:EDT
DTSTART:20220313T070000
END:DAYLIGHT
BEGIN:STANDARD
TZOFFSETFROM:-0400
TZOFFSETTO:-0500
TZNAME:EST
DTSTART:20221106T060000
END:STANDARD
BEGIN:DAYLIGHT
TZOFFSETFROM:-0500
TZOFFSETTO:-0400
TZNAME:EDT
DTSTART:20230312T070000
END:DAYLIGHT
BEGIN:STANDARD
TZOFFSETFROM:-0400
TZOFFSETTO:-0500
TZNAME:EST
DTSTART:20231105T060000
END:STANDARD
BEGIN:DAYLIGHT
TZOFFSETFROM:-0500
TZOFFSETTO:-0400
TZNAME:EDT
DTSTART:20240310T070000
END:DAYLIGHT
BEGIN:STANDARD
TZOFFSETFROM:-0400
TZOFFSETTO:-0500
TZNAME:EST
DTSTART:20241103T060000
END:STANDARD
END:VTIMEZONE
BEGIN:VEVENT
DTSTART;TZID=America/Mexico_City:20230823T120000
DTEND;TZID=America/Mexico_City:20230823T130000
DTSTAMP:20260425T143654
CREATED:20230822T210545Z
LAST-MODIFIED:20230822T210545Z
UID:10000092-1692792000-1692795600@calendario.actualizandome.com
SUMMARY:Estratégica - Prescripción de los Delitos Fiscales - #BarraActualizandome
DESCRIPTION:
URL:https://calendario.actualizandome.com/event/estrategica-prescripcion-de-los-delitos-fiscales-barraactualizandome/
CATEGORIES:Aula Virtual
ATTACH;FMTTYPE=image/png:https://calendario.actualizandome.com/wp-content/uploads/2023/08/estrategica.png
END:VEVENT
BEGIN:VEVENT
DTSTART;TZID=America/Mexico_City:20230823T110000
DTEND;TZID=America/Mexico_City:20230823T120000
DTSTAMP:20260425T143654
CREATED:20230822T210343Z
LAST-MODIFIED:20230822T210343Z
UID:10000091-1692788400-1692792000@calendario.actualizandome.com
SUMMARY:Consultorio Conta Fiscal - #BarraActualizandome
DESCRIPTION:
URL:https://calendario.actualizandome.com/event/consultorio-conta-fiscal-barraactualizandome/
CATEGORIES:Aula Virtual
ATTACH;FMTTYPE=image/png:https://calendario.actualizandome.com/wp-content/uploads/2023/08/consultorio-3.png
END:VEVENT
BEGIN:VEVENT
DTSTART;TZID=America/Mexico_City:20230823T100000
DTEND;TZID=America/Mexico_City:20230823T110000
DTSTAMP:20260425T143654
CREATED:20230822T205942Z
LAST-MODIFIED:20230822T205942Z
UID:10000090-1692784800-1692788400@calendario.actualizandome.com
SUMMARY:Tópicos Empresariales - #BarraActualizandome
DESCRIPTION:
URL:https://calendario.actualizandome.com/event/topicos-empresariales-barraactualizandome/
CATEGORIES:Aula Virtual
ATTACH;FMTTYPE=image/png:https://calendario.actualizandome.com/wp-content/uploads/2023/08/topicos-1.png
END:VEVENT
BEGIN:VEVENT
DTSTART;VALUE=DATE:20230823
DTEND;VALUE=DATE:20230824
DTSTAMP:20260425T143654
CREATED:20230809T191026Z
LAST-MODIFIED:20230809T191026Z
UID:10000020-1692748800-1692835199@calendario.actualizandome.com
SUMMARY:Programación de la Barra Actualizandome
DESCRIPTION:
URL:https://calendario.actualizandome.com/event/programacion-de-la-barra-actualizandome-10/
CATEGORIES:Aula Virtual
ATTACH;FMTTYPE=image/png:https://calendario.actualizandome.com/wp-content/uploads/2023/08/2-Generales19.png
END:VEVENT
BEGIN:VEVENT
DTSTART;TZID=America/Mexico_City:20230822T180000
DTEND;TZID=America/Mexico_City:20230822T190000
DTSTAMP:20260425T143654
CREATED:20230819T190833Z
LAST-MODIFIED:20230821T205905Z
UID:10000088-1692727200-1692730800@calendario.actualizandome.com
SUMMARY:CONADFIS - #BarraActualizandome
DESCRIPTION:
URL:https://calendario.actualizandome.com/event/conadfis-barraactualizandome/
CATEGORIES:Aula Virtual
ATTACH;FMTTYPE=image/png:https://calendario.actualizandome.com/wp-content/uploads/2023/08/conadfis.png
END:VEVENT
BEGIN:VEVENT
DTSTART;TZID=America/Mexico_City:20230822T170000
DTEND;TZID=America/Mexico_City:20230822T180000
DTSTAMP:20260425T143654
CREATED:20230819T190736Z
LAST-MODIFIED:20230819T190736Z
UID:10000087-1692723600-1692727200@calendario.actualizandome.com
SUMMARY:Fiscal por la tarde - #BarraActualizandome
DESCRIPTION:
URL:https://calendario.actualizandome.com/event/fiscal-por-la-tarde-barraactualizandome/
CATEGORIES:Aula Virtual
ATTACH;FMTTYPE=image/png:https://calendario.actualizandome.com/wp-content/uploads/2023/08/1-Nuevos48.png
END:VEVENT
BEGIN:VEVENT
DTSTART;TZID=America/Mexico_City:20230822T160000
DTEND;TZID=America/Mexico_City:20230822T170000
DTSTAMP:20260425T143654
CREATED:20230819T190545Z
LAST-MODIFIED:20230819T190545Z
UID:10000086-1692720000-1692723600@calendario.actualizandome.com
SUMMARY:Compliance más allá de la norma - #BarraActualizandome
DESCRIPTION:
URL:https://calendario.actualizandome.com/event/compliance-mas-alla-de-la-norma-barraactualizandome/
ATTACH;FMTTYPE=image/png:https://calendario.actualizandome.com/wp-content/uploads/2023/08/1-Nuevos47.png
END:VEVENT
BEGIN:VEVENT
DTSTART;TZID=America/Mexico_City:20230822T140000
DTEND;TZID=America/Mexico_City:20230822T150000
DTSTAMP:20260425T143654
CREATED:20230819T190409Z
LAST-MODIFIED:20230821T222517Z
UID:10000085-1692712800-1692716400@calendario.actualizandome.com
SUMMARY:Poder de los seguros - #BarraActualizandome
DESCRIPTION:
URL:https://calendario.actualizandome.com/event/poder-de-los-seguros-barraactualizandome/
CATEGORIES:Aula Virtual
ATTACH;FMTTYPE=image/png:https://calendario.actualizandome.com/wp-content/uploads/2023/08/seguros.png
END:VEVENT
BEGIN:VEVENT
DTSTART;TZID=America/Mexico_City:20230822T130000
DTEND;TZID=America/Mexico_City:20230822T140000
DTSTAMP:20260425T143654
CREATED:20230819T190326Z
LAST-MODIFIED:20230822T002317Z
UID:10000084-1692709200-1692712800@calendario.actualizandome.com
SUMMARY:Litigio fiscal estratégico - #BarraActualizandome
DESCRIPTION:
URL:https://calendario.actualizandome.com/event/litigio-fiscal-estrategico-barraactualizandome/
CATEGORIES:Aula Virtual
ATTACH;FMTTYPE=image/png:https://calendario.actualizandome.com/wp-content/uploads/2023/08/litigio.png
END:VEVENT
BEGIN:VEVENT
DTSTART;TZID=America/Mexico_City:20230822T120000
DTEND;TZID=America/Mexico_City:20230822T130000
DTSTAMP:20260425T143654
CREATED:20230819T190010Z
LAST-MODIFIED:20230822T001416Z
UID:10000083-1692705600-1692709200@calendario.actualizandome.com
SUMMARY:Tópicos Fiscales - #BarraActualizandome
DESCRIPTION:
URL:https://calendario.actualizandome.com/event/topicos-fiscales-barraactualizandome/
CATEGORIES:Aula Virtual
ATTACH;FMTTYPE=image/png:https://calendario.actualizandome.com/wp-content/uploads/2023/08/topicos.png
END:VEVENT
BEGIN:VEVENT
DTSTART;TZID=America/New_York:20230822T110000
DTEND;TZID=America/New_York:20230822T120000
DTSTAMP:20260425T143654
CREATED:20230809T191408Z
LAST-MODIFIED:20230809T192531Z
UID:10000024-1692702000-1692705600@calendario.actualizandome.com
SUMMARY:Hora PRODECON - #BarraActualizandome
DESCRIPTION:
URL:https://calendario.actualizandome.com/event/hora-prodecon-barraactualizandome/
CATEGORIES:Aula Virtual
ATTACH;FMTTYPE=image/png:https://calendario.actualizandome.com/wp-content/uploads/2023/08/1-Nuevos-2.png
END:VEVENT
BEGIN:VEVENT
DTSTART;TZID=America/Mexico_City:20230822T100000
DTEND;TZID=America/Mexico_City:20230822T110000
DTSTAMP:20260425T143654
CREATED:20230819T185854Z
LAST-MODIFIED:20230821T184611Z
UID:10000082-1692698400-1692702000@calendario.actualizandome.com
SUMMARY:Leones Tributarios - #BarraActualizandome
DESCRIPTION:
URL:https://calendario.actualizandome.com/event/leones-tributarios-barraactualizandome/
CATEGORIES:Aula Virtual
ATTACH;FMTTYPE=image/png:https://calendario.actualizandome.com/wp-content/uploads/2023/08/leones.png
END:VEVENT
BEGIN:VEVENT
DTSTART;VALUE=DATE:20230822
DTEND;VALUE=DATE:20230823
DTSTAMP:20260425T143654
CREATED:20230809T190955Z
LAST-MODIFIED:20230809T190955Z
UID:10000019-1692662400-1692748799@calendario.actualizandome.com
SUMMARY:Programación de la Barra Actualizandome
DESCRIPTION:
URL:https://calendario.actualizandome.com/event/programacion-de-la-barra-actualizandome-9/
CATEGORIES:Aula Virtual
ATTACH;FMTTYPE=image/png:https://calendario.actualizandome.com/wp-content/uploads/2023/08/2-Generales.png
END:VEVENT
BEGIN:VEVENT
DTSTART;TZID=America/Mexico_City:20230821T180000
DTEND;TZID=America/Mexico_City:20230821T190000
DTSTAMP:20260425T143654
CREATED:20230818T210704Z
LAST-MODIFIED:20230821T222345Z
UID:10000079-1692640800-1692644400@calendario.actualizandome.com
SUMMARY:Hora de la Asociación Sonorense de Contadores Públicos - #BarraActualizandome
DESCRIPTION:
URL:https://calendario.actualizandome.com/event/hora-de-la-asociacion-sonorense-de-contadores-publicos-barraactualizandome/
CATEGORIES:Aula Virtual
ATTACH;FMTTYPE=image/png:https://calendario.actualizandome.com/wp-content/uploads/2023/08/ascp-1.png
END:VEVENT
BEGIN:VEVENT
DTSTART;TZID=America/Mexico_City:20230821T170000
DTEND;TZID=America/Mexico_City:20230821T180000
DTSTAMP:20260425T143654
CREATED:20230818T205930Z
LAST-MODIFIED:20230819T184035Z
UID:10000078-1692637200-1692640800@calendario.actualizandome.com
SUMMARY:Conoce las Finanzas - #BarraActualizandome
DESCRIPTION:
URL:https://calendario.actualizandome.com/event/conoce-las-finanzas-barraactualizandome/
CATEGORIES:Aula Virtual
ATTACH;FMTTYPE=image/png:https://calendario.actualizandome.com/wp-content/uploads/2023/08/finanzas-1.png
END:VEVENT
BEGIN:VEVENT
DTSTART;TZID=America/Mexico_City:20230821T140000
DTEND;TZID=America/Mexico_City:20230821T150000
DTSTAMP:20260425T143654
CREATED:20230818T211531Z
LAST-MODIFIED:20230819T183949Z
UID:10000080-1692626400-1692630000@calendario.actualizandome.com
SUMMARY:De Obligaciones y de Derechos - #BarraActualizandome
DESCRIPTION:
URL:https://calendario.actualizandome.com/event/26740/
CATEGORIES:Aula Virtual
ATTACH;FMTTYPE=image/png:https://calendario.actualizandome.com/wp-content/uploads/2023/08/obligaciones-1.png
END:VEVENT
BEGIN:VEVENT
DTSTART;TZID=America/Mexico_City:20230821T130000
DTEND;TZID=America/Mexico_City:20230821T140000
DTSTAMP:20260425T143654
CREATED:20230818T205501Z
LAST-MODIFIED:20230819T183928Z
UID:10000076-1692622800-1692626400@calendario.actualizandome.com
SUMMARY:La Hora CNCP - #BarraActualizandome
DESCRIPTION:
URL:https://calendario.actualizandome.com/event/la-hora-cncp-barraactualizandome/
CATEGORIES:Aula Virtual
ATTACH;FMTTYPE=image/png:https://calendario.actualizandome.com/wp-content/uploads/2023/08/cncp1.png
END:VEVENT
BEGIN:VEVENT
DTSTART;TZID=America/Mexico_City:20230821T120000
DTEND;TZID=America/Mexico_City:20230821T130000
DTSTAMP:20260425T143654
CREATED:20230818T205300Z
LAST-MODIFIED:20230819T183913Z
UID:10000075-1692619200-1692622800@calendario.actualizandome.com
SUMMARY:Panorama Empresarial - #BarraActualizandome
DESCRIPTION:
URL:https://calendario.actualizandome.com/event/panorama-empresarial-barraactualizandome/
CATEGORIES:Aula Virtual
ATTACH;FMTTYPE=image/png:https://calendario.actualizandome.com/wp-content/uploads/2023/08/panorama-1.png
END:VEVENT
BEGIN:VEVENT
DTSTART;TZID=America/Mexico_City:20230821T110000
DTEND;TZID=America/Mexico_City:20230821T120000
DTSTAMP:20260425T143654
CREATED:20230818T205120Z
LAST-MODIFIED:20230821T165439Z
UID:10000074-1692615600-1692619200@calendario.actualizandome.com
SUMMARY:Expresión Fiscal - #BarraActualizandome
DESCRIPTION:
URL:https://calendario.actualizandome.com/event/expresion-fiscal-barraactualizandome/
CATEGORIES:Aula Virtual
ATTACH;FMTTYPE=image/png:https://calendario.actualizandome.com/wp-content/uploads/2023/08/expresionf-1.png
END:VEVENT
BEGIN:VEVENT
DTSTART;TZID=America/Mexico_City:20230821T100000
DTEND;TZID=America/Mexico_City:20230821T110000
DTSTAMP:20260425T143654
CREATED:20230819T191056Z
LAST-MODIFIED:20230819T191115Z
UID:10000089-1692612000-1692615600@calendario.actualizandome.com
SUMMARY:Conociendo Actualizandome - #BarraActualizandome
DESCRIPTION:
URL:https://calendario.actualizandome.com/event/conociendo-actualizandome-barraactualizandome/
CATEGORIES:Aula Virtual
ATTACH;FMTTYPE=image/png:https://calendario.actualizandome.com/wp-content/uploads/2023/08/1-Nuevos35.png
END:VEVENT
BEGIN:VEVENT
DTSTART;VALUE=DATE:20230821
DTEND;VALUE=DATE:20230822
DTSTAMP:20260425T143654
CREATED:20230809T190616Z
LAST-MODIFIED:20230809T190616Z
UID:10000018-1692576000-1692662399@calendario.actualizandome.com
SUMMARY:Programación de la Barra Actualizandome
DESCRIPTION:
URL:https://calendario.actualizandome.com/event/programacion-de-la-barra-actualizandome-8/
CATEGORIES:Aula Virtual
ATTACH;FMTTYPE=image/png:https://calendario.actualizandome.com/wp-content/uploads/2023/08/2-Generales17.png
END:VEVENT
BEGIN:VEVENT
DTSTART;TZID=America/Mexico_City:20230819T130000
DTEND;TZID=America/Mexico_City:20230819T140000
DTSTAMP:20260425T143654
CREATED:20230819T190001Z
LAST-MODIFIED:20230819T183044Z
UID:10000081-1692450000-1692453600@calendario.actualizandome.com
SUMMARY:Sesión Interactiva de la Revista Digital Actualizandome N° 134
DESCRIPTION:
URL:https://calendario.actualizandome.com/event/sesion-interactiva-de-la-revista-digital-actualizandome-n-134/
CATEGORIES:Aula Virtual
ATTACH;FMTTYPE=image/png:https://calendario.actualizandome.com/wp-content/uploads/2023/08/SESION-INTERACTIVA.png
END:VEVENT
BEGIN:VEVENT
DTSTART;TZID=America/New_York:20230819T090000
DTEND;TZID=America/New_York:20230819T180000
DTSTAMP:20260425T143654
CREATED:20230809T020512Z
LAST-MODIFIED:20230809T020512Z
UID:10000009-1692435600-1692468000@calendario.actualizandome.com
SUMMARY:TALLER PRESENCIAL HABILIDADES PARA LA GESTIÓN DE CONFLICTOS
DESCRIPTION:
URL:https://calendario.actualizandome.com/event/taller-presencial-habilidades-para-la-gestion-de-conflictos/
CATEGORIES:Cursos,Presencial
ATTACH;FMTTYPE=image/png:https://calendario.actualizandome.com/wp-content/uploads/2023/07/Sin-título-1-01.png
END:VEVENT
BEGIN:VEVENT
DTSTART;TZID=America/New_York:20230818T180000
DTEND;TZID=America/New_York:20230818T190000
DTSTAMP:20260425T143654
CREATED:20230811T205247Z
LAST-MODIFIED:20230811T205247Z
UID:10000071-1692381600-1692385200@calendario.actualizandome.com
SUMMARY:Tres a las Seis – #BarraActualizandome
DESCRIPTION:
URL:https://calendario.actualizandome.com/event/tres-a-las-seis-barraactualizandome/
CATEGORIES:Aula Virtual
ATTACH;FMTTYPE=image/png:https://calendario.actualizandome.com/wp-content/uploads/2023/08/1-Nuevos33.png
END:VEVENT
BEGIN:VEVENT
DTSTART;TZID=America/New_York:20230818T170000
DTEND;TZID=America/New_York:20230818T180000
DTSTAMP:20260425T143654
CREATED:20230811T205150Z
LAST-MODIFIED:20230811T205150Z
UID:10000070-1692378000-1692381600@calendario.actualizandome.com
SUMMARY:Esta bien no Estar bien – #BarraActualizandome
DESCRIPTION:
URL:https://calendario.actualizandome.com/event/esta-bien-no-estar-bien-barraactualizandome/
CATEGORIES:Aula Virtual
ATTACH;FMTTYPE=image/png:https://calendario.actualizandome.com/wp-content/uploads/2023/08/1-Nuevos32.png
END:VEVENT
BEGIN:VEVENT
DTSTART;TZID=America/New_York:20230818T130000
DTEND;TZID=America/New_York:20230818T140000
DTSTAMP:20260425T143654
CREATED:20230811T205043Z
LAST-MODIFIED:20230818T191115Z
UID:10000069-1692363600-1692367200@calendario.actualizandome.com
SUMMARY:Sesión Interactiva de la Revista Digital Actualizandome Edición 133 - 2da Parte - #BarraActualizandome
DESCRIPTION:
URL:https://calendario.actualizandome.com/event/el-mundo-mas-alla-de-lo-contable-y-fiscal-barraactualizandome/
CATEGORIES:Aula Virtual
ATTACH;FMTTYPE=image/png:https://calendario.actualizandome.com/wp-content/uploads/2023/08/interactiva2.png
END:VEVENT
BEGIN:VEVENT
DTSTART;TZID=America/New_York:20230818T120000
DTEND;TZID=America/New_York:20230818T130000
DTSTAMP:20260425T143654
CREATED:20230811T204846Z
LAST-MODIFIED:20230811T204846Z
UID:10000068-1692360000-1692363600@calendario.actualizandome.com
SUMMARY:Contabilidad y algo más – #BarraActualizandome
DESCRIPTION:
URL:https://calendario.actualizandome.com/event/contabilidad-y-algo-mas-barraactualizandome/
CATEGORIES:Aula Virtual
ATTACH;FMTTYPE=image/png:https://calendario.actualizandome.com/wp-content/uploads/2023/08/1-Nuevos30.png
END:VEVENT
BEGIN:VEVENT
DTSTART;TZID=America/New_York:20230818T110000
DTEND;TZID=America/New_York:20230818T120000
DTSTAMP:20260425T143654
CREATED:20230811T204812Z
LAST-MODIFIED:20230811T204914Z
UID:10000067-1692356400-1692360000@calendario.actualizandome.com
SUMMARY:Metamorfosis – #BarraActualizandome
DESCRIPTION:
URL:https://calendario.actualizandome.com/event/metamorfosis-barraactualizandome/
CATEGORIES:Aula Virtual
ATTACH;FMTTYPE=image/png:https://calendario.actualizandome.com/wp-content/uploads/2023/08/1-Nuevos29.png
END:VEVENT
BEGIN:VEVENT
DTSTART;TZID=America/New_York:20230818T100000
DTEND;TZID=America/New_York:20230818T110000
DTSTAMP:20260425T143654
CREATED:20230811T204443Z
LAST-MODIFIED:20230818T004023Z
UID:10000066-1692352800-1692356400@calendario.actualizandome.com
SUMMARY:Sembrando el Conocimiento – #BarraActualizandome
DESCRIPTION:
URL:https://calendario.actualizandome.com/event/sembrando-el-conocimiento-barraactualizandome/
CATEGORIES:Aula Virtual
ATTACH;FMTTYPE=image/png:https://calendario.actualizandome.com/wp-content/uploads/2023/08/sembrando.png
END:VEVENT
BEGIN:VEVENT
DTSTART;VALUE=DATE:20230818
DTEND;VALUE=DATE:20230819
DTSTAMP:20260425T143654
CREATED:20230809T183329Z
LAST-MODIFIED:20230818T004816Z
UID:10000013-1692316800-1692403199@calendario.actualizandome.com
SUMMARY:Programación de la Barra Actualizandome
DESCRIPTION:
URL:https://calendario.actualizandome.com/event/programacion-de-la-barra-actualizandome-7/
CATEGORIES:Aula Virtual
ATTACH;FMTTYPE=image/png:https://calendario.actualizandome.com/wp-content/uploads/2023/08/viernes.png
END:VEVENT
END:VCALENDAR