BEGIN:VCALENDAR
VERSION:2.0
PRODID:-//ACTUALIZANDOME - ECPv6.15.16//NONSGML v1.0//EN
CALSCALE:GREGORIAN
METHOD:PUBLISH
X-ORIGINAL-URL:https://calendario.actualizandome.com
X-WR-CALDESC:Eventos para ACTUALIZANDOME
REFRESH-INTERVAL;VALUE=DURATION:PT1H
X-Robots-Tag:noindex
X-PUBLISHED-TTL:PT1H
BEGIN:VTIMEZONE
TZID:America/Mexico_City
BEGIN:DAYLIGHT
TZOFFSETFROM:-0600
TZOFFSETTO:-0500
TZNAME:CDT
DTSTART:20220403T080000
END:DAYLIGHT
BEGIN:STANDARD
TZOFFSETFROM:-0500
TZOFFSETTO:-0600
TZNAME:CST
DTSTART:20221030T070000
END:STANDARD
END:VTIMEZONE
BEGIN:VTIMEZONE
TZID:America/New_York
BEGIN:DAYLIGHT
TZOFFSETFROM:-0500
TZOFFSETTO:-0400
TZNAME:EDT
DTSTART:20220313T070000
END:DAYLIGHT
BEGIN:STANDARD
TZOFFSETFROM:-0400
TZOFFSETTO:-0500
TZNAME:EST
DTSTART:20221106T060000
END:STANDARD
BEGIN:DAYLIGHT
TZOFFSETFROM:-0500
TZOFFSETTO:-0400
TZNAME:EDT
DTSTART:20230312T070000
END:DAYLIGHT
BEGIN:STANDARD
TZOFFSETFROM:-0400
TZOFFSETTO:-0500
TZNAME:EST
DTSTART:20231105T060000
END:STANDARD
BEGIN:DAYLIGHT
TZOFFSETFROM:-0500
TZOFFSETTO:-0400
TZNAME:EDT
DTSTART:20240310T070000
END:DAYLIGHT
BEGIN:STANDARD
TZOFFSETFROM:-0400
TZOFFSETTO:-0500
TZNAME:EST
DTSTART:20241103T060000
END:STANDARD
END:VTIMEZONE
BEGIN:VEVENT
DTSTART;VALUE=DATE:20230831
DTEND;VALUE=DATE:20230901
DTSTAMP:20260425T081754
CREATED:20230825T211246Z
LAST-MODIFIED:20230825T211246Z
UID:10000121-1693440000-1693526399@calendario.actualizandome.com
SUMMARY:Programación de la Barra Actualizandome
DESCRIPTION:
URL:https://calendario.actualizandome.com/event/programacion-de-la-barra-actualizandome-17/
CATEGORIES:Aula Virtual
ATTACH;FMTTYPE=image/png:https://calendario.actualizandome.com/wp-content/uploads/2023/08/jueves-4.png
END:VEVENT
BEGIN:VEVENT
DTSTART;TZID=America/Mexico_City:20230830T180000
DTEND;TZID=America/Mexico_City:20230830T190000
DTSTAMP:20260425T081754
CREATED:20230829T195412Z
LAST-MODIFIED:20230829T195412Z
UID:10000133-1693418400-1693422000@calendario.actualizandome.com
SUMMARY:Mitos y Realidades Tributarias - #BarraActualizandome
DESCRIPTION:
URL:https://calendario.actualizandome.com/event/mitos-y-realidades-tributarias-barraactualizandome-2/
CATEGORIES:Aula Virtual
ATTACH;FMTTYPE=image/png:https://calendario.actualizandome.com/wp-content/uploads/2023/08/mitos.png
END:VEVENT
BEGIN:VEVENT
DTSTART;TZID=America/Mexico_City:20230830T170000
DTEND;TZID=America/Mexico_City:20230830T180000
DTSTAMP:20260425T081754
CREATED:20230829T195244Z
LAST-MODIFIED:20230829T195244Z
UID:10000132-1693414800-1693418400@calendario.actualizandome.com
SUMMARY:Sinergia Laboral InfonavImss (R) - #BarraActualizandome
DESCRIPTION:
URL:https://calendario.actualizandome.com/event/sinergia-laboral-infonavimss-r-barraactualizandome/
CATEGORIES:Aula Virtual
ATTACH;FMTTYPE=image/png:https://calendario.actualizandome.com/wp-content/uploads/2023/08/sinergia.png
END:VEVENT
BEGIN:VEVENT
DTSTART;TZID=America/Mexico_City:20230830T140000
DTEND;TZID=America/Mexico_City:20230830T150000
DTSTAMP:20260425T081754
CREATED:20230829T194929Z
LAST-MODIFIED:20230829T200320Z
UID:10000131-1693404000-1693407600@calendario.actualizandome.com
SUMMARY:Quadrando la Info - Artículos 29 y 29-A CFF - 2da Parte - #BarraActualizandome
DESCRIPTION:
URL:https://calendario.actualizandome.com/event/27003/
CATEGORIES:Aula Virtual
ATTACH;FMTTYPE=image/png:https://calendario.actualizandome.com/wp-content/uploads/2023/08/quadra.png
END:VEVENT
BEGIN:VEVENT
DTSTART;TZID=America/Mexico_City:20230830T130000
DTEND;TZID=America/Mexico_City:20230830T140000
DTSTAMP:20260425T081754
CREATED:20230829T195738Z
LAST-MODIFIED:20230829T195738Z
UID:10000134-1693400400-1693404000@calendario.actualizandome.com
SUMMARY:Contabilidad y Leyes Fiscales - #BarraActualizandome
DESCRIPTION:
URL:https://calendario.actualizandome.com/event/contabilidad-y-leyes-fiscales-barraactualizandome-3/
CATEGORIES:Aula Virtual
ATTACH;FMTTYPE=image/png:https://calendario.actualizandome.com/wp-content/uploads/2023/08/contab-1.png
END:VEVENT
BEGIN:VEVENT
DTSTART;TZID=America/Mexico_City:20230830T120000
DTEND;TZID=America/Mexico_City:20230830T130000
DTSTAMP:20260425T081754
CREATED:20230829T200600Z
LAST-MODIFIED:20230830T175340Z
UID:10000135-1693396800-1693400400@calendario.actualizandome.com
SUMMARY:Las Hora AMCPMX (R) - #BarraActualizandome
DESCRIPTION:
URL:https://calendario.actualizandome.com/event/las-partes-relacionadas-barraactualizandome-2/
CATEGORIES:Aula Virtual
END:VEVENT
BEGIN:VEVENT
DTSTART;TZID=America/Mexico_City:20230830T110000
DTEND;TZID=America/Mexico_City:20230830T120000
DTSTAMP:20260425T081754
CREATED:20230829T193833Z
LAST-MODIFIED:20230829T193833Z
UID:10000130-1693393200-1693396800@calendario.actualizandome.com
SUMMARY:Foro Fiscal - Las Afores - #BarraActualizandome
DESCRIPTION:
URL:https://calendario.actualizandome.com/event/foro-fiscal-las-afores-barraactualizandome/
CATEGORIES:Aula Virtual
ATTACH;FMTTYPE=image/png:https://calendario.actualizandome.com/wp-content/uploads/2023/08/foro.png
END:VEVENT
BEGIN:VEVENT
DTSTART;TZID=America/Mexico_City:20230830T100000
DTEND;TZID=America/Mexico_City:20230830T110000
DTSTAMP:20260425T081754
CREATED:20230829T193610Z
LAST-MODIFIED:20230829T193610Z
UID:10000129-1693389600-1693393200@calendario.actualizandome.com
SUMMARY:Tríada Fiscal - #BarraActualizandome
DESCRIPTION:
URL:https://calendario.actualizandome.com/event/triada-fiscal-barraactualizandome-2/
CATEGORIES:Aula Virtual
ATTACH;FMTTYPE=image/png:https://calendario.actualizandome.com/wp-content/uploads/2023/08/triada.png
END:VEVENT
BEGIN:VEVENT
DTSTART;VALUE=DATE:20230830
DTEND;VALUE=DATE:20230831
DTSTAMP:20260425T081754
CREATED:20230825T211129Z
LAST-MODIFIED:20230830T160000Z
UID:10000120-1693353600-1693439999@calendario.actualizandome.com
SUMMARY:Programación de la Barra Actualizandome
DESCRIPTION:
URL:https://calendario.actualizandome.com/event/programacion-de-la-barra-actualizandome-16/
CATEGORIES:Aula Virtual
ATTACH;FMTTYPE=image/png:https://calendario.actualizandome.com/wp-content/uploads/2023/08/miercoles.png
END:VEVENT
BEGIN:VEVENT
DTSTART;TZID=America/Mexico_City:20230829T180000
DTEND;TZID=America/Mexico_City:20230829T190000
DTSTAMP:20260425T081754
CREATED:20230828T223905Z
LAST-MODIFIED:20230828T223905Z
UID:10000128-1693332000-1693335600@calendario.actualizandome.com
SUMMARY:Conquista Los Impuestos - #BarraActualizandome
DESCRIPTION:
URL:https://calendario.actualizandome.com/event/conquista-los-impuestos-barraactualizandome-2/
CATEGORIES:Aula Virtual
ATTACH;FMTTYPE=image/png:https://calendario.actualizandome.com/wp-content/uploads/2023/08/conquista-1.png
END:VEVENT
BEGIN:VEVENT
DTSTART;TZID=America/Mexico_City:20230829T170000
DTEND;TZID=America/Mexico_City:20230829T180000
DTSTAMP:20260425T081754
CREATED:20230828T223547Z
LAST-MODIFIED:20230828T223547Z
UID:10000127-1693328400-1693332000@calendario.actualizandome.com
SUMMARY:Defensa Fiscal Práctica - #BarraActializandome
DESCRIPTION:
URL:https://calendario.actualizandome.com/event/defensa-fiscal-practica-barraactializandome/
CATEGORIES:Aula Virtual
ATTACH;FMTTYPE=image/png:https://calendario.actualizandome.com/wp-content/uploads/2023/08/defensa-1.png
END:VEVENT
BEGIN:VEVENT
DTSTART;TZID=America/Mexico_City:20230829T130000
DTEND;TZID=America/Mexico_City:20230829T140000
DTSTAMP:20260425T081754
CREATED:20230828T223300Z
LAST-MODIFIED:20230829T153413Z
UID:10000126-1693314000-1693317600@calendario.actualizandome.com
SUMMARY:La Hora CNCP - #BarraActualizandome
DESCRIPTION:
URL:https://calendario.actualizandome.com/event/la-hora-cncp-barraactualizandome-3/
CATEGORIES:Aula Virtual
ATTACH;FMTTYPE=image/png:https://calendario.actualizandome.com/wp-content/uploads/2023/08/cncp-5.png
END:VEVENT
BEGIN:VEVENT
DTSTART;TZID=America/Mexico_City:20230829T120000
DTEND;TZID=America/Mexico_City:20230829T130000
DTSTAMP:20260425T081754
CREATED:20230828T222644Z
LAST-MODIFIED:20230828T222644Z
UID:10000125-1693310400-1693314000@calendario.actualizandome.com
SUMMARY:Noticias en Actualizandome - #BarraActualizandome
DESCRIPTION:
URL:https://calendario.actualizandome.com/event/noticias-en-actualizandome-barraactualizandome-3/
CATEGORIES:Aula Virtual
ATTACH;FMTTYPE=image/png:https://calendario.actualizandome.com/wp-content/uploads/2023/08/noticias-2.png
END:VEVENT
BEGIN:VEVENT
DTSTART;TZID=America/Mexico_City:20230829T110000
DTEND;TZID=America/Mexico_City:20230829T120000
DTSTAMP:20260425T081754
CREATED:20230828T222411Z
LAST-MODIFIED:20230828T222411Z
UID:10000124-1693306800-1693310400@calendario.actualizandome.com
SUMMARY:Tópicos de Seguridad Social - Teletrabajo - #BarraActualizandome
DESCRIPTION:
URL:https://calendario.actualizandome.com/event/topicos-de-seguridad-social-teletrabajo-barraactualizandome/
CATEGORIES:Aula Virtual
ATTACH;FMTTYPE=image/png:https://calendario.actualizandome.com/wp-content/uploads/2023/08/topicos-ss.png
END:VEVENT
BEGIN:VEVENT
DTSTART;TZID=America/Mexico_City:20230829T100000
DTEND;TZID=America/Mexico_City:20230829T110000
DTSTAMP:20260425T081754
CREATED:20230828T221805Z
LAST-MODIFIED:20230828T221805Z
UID:10000123-1693303200-1693306800@calendario.actualizandome.com
SUMMARY:Inttegra Sistemas - Pólizas Dinámicas con NOI - #BarraActualizandome
DESCRIPTION:
URL:https://calendario.actualizandome.com/event/inttegra-sistemas-polizas-dinamicas-con-noi-barraactualizandome/
CATEGORIES:Aula Virtual
ATTACH;FMTTYPE=image/png:https://calendario.actualizandome.com/wp-content/uploads/2023/08/inttegra-1.png
END:VEVENT
BEGIN:VEVENT
DTSTART;VALUE=DATE:20230829
DTEND;VALUE=DATE:20230830
DTSTAMP:20260425T081754
CREATED:20230825T210850Z
LAST-MODIFIED:20230828T221258Z
UID:10000119-1693267200-1693353599@calendario.actualizandome.com
SUMMARY:Programación de la Barra Actualizandome
DESCRIPTION:
URL:https://calendario.actualizandome.com/event/programacion-de-la-barra-actualizandome-15/
CATEGORIES:Aula Virtual
ATTACH;FMTTYPE=image/png:https://calendario.actualizandome.com/wp-content/uploads/2023/08/martes-1.png
END:VEVENT
BEGIN:VEVENT
DTSTART;TZID=America/Mexico_City:20230828T180000
DTEND;TZID=America/Mexico_City:20230828T190000
DTSTAMP:20260425T081754
CREATED:20230825T185525Z
LAST-MODIFIED:20230825T185525Z
UID:10000117-1693245600-1693249200@calendario.actualizandome.com
SUMMARY:El ABC de lo Fiscal - #BarraActualizandome
DESCRIPTION:
URL:https://calendario.actualizandome.com/event/el-abc-de-lo-fiscal-barraactualizandome/
CATEGORIES:Aula Virtual
ATTACH;FMTTYPE=image/png:https://calendario.actualizandome.com/wp-content/uploads/2023/08/abc.png
END:VEVENT
BEGIN:VEVENT
DTSTART;TZID=America/New_York:20230828T170000
DTEND;TZID=America/New_York:20230829T200000
DTSTAMP:20260425T081754
CREATED:20230809T015851Z
LAST-MODIFIED:20230825T184035Z
UID:10000007-1693242000-1693339200@calendario.actualizandome.com
SUMMARY:Videoconferencia Elaboración de actas de Sociedades Civiles y Mercantiles
DESCRIPTION:
URL:https://calendario.actualizandome.com/event/videoconferencia-elaboracion-de-actas-de-sociedades-civiles-y-mercantiles/
CATEGORIES:Cursos,Videoconferencia
ATTACH;FMTTYPE=image/png:https://calendario.actualizandome.com/wp-content/uploads/2023/08/cursos-2023-29-agosto-lyzz.png
END:VEVENT
BEGIN:VEVENT
DTSTART;TZID=America/Mexico_City:20230828T170000
DTEND;TZID=America/Mexico_City:20230828T180000
DTSTAMP:20260425T081754
CREATED:20230825T185250Z
LAST-MODIFIED:20230825T185250Z
UID:10000116-1693242000-1693245600@calendario.actualizandome.com
SUMMARY:Foco Financiero (R) - #BarraActualizandome
DESCRIPTION:
URL:https://calendario.actualizandome.com/event/foco-financiero-r-barraactualizandome/
CATEGORIES:Aula Virtual
ATTACH;FMTTYPE=image/png:https://calendario.actualizandome.com/wp-content/uploads/2023/08/foco-2.png
END:VEVENT
BEGIN:VEVENT
DTSTART;TZID=America/Mexico_City:20230828T140000
DTEND;TZID=America/Mexico_City:20230828T150000
DTSTAMP:20260425T081754
CREATED:20230825T185056Z
LAST-MODIFIED:20230825T185056Z
UID:10000115-1693231200-1693234800@calendario.actualizandome.com
SUMMARY:Enlazando las Profesiones - #BarraActualizandome
DESCRIPTION:
URL:https://calendario.actualizandome.com/event/enlazando-las-profesiones-barraactualizandome-2/
CATEGORIES:Aula Virtual
ATTACH;FMTTYPE=image/png:https://calendario.actualizandome.com/wp-content/uploads/2023/08/enlazando-1.png
END:VEVENT
BEGIN:VEVENT
DTSTART;TZID=America/Mexico_City:20230828T130000
DTEND;TZID=America/Mexico_City:20230828T140000
DTSTAMP:20260425T081754
CREATED:20230825T184909Z
LAST-MODIFIED:20230825T184909Z
UID:10000114-1693227600-1693231200@calendario.actualizandome.com
SUMMARY:La Hora CNCP - #BarraActualizandome
DESCRIPTION:
URL:https://calendario.actualizandome.com/event/la-hora-cncp-barraactualizandome-2/
CATEGORIES:Aula Virtual
ATTACH;FMTTYPE=image/png:https://calendario.actualizandome.com/wp-content/uploads/2023/08/cncp-3.png
END:VEVENT
BEGIN:VEVENT
DTSTART;TZID=America/Mexico_City:20230828T120000
DTEND;TZID=America/Mexico_City:20230828T130000
DTSTAMP:20260425T081754
CREATED:20230825T184718Z
LAST-MODIFIED:20230825T184718Z
UID:10000113-1693224000-1693227600@calendario.actualizandome.com
SUMMARY:El Derecho y su Círculo de Acción - Principios Generales del Derecho Laboral - #Barra Actualizandome
DESCRIPTION:
URL:https://calendario.actualizandome.com/event/el-derecho-y-su-circulo-de-accion-principios-generales-del-derecho-laboral-barra-actualizandome/
CATEGORIES:Aula Virtual
ATTACH;FMTTYPE=image/png:https://calendario.actualizandome.com/wp-content/uploads/2023/08/derecho.png
END:VEVENT
BEGIN:VEVENT
DTSTART;TZID=America/Mexico_City:20230828T110000
DTEND;TZID=America/Mexico_City:20230828T120000
DTSTAMP:20260425T081754
CREATED:20230825T184404Z
LAST-MODIFIED:20230825T184404Z
UID:10000112-1693220400-1693224000@calendario.actualizandome.com
SUMMARY:Hablemos del Código Fiscal - BarraActualizandome
DESCRIPTION:
URL:https://calendario.actualizandome.com/event/hablemos-del-codigo-fiscal-barraactualizandome-2/
CATEGORIES:Aula Virtual
ATTACH;FMTTYPE=image/png:https://calendario.actualizandome.com/wp-content/uploads/2023/08/codigo.png
END:VEVENT
BEGIN:VEVENT
DTSTART;TZID=America/Mexico_City:20230828T100000
DTEND;TZID=America/Mexico_City:20230828T110000
DTSTAMP:20260425T081754
CREATED:20230825T184218Z
LAST-MODIFIED:20230825T191756Z
UID:10000111-1693216800-1693220400@calendario.actualizandome.com
SUMMARY:Los Derechos Humanos en Serio - #BarraActualizandome
DESCRIPTION:
URL:https://calendario.actualizandome.com/event/los-derechos-humanos-en-serio-barraactualizandome/
CATEGORIES:Aula Virtual
ATTACH;FMTTYPE=image/png:https://calendario.actualizandome.com/wp-content/uploads/2023/08/derechos-1.png
END:VEVENT
BEGIN:VEVENT
DTSTART;VALUE=DATE:20230828
DTEND;VALUE=DATE:20230829
DTSTAMP:20260425T081754
CREATED:20230809T191204Z
LAST-MODIFIED:20230809T191204Z
UID:10000023-1693180800-1693267199@calendario.actualizandome.com
SUMMARY:Programación de la Barra Actualizandome
DESCRIPTION:
URL:https://calendario.actualizandome.com/event/programacion-de-la-barra-actualizandome-13/
CATEGORIES:Aula Virtual
ATTACH;FMTTYPE=image/png:https://calendario.actualizandome.com/wp-content/uploads/2023/08/2-Generales22.png
END:VEVENT
BEGIN:VEVENT
DTSTART;TZID=America/Mexico_City:20230825T180000
DTEND;TZID=America/Mexico_City:20230825T190000
DTSTAMP:20260425T081754
CREATED:20230824T204128Z
LAST-MODIFIED:20230824T204128Z
UID:10000110-1692986400-1692990000@calendario.actualizandome.com
SUMMARY:Defensores - #BarraActualizandome
DESCRIPTION:
URL:https://calendario.actualizandome.com/event/defensores-barraactualizandome-2/
CATEGORIES:Aula Virtual
ATTACH;FMTTYPE=image/png:https://calendario.actualizandome.com/wp-content/uploads/2023/08/defensores.png
END:VEVENT
BEGIN:VEVENT
DTSTART;TZID=America/New_York:20230825T170000
DTEND;TZID=America/New_York:20230825T190000
DTSTAMP:20260425T081754
CREATED:20230809T020028Z
LAST-MODIFIED:20230809T020028Z
UID:10000008-1692982800-1692990000@calendario.actualizandome.com
SUMMARY:Videoconferencia Obligaciones relativas a socios y accionistas
DESCRIPTION:
URL:https://calendario.actualizandome.com/event/videoconferencia-obligaciones-relativas-a-socios-y-accionistas/
CATEGORIES:Cursos,Videoconferencia
ATTACH;FMTTYPE=image/png:https://calendario.actualizandome.com/wp-content/uploads/2023/08/cursos-2023-25-agosto-lyzz.png
END:VEVENT
BEGIN:VEVENT
DTSTART;TZID=America/Mexico_City:20230825T170000
DTEND;TZID=America/Mexico_City:20230825T180000
DTSTAMP:20260425T081754
CREATED:20230824T203814Z
LAST-MODIFIED:20230824T203814Z
UID:10000109-1692982800-1692986400@calendario.actualizandome.com
SUMMARY:Frecuencia Empresarial - PYMES en México - #BarraActualizandome
DESCRIPTION:
URL:https://calendario.actualizandome.com/event/frecuencia-empresarial-pymes-en-mexico-barraactualizandome/
CATEGORIES:Aula Virtual
ATTACH;FMTTYPE=image/png:https://calendario.actualizandome.com/wp-content/uploads/2023/08/frecuencia.png
END:VEVENT
BEGIN:VEVENT
DTSTART;TZID=America/Mexico_City:20230825T140000
DTEND;TZID=America/Mexico_City:20230825T150000
DTSTAMP:20260425T081754
CREATED:20230824T203352Z
LAST-MODIFIED:20230824T203352Z
UID:10000108-1692972000-1692975600@calendario.actualizandome.com
SUMMARY:Informática Contable - #BarraActualizandome
DESCRIPTION:
URL:https://calendario.actualizandome.com/event/informatica-contable-barraactualizandome-2/
CATEGORIES:Aula Virtual
ATTACH;FMTTYPE=image/png:https://calendario.actualizandome.com/wp-content/uploads/2023/08/informatica-1.png
END:VEVENT
BEGIN:VEVENT
DTSTART;TZID=America/Mexico_City:20230825T130000
DTEND;TZID=America/Mexico_City:20230825T140000
DTSTAMP:20260425T081754
CREATED:20230824T203129Z
LAST-MODIFIED:20230824T203129Z
UID:10000107-1692968400-1692972000@calendario.actualizandome.com
SUMMARY:Compilación Fiscal - #BarraActualizandome
DESCRIPTION:
URL:https://calendario.actualizandome.com/event/compilacion-fiscal-barraactualizandome-2/
CATEGORIES:Aula Virtual
ATTACH;FMTTYPE=image/png:https://calendario.actualizandome.com/wp-content/uploads/2023/08/compilacion.png
END:VEVENT
END:VCALENDAR