BEGIN:VCALENDAR
VERSION:2.0
PRODID:-//ACTUALIZANDOME - ECPv6.15.16//NONSGML v1.0//EN
CALSCALE:GREGORIAN
METHOD:PUBLISH
X-WR-CALNAME:ACTUALIZANDOME
X-ORIGINAL-URL:https://calendario.actualizandome.com
X-WR-CALDESC:Eventos para ACTUALIZANDOME
REFRESH-INTERVAL;VALUE=DURATION:PT1H
X-Robots-Tag:noindex
X-PUBLISHED-TTL:PT1H
BEGIN:VTIMEZONE
TZID:America/Mexico_City
BEGIN:DAYLIGHT
TZOFFSETFROM:-0600
TZOFFSETTO:-0500
TZNAME:CDT
DTSTART:20220403T080000
END:DAYLIGHT
BEGIN:STANDARD
TZOFFSETFROM:-0500
TZOFFSETTO:-0600
TZNAME:CST
DTSTART:20221030T070000
END:STANDARD
END:VTIMEZONE
BEGIN:VEVENT
DTSTART;TZID=America/Mexico_City:20230905T100000
DTEND;TZID=America/Mexico_City:20230905T110000
DTSTAMP:20260425T053337
CREATED:20230904T220456Z
LAST-MODIFIED:20230904T220456Z
UID:10000161-1693908000-1693911600@calendario.actualizandome.com
SUMMARY:Leones Tributarios - CSD a través del Tiempo\, 2da Parte - #BarraActualizandome
DESCRIPTION:
URL:https://calendario.actualizandome.com/event/leones-tributarios-csd-a-traves-del-tiempo-2da-parte-barraactualizandome/
CATEGORIES:Aula Virtual
ATTACH;FMTTYPE=image/png:https://calendario.actualizandome.com/wp-content/uploads/2023/09/leones.png
END:VEVENT
BEGIN:VEVENT
DTSTART;VALUE=DATE:20230905
DTEND;VALUE=DATE:20230906
DTSTAMP:20260425T053337
CREATED:20230831T184012Z
LAST-MODIFIED:20230904T230939Z
UID:10000149-1693872000-1693958399@calendario.actualizandome.com
SUMMARY:Programación de la Barra Actualizandome
DESCRIPTION:
URL:https://calendario.actualizandome.com/event/programacion-de-la-barra-actualizandome-20/
CATEGORIES:Aula Virtual
ATTACH;FMTTYPE=image/png:https://calendario.actualizandome.com/wp-content/uploads/2023/08/martes-5.png
END:VEVENT
BEGIN:VEVENT
DTSTART;TZID=America/Mexico_City:20230904T180000
DTEND;TZID=America/Mexico_City:20230904T190000
DTSTAMP:20260425T053337
CREATED:20230901T220450Z
LAST-MODIFIED:20230901T220913Z
UID:10000159-1693850400-1693854000@calendario.actualizandome.com
SUMMARY:La Hora de la ASCP - #BarraActualizandome
DESCRIPTION:
URL:https://calendario.actualizandome.com/event/la-hora-de-la-ascp-de-contadores-publicos-barraactualizandome/
CATEGORIES:Aula Virtual
ATTACH;FMTTYPE=image/png:https://calendario.actualizandome.com/wp-content/uploads/2023/09/ascp.png
END:VEVENT
BEGIN:VEVENT
DTSTART;TZID=America/Mexico_City:20230904T170000
DTEND;TZID=America/Mexico_City:20230904T180000
DTSTAMP:20260425T053337
CREATED:20230901T220231Z
LAST-MODIFIED:20230901T220231Z
UID:10000158-1693846800-1693850400@calendario.actualizandome.com
SUMMARY:Conoce las Finanzas - #BarraActualizandome
DESCRIPTION:
URL:https://calendario.actualizandome.com/event/conoce-las-finanzas-barraactualizandome-2/
CATEGORIES:Aula Virtual
ATTACH;FMTTYPE=image/png:https://calendario.actualizandome.com/wp-content/uploads/2023/09/finanzas.png
END:VEVENT
BEGIN:VEVENT
DTSTART;TZID=America/Mexico_City:20230904T140000
DTEND;TZID=America/Mexico_City:20230904T150000
DTSTAMP:20260425T053337
CREATED:20230901T220115Z
LAST-MODIFIED:20230901T220115Z
UID:10000157-1693836000-1693839600@calendario.actualizandome.com
SUMMARY:De Obligaciones y de Derechos - Las Acciones de Vigilancia Profunda - #BarraActualizandome
DESCRIPTION:
URL:https://calendario.actualizandome.com/event/de-obligaciones-y-de-derechos-las-acciones-de-vigilancia-profunda-barraactualizandome/
CATEGORIES:Aula Virtual
ATTACH;FMTTYPE=image/png:https://calendario.actualizandome.com/wp-content/uploads/2023/09/obligaciones.png
END:VEVENT
BEGIN:VEVENT
DTSTART;TZID=America/Mexico_City:20230904T130000
DTEND;TZID=America/Mexico_City:20230904T140000
DTSTAMP:20260425T053337
CREATED:20230901T215912Z
LAST-MODIFIED:20230904T183639Z
UID:10000156-1693832400-1693836000@calendario.actualizandome.com
SUMMARY:Programa Especial - #BarraActualizandome
DESCRIPTION:
URL:https://calendario.actualizandome.com/event/la-hora-cncp-barraactualizandome-4/
CATEGORIES:Aula Virtual
ATTACH;FMTTYPE=image/png:https://calendario.actualizandome.com/wp-content/uploads/2023/09/especial.png
END:VEVENT
BEGIN:VEVENT
DTSTART;TZID=America/Mexico_City:20230904T120000
DTEND;TZID=America/Mexico_City:20230904T130000
DTSTAMP:20260425T053337
CREATED:20230901T215739Z
LAST-MODIFIED:20230901T215739Z
UID:10000155-1693828800-1693832400@calendario.actualizandome.com
SUMMARY:Panorama Empresarial - #BarraActualizandome
DESCRIPTION:
URL:https://calendario.actualizandome.com/event/panorama-empresarial-barraactualizandome-2/
CATEGORIES:Aula Virtual
ATTACH;FMTTYPE=image/png:https://calendario.actualizandome.com/wp-content/uploads/2023/09/panorama.png
END:VEVENT
BEGIN:VEVENT
DTSTART;TZID=America/Mexico_City:20230904T110000
DTEND;TZID=America/Mexico_City:20230904T120000
DTSTAMP:20260425T053337
CREATED:20230901T215606Z
LAST-MODIFIED:20230901T215606Z
UID:10000154-1693825200-1693828800@calendario.actualizandome.com
SUMMARY:Expresión Fiscal - #BarraActualizandome
DESCRIPTION:
URL:https://calendario.actualizandome.com/event/expresion-fiscal-barraactualizandome-2/
CATEGORIES:Aula Virtual
ATTACH;FMTTYPE=image/png:https://calendario.actualizandome.com/wp-content/uploads/2023/09/expres.png
END:VEVENT
BEGIN:VEVENT
DTSTART;TZID=America/Mexico_City:20230904T100000
DTEND;TZID=America/Mexico_City:20230904T110000
DTSTAMP:20260425T053337
CREATED:20230901T215434Z
LAST-MODIFIED:20230901T215434Z
UID:10000153-1693821600-1693825200@calendario.actualizandome.com
SUMMARY:Conociendo Actualizandome - #BarraActualizandome
DESCRIPTION:
URL:https://calendario.actualizandome.com/event/conociendo-actualizandome-barraactualizandome-2/
CATEGORIES:Aula Virtual
END:VEVENT
BEGIN:VEVENT
DTSTART;VALUE=DATE:20230904
DTEND;VALUE=DATE:20230905
DTSTAMP:20260425T053337
CREATED:20230831T183907Z
LAST-MODIFIED:20230831T183907Z
UID:10000148-1693785600-1693871999@calendario.actualizandome.com
SUMMARY:Programación de la Barra Actualizandome
DESCRIPTION:
URL:https://calendario.actualizandome.com/event/programacion-de-la-barra-actualizandome-19/
CATEGORIES:Aula Virtual
ATTACH;FMTTYPE=image/png:https://calendario.actualizandome.com/wp-content/uploads/2023/08/lunes.png
END:VEVENT
BEGIN:VEVENT
DTSTART;TZID=America/Mexico_City:20230902T110000
DTEND;TZID=America/Mexico_City:20230902T130000
DTSTAMP:20260425T053337
CREATED:20230902T152902Z
LAST-MODIFIED:20230902T152902Z
UID:10000160-1693652400-1693659600@calendario.actualizandome.com
SUMMARY:Videoconferencia Analizando Reglas Misceláneas alrededor del IEPS
DESCRIPTION:
URL:https://calendario.actualizandome.com/event/videoconferencia-analizando-reglas-miscelaneas-alrededor-del-ieps/
CATEGORIES:Cursos,Videoconferencia
ATTACH;FMTTYPE=image/jpeg:https://calendario.actualizandome.com/wp-content/uploads/2023/09/WhatsApp-Image-2023-09-01-at-13.50.42.jpeg
END:VEVENT
BEGIN:VEVENT
DTSTART;TZID=America/Mexico_City:20230901T180000
DTEND;TZID=America/Mexico_City:20230901T190000
DTSTAMP:20260425T053337
CREATED:20230831T181252Z
LAST-MODIFIED:20230831T181252Z
UID:10000147-1693591200-1693594800@calendario.actualizandome.com
SUMMARY:Tres a las Seis - #BarraActualizandome
DESCRIPTION:
URL:https://calendario.actualizandome.com/event/tres-a-las-seis-barraactualizandome-2/
CATEGORIES:Aula Virtual
ATTACH;FMTTYPE=image/png:https://calendario.actualizandome.com/wp-content/uploads/2023/08/tres.png
END:VEVENT
BEGIN:VEVENT
DTSTART;TZID=America/Mexico_City:20230901T170000
DTEND;TZID=America/Mexico_City:20230901T180000
DTSTAMP:20260425T053337
CREATED:20230831T181137Z
LAST-MODIFIED:20230831T181137Z
UID:10000146-1693587600-1693591200@calendario.actualizandome.com
SUMMARY:Está Bien No Estar Bien - #BarraActualizandome
DESCRIPTION:
URL:https://calendario.actualizandome.com/event/esta-bien-no-estar-bien-barraactualizandome-2/
CATEGORIES:Aula Virtual
ATTACH;FMTTYPE=image/png:https://calendario.actualizandome.com/wp-content/uploads/2023/08/bien.png
END:VEVENT
BEGIN:VEVENT
DTSTART;TZID=America/Mexico_City:20230901T130000
DTEND;TZID=America/Mexico_City:20230901T140000
DTSTAMP:20260425T053337
CREATED:20230831T180712Z
LAST-MODIFIED:20230831T215721Z
UID:10000145-1693573200-1693576800@calendario.actualizandome.com
SUMMARY:El Mundo Más Allá de lo Contable y Fiscal - #BarraActualizandome
DESCRIPTION:
URL:https://calendario.actualizandome.com/event/el-mundo-mas-alla-de-lo-contable-y-fiscal-barraactualizandome-2/
CATEGORIES:Aula Virtual
ATTACH;FMTTYPE=image/png:https://calendario.actualizandome.com/wp-content/uploads/2023/08/mundo-5.png
END:VEVENT
BEGIN:VEVENT
DTSTART;TZID=America/Mexico_City:20230901T120000
DTEND;TZID=America/Mexico_City:20230901T130000
DTSTAMP:20260425T053337
CREATED:20230831T175940Z
LAST-MODIFIED:20230831T175940Z
UID:10000144-1693569600-1693573200@calendario.actualizandome.com
SUMMARY:Contabilidad y Algo Más - #BarraActualizandome
DESCRIPTION:
URL:https://calendario.actualizandome.com/event/contabilidad-y-algo-mas-barraactualizandome-2/
CATEGORIES:Aula Virtual
ATTACH;FMTTYPE=image/png:https://calendario.actualizandome.com/wp-content/uploads/2023/08/contab-2.png
END:VEVENT
BEGIN:VEVENT
DTSTART;TZID=America/Mexico_City:20230901T110000
DTEND;TZID=America/Mexico_City:20230901T120000
DTSTAMP:20260425T053337
CREATED:20230831T175800Z
LAST-MODIFIED:20230831T192829Z
UID:10000143-1693566000-1693569600@calendario.actualizandome.com
SUMMARY:Metamorfosis - #BarraActualizandome
DESCRIPTION:
URL:https://calendario.actualizandome.com/event/metamorfosis-barraactualizandome-2/
CATEGORIES:Aula Virtual
ATTACH;FMTTYPE=image/png:https://calendario.actualizandome.com/wp-content/uploads/2023/08/meta-1.png
END:VEVENT
BEGIN:VEVENT
DTSTART;TZID=America/Mexico_City:20230901T100000
DTEND;TZID=America/Mexico_City:20230901T110000
DTSTAMP:20260425T053337
CREATED:20230831T175622Z
LAST-MODIFIED:20230901T153111Z
UID:10000142-1693562400-1693566000@calendario.actualizandome.com
SUMMARY:Sembrando el Conocimiento - Solicitud de Devolución de ISR Anual Para PF - #BarraActualizandome
DESCRIPTION:
URL:https://calendario.actualizandome.com/event/sembrando-el-conocimiento-barraactualizandome-2/
CATEGORIES:Aula Virtual
ATTACH;FMTTYPE=image/png:https://calendario.actualizandome.com/wp-content/uploads/2023/08/sembrando-2.png
END:VEVENT
BEGIN:VEVENT
DTSTART;VALUE=DATE:20230901
DTEND;VALUE=DATE:20230902
DTSTAMP:20260425T053337
CREATED:20230825T211421Z
LAST-MODIFIED:20230825T211421Z
UID:10000122-1693526400-1693612799@calendario.actualizandome.com
SUMMARY:Programación de la Barra Actualizandome
DESCRIPTION:
URL:https://calendario.actualizandome.com/event/programacion-de-la-barra-actualizandome-18/
CATEGORIES:Aula Virtual
ATTACH;FMTTYPE=image/png:https://calendario.actualizandome.com/wp-content/uploads/2023/08/viernes-2.png
END:VEVENT
BEGIN:VEVENT
DTSTART;TZID=America/Mexico_City:20230831T170000
DTEND;TZID=America/Mexico_City:20230831T180000
DTSTAMP:20260425T053337
CREATED:20230830T210058Z
LAST-MODIFIED:20230830T210058Z
UID:10000141-1693501200-1693504800@calendario.actualizandome.com
SUMMARY:Consultoría Fiscal Empresarial - El Principio de Autodeterminación en Correlación con los Medios Electrónicos en Materia de Impuestos - #BarraActualizandome
DESCRIPTION:
URL:https://calendario.actualizandome.com/event/consultoria-fiscal-empresarial-el-principio-de-autodeterminacion-en-correlacion-con-los-medios-electronicos-en-materia-de-impuestos-barraactualizandome/
CATEGORIES:Aula Virtual
ATTACH;FMTTYPE=image/png:https://calendario.actualizandome.com/wp-content/uploads/2023/08/consultoria-1.png
END:VEVENT
BEGIN:VEVENT
DTSTART;TZID=America/Mexico_City:20230831T140000
DTEND;TZID=America/Mexico_City:20230831T150000
DTSTAMP:20260425T053337
CREATED:20230830T205808Z
LAST-MODIFIED:20230830T205808Z
UID:10000140-1693490400-1693494000@calendario.actualizandome.com
SUMMARY:Es la Hora de Charlar - #BarraActualizandome
DESCRIPTION:
URL:https://calendario.actualizandome.com/event/es-la-hora-de-charlar-barraactualizandome/
CATEGORIES:Aula Virtual
ATTACH;FMTTYPE=image/png:https://calendario.actualizandome.com/wp-content/uploads/2023/08/charlar.png
END:VEVENT
BEGIN:VEVENT
DTSTART;TZID=America/Mexico_City:20230831T130000
DTEND;TZID=America/Mexico_City:20230831T140000
DTSTAMP:20260425T053338
CREATED:20230830T205511Z
LAST-MODIFIED:20230830T205511Z
UID:10000139-1693486800-1693490400@calendario.actualizandome.com
SUMMARY:Participando en Grupo - #BarraActualizandome
DESCRIPTION:
URL:https://calendario.actualizandome.com/event/participando-en-grupo-barraactualizandome/
CATEGORIES:Aula Virtual
ATTACH;FMTTYPE=image/png:https://calendario.actualizandome.com/wp-content/uploads/2023/08/participando-2.png
END:VEVENT
BEGIN:VEVENT
DTSTART;TZID=America/Mexico_City:20230831T120000
DTEND;TZID=America/Mexico_City:20230831T130000
DTSTAMP:20260425T053338
CREATED:20230830T205233Z
LAST-MODIFIED:20230830T205233Z
UID:10000138-1693483200-1693486800@calendario.actualizandome.com
SUMMARY:Diálogos Fiscales - Conceptos de Impugnación Efectivos\, Contra Créditos y/o Multas Determinadas por el Infonavit - #BarraActualizandome
DESCRIPTION:
URL:https://calendario.actualizandome.com/event/dialogos-fiscales-conceptos-de-impugnacion-efectivos-contra-creditos-y-o-multas-determinadas-por-el-infonavit-barraactualizandome/
CATEGORIES:Aula Virtual
ATTACH;FMTTYPE=image/png:https://calendario.actualizandome.com/wp-content/uploads/2023/08/dialogos.png
END:VEVENT
BEGIN:VEVENT
DTSTART;TZID=America/Mexico_City:20230831T110000
DTEND;TZID=America/Mexico_City:20230831T120000
DTSTAMP:20260425T053338
CREATED:20230830T205020Z
LAST-MODIFIED:20230830T232458Z
UID:10000137-1693479600-1693483200@calendario.actualizandome.com
SUMMARY:JB El Fiscal - IVA en el Sector Primario - #BarraActualizandome
DESCRIPTION:
URL:https://calendario.actualizandome.com/event/jb-el-fiscal-barraactualizandome-2/
CATEGORIES:Aula Virtual
ATTACH;FMTTYPE=image/png:https://calendario.actualizandome.com/wp-content/uploads/2023/08/jb-1.png
END:VEVENT
BEGIN:VEVENT
DTSTART;TZID=America/Mexico_City:20230831T100000
DTEND;TZID=America/Mexico_City:20230831T110000
DTSTAMP:20260425T053338
CREATED:20230830T204303Z
LAST-MODIFIED:20230830T204303Z
UID:10000136-1693476000-1693479600@calendario.actualizandome.com
SUMMARY:En Sintonía Fiscal - Almacenamiento Digital - #BarraActualizandome
DESCRIPTION:
URL:https://calendario.actualizandome.com/event/en-sintonia-fiscal-almacenamiento-digital-barraactualizandome/
CATEGORIES:Aula Virtual
ATTACH;FMTTYPE=image/png:https://calendario.actualizandome.com/wp-content/uploads/2023/08/sintonia-1.png
END:VEVENT
BEGIN:VEVENT
DTSTART;VALUE=DATE:20230831
DTEND;VALUE=DATE:20230901
DTSTAMP:20260425T053338
CREATED:20230825T211246Z
LAST-MODIFIED:20230825T211246Z
UID:10000121-1693440000-1693526399@calendario.actualizandome.com
SUMMARY:Programación de la Barra Actualizandome
DESCRIPTION:
URL:https://calendario.actualizandome.com/event/programacion-de-la-barra-actualizandome-17/
CATEGORIES:Aula Virtual
ATTACH;FMTTYPE=image/png:https://calendario.actualizandome.com/wp-content/uploads/2023/08/jueves-4.png
END:VEVENT
BEGIN:VEVENT
DTSTART;TZID=America/Mexico_City:20230830T180000
DTEND;TZID=America/Mexico_City:20230830T190000
DTSTAMP:20260425T053338
CREATED:20230829T195412Z
LAST-MODIFIED:20230829T195412Z
UID:10000133-1693418400-1693422000@calendario.actualizandome.com
SUMMARY:Mitos y Realidades Tributarias - #BarraActualizandome
DESCRIPTION:
URL:https://calendario.actualizandome.com/event/mitos-y-realidades-tributarias-barraactualizandome-2/
CATEGORIES:Aula Virtual
ATTACH;FMTTYPE=image/png:https://calendario.actualizandome.com/wp-content/uploads/2023/08/mitos.png
END:VEVENT
BEGIN:VEVENT
DTSTART;TZID=America/Mexico_City:20230830T170000
DTEND;TZID=America/Mexico_City:20230830T180000
DTSTAMP:20260425T053338
CREATED:20230829T195244Z
LAST-MODIFIED:20230829T195244Z
UID:10000132-1693414800-1693418400@calendario.actualizandome.com
SUMMARY:Sinergia Laboral InfonavImss (R) - #BarraActualizandome
DESCRIPTION:
URL:https://calendario.actualizandome.com/event/sinergia-laboral-infonavimss-r-barraactualizandome/
CATEGORIES:Aula Virtual
ATTACH;FMTTYPE=image/png:https://calendario.actualizandome.com/wp-content/uploads/2023/08/sinergia.png
END:VEVENT
BEGIN:VEVENT
DTSTART;TZID=America/Mexico_City:20230830T140000
DTEND;TZID=America/Mexico_City:20230830T150000
DTSTAMP:20260425T053338
CREATED:20230829T194929Z
LAST-MODIFIED:20230829T200320Z
UID:10000131-1693404000-1693407600@calendario.actualizandome.com
SUMMARY:Quadrando la Info - Artículos 29 y 29-A CFF - 2da Parte - #BarraActualizandome
DESCRIPTION:
URL:https://calendario.actualizandome.com/event/27003/
CATEGORIES:Aula Virtual
ATTACH;FMTTYPE=image/png:https://calendario.actualizandome.com/wp-content/uploads/2023/08/quadra.png
END:VEVENT
BEGIN:VEVENT
DTSTART;TZID=America/Mexico_City:20230830T130000
DTEND;TZID=America/Mexico_City:20230830T140000
DTSTAMP:20260425T053338
CREATED:20230829T195738Z
LAST-MODIFIED:20230829T195738Z
UID:10000134-1693400400-1693404000@calendario.actualizandome.com
SUMMARY:Contabilidad y Leyes Fiscales - #BarraActualizandome
DESCRIPTION:
URL:https://calendario.actualizandome.com/event/contabilidad-y-leyes-fiscales-barraactualizandome-3/
CATEGORIES:Aula Virtual
ATTACH;FMTTYPE=image/png:https://calendario.actualizandome.com/wp-content/uploads/2023/08/contab-1.png
END:VEVENT
BEGIN:VEVENT
DTSTART;TZID=America/Mexico_City:20230830T120000
DTEND;TZID=America/Mexico_City:20230830T130000
DTSTAMP:20260425T053338
CREATED:20230829T200600Z
LAST-MODIFIED:20230830T175340Z
UID:10000135-1693396800-1693400400@calendario.actualizandome.com
SUMMARY:Las Hora AMCPMX (R) - #BarraActualizandome
DESCRIPTION:
URL:https://calendario.actualizandome.com/event/las-partes-relacionadas-barraactualizandome-2/
CATEGORIES:Aula Virtual
END:VEVENT
END:VCALENDAR