BEGIN:VCALENDAR
VERSION:2.0
PRODID:-//ACTUALIZANDOME - ECPv6.15.16//NONSGML v1.0//EN
CALSCALE:GREGORIAN
METHOD:PUBLISH
X-WR-CALNAME:ACTUALIZANDOME
X-ORIGINAL-URL:https://calendario.actualizandome.com
X-WR-CALDESC:Eventos para ACTUALIZANDOME
REFRESH-INTERVAL;VALUE=DURATION:PT1H
X-Robots-Tag:noindex
X-PUBLISHED-TTL:PT1H
BEGIN:VTIMEZONE
TZID:America/Mexico_City
BEGIN:DAYLIGHT
TZOFFSETFROM:-0600
TZOFFSETTO:-0500
TZNAME:CDT
DTSTART:20220403T080000
END:DAYLIGHT
BEGIN:STANDARD
TZOFFSETFROM:-0500
TZOFFSETTO:-0600
TZNAME:CST
DTSTART:20221030T070000
END:STANDARD
END:VTIMEZONE
BEGIN:VEVENT
DTSTART;TZID=America/Mexico_City:20230908T100000
DTEND;TZID=America/Mexico_City:20230908T110000
DTSTAMP:20260423T152840
CREATED:20230907T195617Z
LAST-MODIFIED:20230907T195617Z
UID:10000183-1694167200-1694170800@calendario.actualizandome.com
SUMMARY:Conociendo el Mundo Fiscal - #BarraActualizandome
DESCRIPTION:
URL:https://calendario.actualizandome.com/event/conociendo-el-mundo-fiscal-barraactualizandome-3/
CATEGORIES:Aula Virtual
ATTACH;FMTTYPE=image/png:https://calendario.actualizandome.com/wp-content/uploads/2023/09/mundo.png
END:VEVENT
BEGIN:VEVENT
DTSTART;VALUE=DATE:20230908
DTEND;VALUE=DATE:20230909
DTSTAMP:20260423T152840
CREATED:20230831T184327Z
LAST-MODIFIED:20230831T184327Z
UID:10000152-1694131200-1694217599@calendario.actualizandome.com
SUMMARY:Programación de la Barra Actualizandome
DESCRIPTION:
URL:https://calendario.actualizandome.com/event/programacion-de-la-barra-actualizandome-23/
CATEGORIES:Aula Virtual
ATTACH;FMTTYPE=image/png:https://calendario.actualizandome.com/wp-content/uploads/2023/08/viernes-3.png
END:VEVENT
BEGIN:VEVENT
DTSTART;TZID=America/Mexico_City:20230907T180000
DTEND;TZID=America/Mexico_City:20230907T190000
DTSTAMP:20260423T152840
CREATED:20230906T223554Z
LAST-MODIFIED:20230906T223554Z
UID:10000182-1694109600-1694113200@calendario.actualizandome.com
SUMMARY:De Impuestos y Otros Demonios - #BarraActualizandome
DESCRIPTION:
URL:https://calendario.actualizandome.com/event/de-impuestos-y-otros-demonios-barraactualizandome/
CATEGORIES:Aula Virtual
ATTACH;FMTTYPE=image/png:https://calendario.actualizandome.com/wp-content/uploads/2023/09/impuestos.png
END:VEVENT
BEGIN:VEVENT
DTSTART;TZID=America/Mexico_City:20230907T170000
DTEND;TZID=America/Mexico_City:20230907T180000
DTSTAMP:20260423T152840
CREATED:20230906T223416Z
LAST-MODIFIED:20230906T223416Z
UID:10000181-1694106000-1694109600@calendario.actualizandome.com
SUMMARY:Defensa Fiscal a la Medida - #BarraActualizandome
DESCRIPTION:
URL:https://calendario.actualizandome.com/event/defensa-fiscal-a-la-medida-barraactualizandome-2/
CATEGORIES:Aula Virtual
ATTACH;FMTTYPE=image/png:https://calendario.actualizandome.com/wp-content/uploads/2023/09/defensa.png
END:VEVENT
BEGIN:VEVENT
DTSTART;TZID=America/Mexico_City:20230907T140000
DTEND;TZID=America/Mexico_City:20230907T150000
DTSTAMP:20260423T152840
CREATED:20230906T223255Z
LAST-MODIFIED:20230906T223255Z
UID:10000180-1694095200-1694098800@calendario.actualizandome.com
SUMMARY:Tecnología Práctica - #BarraActualizandome
DESCRIPTION:
URL:https://calendario.actualizandome.com/event/tecnologia-practica-barraactualizandome-3/
CATEGORIES:Aula Virtual
ATTACH;FMTTYPE=image/png:https://calendario.actualizandome.com/wp-content/uploads/2023/09/tecnologia.png
END:VEVENT
BEGIN:VEVENT
DTSTART;TZID=America/Mexico_City:20230907T130000
DTEND;TZID=America/Mexico_City:20230907T140000
DTSTAMP:20260423T152840
CREATED:20230906T223136Z
LAST-MODIFIED:20230906T223136Z
UID:10000179-1694091600-1694095200@calendario.actualizandome.com
SUMMARY:Noticias en Actualizandome - #BarraActualizandome
DESCRIPTION:
URL:https://calendario.actualizandome.com/event/noticias-en-actualizandome-barraactualizandome-4/
CATEGORIES:Aula Virtual
ATTACH;FMTTYPE=image/png:https://calendario.actualizandome.com/wp-content/uploads/2023/09/noticias.png
END:VEVENT
BEGIN:VEVENT
DTSTART;TZID=America/Mexico_City:20230907T120000
DTEND;TZID=America/Mexico_City:20230907T130000
DTSTAMP:20260423T152840
CREATED:20230906T223013Z
LAST-MODIFIED:20230906T223013Z
UID:10000178-1694088000-1694091600@calendario.actualizandome.com
SUMMARY:Derechos Humanos en Serio - (R) - #BarraActualizandome
DESCRIPTION:
URL:https://calendario.actualizandome.com/event/derechos-humanos-en-serio-r-barraactualizandome-2/
CATEGORIES:Aula Virtual
ATTACH;FMTTYPE=image/png:https://calendario.actualizandome.com/wp-content/uploads/2023/09/derechos.png
END:VEVENT
BEGIN:VEVENT
DTSTART;TZID=America/Mexico_City:20230907T110000
DTEND;TZID=America/Mexico_City:20230907T120000
DTSTAMP:20260423T152840
CREATED:20230906T222847Z
LAST-MODIFIED:20230906T222847Z
UID:10000177-1694084400-1694088000@calendario.actualizandome.com
SUMMARY:Simetría Fiscal - LISR Título VII - Estímulos Fiscales - #BarraActualizandome
DESCRIPTION:
URL:https://calendario.actualizandome.com/event/simetria-fiscal-lisr-titulo-vii-estimulos-fiscales-barraactualizandome/
CATEGORIES:Aula Virtual
ATTACH;FMTTYPE=image/png:https://calendario.actualizandome.com/wp-content/uploads/2023/09/simetria.png
END:VEVENT
BEGIN:VEVENT
DTSTART;TZID=America/Mexico_City:20230907T100000
DTEND;TZID=America/Mexico_City:20230907T110000
DTSTAMP:20260423T152840
CREATED:20230906T222537Z
LAST-MODIFIED:20230906T222537Z
UID:10000176-1694080800-1694084400@calendario.actualizandome.com
SUMMARY:Hablemos de Pensiones - (R) - #BarraActualizandome
DESCRIPTION:
URL:https://calendario.actualizandome.com/event/hablemos-de-pensiones-r-barraactualizandome-2/
CATEGORIES:Aula Virtual
ATTACH;FMTTYPE=image/png:https://calendario.actualizandome.com/wp-content/uploads/2023/09/pensiones-1.png
END:VEVENT
BEGIN:VEVENT
DTSTART;VALUE=DATE:20230907
DTEND;VALUE=DATE:20230908
DTSTAMP:20260423T152840
CREATED:20230831T184217Z
LAST-MODIFIED:20230831T184217Z
UID:10000151-1694044800-1694131199@calendario.actualizandome.com
SUMMARY:Programación de la Barra Actualizandome
DESCRIPTION:
URL:https://calendario.actualizandome.com/event/programacion-de-la-barra-actualizandome-22/
CATEGORIES:Aula Virtual
ATTACH;FMTTYPE=image/png:https://calendario.actualizandome.com/wp-content/uploads/2023/08/jueves-5.png
END:VEVENT
BEGIN:VEVENT
DTSTART;TZID=America/Mexico_City:20230906T180000
DTEND;TZID=America/Mexico_City:20230906T190000
DTSTAMP:20260423T152840
CREATED:20230905T210453Z
LAST-MODIFIED:20230905T210453Z
UID:10000175-1694023200-1694026800@calendario.actualizandome.com
SUMMARY:Sesión Interactiva - (R) - #BarraActualizandome
DESCRIPTION:
URL:https://calendario.actualizandome.com/event/sesion-interactiva-r-barraactualizandome/
CATEGORIES:Aula Virtual
ATTACH;FMTTYPE=image/png:https://calendario.actualizandome.com/wp-content/uploads/2023/09/interac.png
END:VEVENT
BEGIN:VEVENT
DTSTART;TZID=America/Mexico_City:20230906T170000
DTEND;TZID=America/Mexico_City:20230906T180000
DTSTAMP:20260423T152840
CREATED:20230905T210138Z
LAST-MODIFIED:20230906T221803Z
UID:10000174-1694019600-1694023200@calendario.actualizandome.com
SUMMARY:La Hora CNCP - Impuestos Estatales - 2da Parte - #BarraActualizandome
DESCRIPTION:
URL:https://calendario.actualizandome.com/event/reflexionando-con-mayer-r-barraactualizandome/
CATEGORIES:Aula Virtual
ATTACH;FMTTYPE=image/png:https://calendario.actualizandome.com/wp-content/uploads/2023/09/cncp-2.png
END:VEVENT
BEGIN:VEVENT
DTSTART;TZID=America/Mexico_City:20230906T140000
DTEND;TZID=America/Mexico_City:20230906T150000
DTSTAMP:20260423T152840
CREATED:20230905T205716Z
LAST-MODIFIED:20230905T205830Z
UID:10000173-1694008800-1694012400@calendario.actualizandome.com
SUMMARY:Hablemos de Pensiones - ¿Tengo Todo Listo con mi Pensión IMSS Si Fallezco?#BarraActualizandome
DESCRIPTION:
URL:https://calendario.actualizandome.com/event/hablemos-de-pensiones-tengo-todo-listo-con-mi-pension-imss-si-fallezcobarraactualizandome/
CATEGORIES:Aula Virtual
ATTACH;FMTTYPE=image/png:https://calendario.actualizandome.com/wp-content/uploads/2023/09/pensiones.png
END:VEVENT
BEGIN:VEVENT
DTSTART;TZID=America/Mexico_City:20230906T130000
DTEND;TZID=America/Mexico_City:20230906T140000
DTSTAMP:20260423T152840
CREATED:20230905T205121Z
LAST-MODIFIED:20230905T205121Z
UID:10000172-1694005200-1694008800@calendario.actualizandome.com
SUMMARY:Foco Financiero - #BarraActualizandome
DESCRIPTION:
URL:https://calendario.actualizandome.com/event/foco-financiero-barraactualizandome-3/
CATEGORIES:Aula Virtual
END:VEVENT
BEGIN:VEVENT
DTSTART;TZID=America/Mexico_City:20230906T120000
DTEND;TZID=America/Mexico_City:20230906T130000
DTSTAMP:20260423T152840
CREATED:20230905T204929Z
LAST-MODIFIED:20230905T204929Z
UID:10000171-1694001600-1694005200@calendario.actualizandome.com
SUMMARY:Estratégica - Prescripción de los Delitos Fiscales - #BarraActualizandome
DESCRIPTION:
URL:https://calendario.actualizandome.com/event/estrategica-prescripcion-de-los-delitos-fiscales-barraactualizandome-2/
CATEGORIES:Aula Virtual
ATTACH;FMTTYPE=image/png:https://calendario.actualizandome.com/wp-content/uploads/2023/09/estrategica.png
END:VEVENT
BEGIN:VEVENT
DTSTART;TZID=America/Mexico_City:20230906T110000
DTEND;TZID=America/Mexico_City:20230906T120000
DTSTAMP:20260423T152840
CREATED:20230905T204743Z
LAST-MODIFIED:20230906T154309Z
UID:10000170-1693998000-1694001600@calendario.actualizandome.com
SUMMARY:Presentación de la Revista Digital Actualizandome No. 136 - #BarraActualizandome
DESCRIPTION:
URL:https://calendario.actualizandome.com/event/consultorio-conta-fiscal-barraactualizandome-2/
CATEGORIES:Aula Virtual
ATTACH;FMTTYPE=image/png:https://calendario.actualizandome.com/wp-content/uploads/2023/09/revista-1.png
END:VEVENT
BEGIN:VEVENT
DTSTART;TZID=America/Mexico_City:20230906T100000
DTEND;TZID=America/Mexico_City:20230906T110000
DTSTAMP:20260423T152840
CREATED:20230905T204618Z
LAST-MODIFIED:20230905T204618Z
UID:10000169-1693994400-1693998000@calendario.actualizandome.com
SUMMARY:Tópicos Empresariales - #BarraActualizandome
DESCRIPTION:
URL:https://calendario.actualizandome.com/event/topicos-empresariales-barraactualizandome-2/
CATEGORIES:Aula Virtual
ATTACH;FMTTYPE=image/png:https://calendario.actualizandome.com/wp-content/uploads/2023/09/topicos.png
END:VEVENT
BEGIN:VEVENT
DTSTART;VALUE=DATE:20230906
DTEND;VALUE=DATE:20230907
DTSTAMP:20260423T152840
CREATED:20230831T184109Z
LAST-MODIFIED:20230906T153713Z
UID:10000150-1693958400-1694044799@calendario.actualizandome.com
SUMMARY:Programación de la Barra Actualizandome
DESCRIPTION:
URL:https://calendario.actualizandome.com/event/programacion-de-la-barra-actualizandome-21/
CATEGORIES:Aula Virtual
ATTACH;FMTTYPE=image/png:https://calendario.actualizandome.com/wp-content/uploads/2023/08/MIERCOLES-3.png
END:VEVENT
BEGIN:VEVENT
DTSTART;TZID=America/Mexico_City:20230905T180000
DTEND;TZID=America/Mexico_City:20230905T190000
DTSTAMP:20260423T152840
CREATED:20230904T225002Z
LAST-MODIFIED:20230904T225002Z
UID:10000168-1693936800-1693940400@calendario.actualizandome.com
SUMMARY:CONADFIS - Explicación de la Declaración Anual Título III - #BarraActualizandome
DESCRIPTION:
URL:https://calendario.actualizandome.com/event/conadfis-explicacion-de-la-declaracion-anual-titulo-iii-barraactualizandome/
ATTACH;FMTTYPE=image/png:https://calendario.actualizandome.com/wp-content/uploads/2023/09/conadfis.png
END:VEVENT
BEGIN:VEVENT
DTSTART;TZID=America/Mexico_City:20230905T170000
DTEND;TZID=America/Mexico_City:20230905T180000
DTSTAMP:20260423T152840
CREATED:20230904T224626Z
LAST-MODIFIED:20230904T224626Z
UID:10000167-1693933200-1693936800@calendario.actualizandome.com
SUMMARY:Fiscal por la Tarde - #BarraActualizandome
DESCRIPTION:
URL:https://calendario.actualizandome.com/event/fiscal-por-la-tarde-barraactualizandome-2/
CATEGORIES:Aula Virtual
ATTACH;FMTTYPE=image/png:https://calendario.actualizandome.com/wp-content/uploads/2023/09/fiscal.png
END:VEVENT
BEGIN:VEVENT
DTSTART;TZID=America/Mexico_City:20230905T160000
DTEND;TZID=America/Mexico_City:20230905T170000
DTSTAMP:20260423T152840
CREATED:20230904T224132Z
LAST-MODIFIED:20230904T224132Z
UID:10000166-1693929600-1693933200@calendario.actualizandome.com
SUMMARY:Compliance Más Allá de la Norma - NOM 37 - Obligaciones del Trabajador - #BarraActualizandome
DESCRIPTION:
URL:https://calendario.actualizandome.com/event/compliance-mas-alla-de-la-norma-nom-37-obligaciones-del-trabajador-barraactualizandome/
CATEGORIES:Aula Virtual
ATTACH;FMTTYPE=image/png:https://calendario.actualizandome.com/wp-content/uploads/2023/09/compliance.png
END:VEVENT
BEGIN:VEVENT
DTSTART;TZID=America/Mexico_City:20230905T140000
DTEND;TZID=America/Mexico_City:20230905T150000
DTSTAMP:20260423T152840
CREATED:20230904T223459Z
LAST-MODIFIED:20230905T193433Z
UID:10000165-1693922400-1693926000@calendario.actualizandome.com
SUMMARY:El Poder de los Seguros - Alternativas en Salud #BarraActualizandome
DESCRIPTION:
URL:https://calendario.actualizandome.com/event/el-poder-de-los-seguros-barraactualizandome/
CATEGORIES:Aula Virtual
ATTACH;FMTTYPE=image/png:https://calendario.actualizandome.com/wp-content/uploads/2023/09/poder-1.png
END:VEVENT
BEGIN:VEVENT
DTSTART;TZID=America/Mexico_City:20230905T130000
DTEND;TZID=America/Mexico_City:20230905T140000
DTSTAMP:20260423T152840
CREATED:20230904T223210Z
LAST-MODIFIED:20230904T223210Z
UID:10000164-1693918800-1693922400@calendario.actualizandome.com
SUMMARY:Litigio Fiscal Estratégico - Principio de Progresividad en Materia Fiscal - #BarraActualizandome
DESCRIPTION:
URL:https://calendario.actualizandome.com/event/litigio-fiscal-estrategico-principio-de-progresividad-en-materia-fiscal-barraactualizandome/
CATEGORIES:Aula Virtual
ATTACH;FMTTYPE=image/png:https://calendario.actualizandome.com/wp-content/uploads/2023/09/litigio.png
END:VEVENT
BEGIN:VEVENT
DTSTART;TZID=America/Mexico_City:20230905T120000
DTEND;TZID=America/Mexico_City:20230905T130000
DTSTAMP:20260423T152840
CREATED:20230904T221249Z
LAST-MODIFIED:20230904T225915Z
UID:10000163-1693915200-1693918800@calendario.actualizandome.com
SUMMARY:Sinergia Laboral InfonavImss - Reformas Laborales 2024 - #BarraActualizandome
DESCRIPTION:
URL:https://calendario.actualizandome.com/event/sinergia-laboral-infonavimss-reformas-laborales-barraactualizandome/
CATEGORIES:Aula Virtual
ATTACH;FMTTYPE=image/png:https://calendario.actualizandome.com/wp-content/uploads/2023/09/sinergia.png
END:VEVENT
BEGIN:VEVENT
DTSTART;TZID=America/Mexico_City:20230905T110000
DTEND;TZID=America/Mexico_City:20230905T120000
DTSTAMP:20260423T152840
CREATED:20230904T221056Z
LAST-MODIFIED:20230904T221056Z
UID:10000162-1693911600-1693915200@calendario.actualizandome.com
SUMMARY:La Hora de Prodecon - #BarraActualizandome
DESCRIPTION:
URL:https://calendario.actualizandome.com/event/la-hora-de-prodecon-barraactualizandome/
CATEGORIES:Aula Virtual
ATTACH;FMTTYPE=image/png:https://calendario.actualizandome.com/wp-content/uploads/2023/09/prodecon.png
END:VEVENT
BEGIN:VEVENT
DTSTART;TZID=America/Mexico_City:20230905T100000
DTEND;TZID=America/Mexico_City:20230905T110000
DTSTAMP:20260423T152840
CREATED:20230904T220456Z
LAST-MODIFIED:20230904T220456Z
UID:10000161-1693908000-1693911600@calendario.actualizandome.com
SUMMARY:Leones Tributarios - CSD a través del Tiempo\, 2da Parte - #BarraActualizandome
DESCRIPTION:
URL:https://calendario.actualizandome.com/event/leones-tributarios-csd-a-traves-del-tiempo-2da-parte-barraactualizandome/
CATEGORIES:Aula Virtual
ATTACH;FMTTYPE=image/png:https://calendario.actualizandome.com/wp-content/uploads/2023/09/leones.png
END:VEVENT
BEGIN:VEVENT
DTSTART;VALUE=DATE:20230905
DTEND;VALUE=DATE:20230906
DTSTAMP:20260423T152840
CREATED:20230831T184012Z
LAST-MODIFIED:20230904T230939Z
UID:10000149-1693872000-1693958399@calendario.actualizandome.com
SUMMARY:Programación de la Barra Actualizandome
DESCRIPTION:
URL:https://calendario.actualizandome.com/event/programacion-de-la-barra-actualizandome-20/
CATEGORIES:Aula Virtual
ATTACH;FMTTYPE=image/png:https://calendario.actualizandome.com/wp-content/uploads/2023/08/martes-5.png
END:VEVENT
BEGIN:VEVENT
DTSTART;TZID=America/Mexico_City:20230904T180000
DTEND;TZID=America/Mexico_City:20230904T190000
DTSTAMP:20260423T152840
CREATED:20230901T220450Z
LAST-MODIFIED:20230901T220913Z
UID:10000159-1693850400-1693854000@calendario.actualizandome.com
SUMMARY:La Hora de la ASCP - #BarraActualizandome
DESCRIPTION:
URL:https://calendario.actualizandome.com/event/la-hora-de-la-ascp-de-contadores-publicos-barraactualizandome/
CATEGORIES:Aula Virtual
ATTACH;FMTTYPE=image/png:https://calendario.actualizandome.com/wp-content/uploads/2023/09/ascp.png
END:VEVENT
BEGIN:VEVENT
DTSTART;TZID=America/Mexico_City:20230904T170000
DTEND;TZID=America/Mexico_City:20230904T180000
DTSTAMP:20260423T152840
CREATED:20230901T220231Z
LAST-MODIFIED:20230901T220231Z
UID:10000158-1693846800-1693850400@calendario.actualizandome.com
SUMMARY:Conoce las Finanzas - #BarraActualizandome
DESCRIPTION:
URL:https://calendario.actualizandome.com/event/conoce-las-finanzas-barraactualizandome-2/
CATEGORIES:Aula Virtual
ATTACH;FMTTYPE=image/png:https://calendario.actualizandome.com/wp-content/uploads/2023/09/finanzas.png
END:VEVENT
BEGIN:VEVENT
DTSTART;TZID=America/Mexico_City:20230904T140000
DTEND;TZID=America/Mexico_City:20230904T150000
DTSTAMP:20260423T152840
CREATED:20230901T220115Z
LAST-MODIFIED:20230901T220115Z
UID:10000157-1693836000-1693839600@calendario.actualizandome.com
SUMMARY:De Obligaciones y de Derechos - Las Acciones de Vigilancia Profunda - #BarraActualizandome
DESCRIPTION:
URL:https://calendario.actualizandome.com/event/de-obligaciones-y-de-derechos-las-acciones-de-vigilancia-profunda-barraactualizandome/
CATEGORIES:Aula Virtual
ATTACH;FMTTYPE=image/png:https://calendario.actualizandome.com/wp-content/uploads/2023/09/obligaciones.png
END:VEVENT
END:VCALENDAR