BEGIN:VCALENDAR
VERSION:2.0
PRODID:-//ACTUALIZANDOME - ECPv6.15.16//NONSGML v1.0//EN
CALSCALE:GREGORIAN
METHOD:PUBLISH
X-ORIGINAL-URL:https://calendario.actualizandome.com
X-WR-CALDESC:Eventos para ACTUALIZANDOME
REFRESH-INTERVAL;VALUE=DURATION:PT1H
X-Robots-Tag:noindex
X-PUBLISHED-TTL:PT1H
BEGIN:VTIMEZONE
TZID:America/Mexico_City
BEGIN:DAYLIGHT
TZOFFSETFROM:-0600
TZOFFSETTO:-0500
TZNAME:CDT
DTSTART:20220403T080000
END:DAYLIGHT
BEGIN:STANDARD
TZOFFSETFROM:-0500
TZOFFSETTO:-0600
TZNAME:CST
DTSTART:20221030T070000
END:STANDARD
END:VTIMEZONE
BEGIN:VEVENT
DTSTART;TZID=America/Mexico_City:20230919T110000
DTEND;TZID=America/Mexico_City:20230919T120000
DTSTAMP:20260423T080047
CREATED:20230919T000737Z
LAST-MODIFIED:20230919T000737Z
UID:10000241-1695121200-1695124800@calendario.actualizandome.com
SUMMARY:Hora PRODECON - #BarraActualizandome
DESCRIPTION:
URL:https://calendario.actualizandome.com/event/hora-prodecon-barraactualizandome-2/
CATEGORIES:Aula Virtual
ATTACH;FMTTYPE=image/png:https://calendario.actualizandome.com/wp-content/uploads/2023/09/prodecon-1.png
END:VEVENT
BEGIN:VEVENT
DTSTART;TZID=America/Mexico_City:20230919T100000
DTEND;TZID=America/Mexico_City:20230919T110000
DTSTAMP:20260423T080047
CREATED:20230919T000604Z
LAST-MODIFIED:20230919T000604Z
UID:10000240-1695117600-1695121200@calendario.actualizandome.com
SUMMARY:Leones Tributarios - #BarraActualizandome
DESCRIPTION:
URL:https://calendario.actualizandome.com/event/leones-tributarios-barraactualizandome-2/
CATEGORIES:Aula Virtual
ATTACH;FMTTYPE=image/png:https://calendario.actualizandome.com/wp-content/uploads/2023/09/leones-1.png
END:VEVENT
BEGIN:VEVENT
DTSTART;VALUE=DATE:20230919
DTEND;VALUE=DATE:20230920
DTSTAMP:20260423T080047
CREATED:20230913T223039Z
LAST-MODIFIED:20230919T000504Z
UID:10000223-1695081600-1695167999@calendario.actualizandome.com
SUMMARY:Programación de la Barra Actualizandome
DESCRIPTION:
URL:https://calendario.actualizandome.com/event/programacion-de-la-barra-actualizandome-30/
CATEGORIES:Aula Virtual
ATTACH;FMTTYPE=image/png:https://calendario.actualizandome.com/wp-content/uploads/2023/09/MARTES-2.png
END:VEVENT
BEGIN:VEVENT
DTSTART;TZID=America/Mexico_City:20230918T180000
DTEND;TZID=America/Mexico_City:20230918T190000
DTSTAMP:20260423T080047
CREATED:20230915T201105Z
LAST-MODIFIED:20230915T201206Z
UID:10000239-1695060000-1695063600@calendario.actualizandome.com
SUMMARY:La Hora de la ASCP - Estímulo IVA en Servicios Parciales de Obra de Edificación de Casa Habitación - #BarraActualizandome
DESCRIPTION:
URL:https://calendario.actualizandome.com/event/la-hora-de-la-ascp-estimulo-iva-en-servicios-parciales-de-obra-de-edificacion-de-casa-habitacion-barraactualizandome/
CATEGORIES:Aula Virtual
ATTACH;FMTTYPE=image/png:https://calendario.actualizandome.com/wp-content/uploads/2023/09/ascp-1.png
END:VEVENT
BEGIN:VEVENT
DTSTART;TZID=America/Mexico_City:20230918T170000
DTEND;TZID=America/Mexico_City:20230918T180000
DTSTAMP:20260423T080047
CREATED:20230915T200831Z
LAST-MODIFIED:20230915T200831Z
UID:10000238-1695056400-1695060000@calendario.actualizandome.com
SUMMARY:Conoce las Finanzas - Propuestas Para 2024 - #BarraActualizandome
DESCRIPTION:
URL:https://calendario.actualizandome.com/event/conoce-las-finanzas-propuestas-para-2024-barraactualizandome/
CATEGORIES:Aula Virtual
ATTACH;FMTTYPE=image/png:https://calendario.actualizandome.com/wp-content/uploads/2023/09/finanzas-1.png
END:VEVENT
BEGIN:VEVENT
DTSTART;TZID=America/Mexico_City:20230918T140000
DTEND;TZID=America/Mexico_City:20230918T150000
DTSTAMP:20260423T080047
CREATED:20230915T200627Z
LAST-MODIFIED:20230915T200627Z
UID:10000237-1695045600-1695049200@calendario.actualizandome.com
SUMMARY:De Obligaciones y de Derechos - Mitos en Materia de Devoluciones - #BarraActualizandome
DESCRIPTION:
URL:https://calendario.actualizandome.com/event/de-obligaciones-y-de-derechos-mitos-en-materia-de-devoluciones-barraactualizandome/
CATEGORIES:Aula Virtual
ATTACH;FMTTYPE=image/png:https://calendario.actualizandome.com/wp-content/uploads/2023/09/obligaciones-1.png
END:VEVENT
BEGIN:VEVENT
DTSTART;TZID=America/Mexico_City:20230918T130000
DTEND;TZID=America/Mexico_City:20230918T140000
DTSTAMP:20260423T080047
CREATED:20230915T200347Z
LAST-MODIFIED:20230918T175946Z
UID:10000236-1695042000-1695045600@calendario.actualizandome.com
SUMMARY:Presentación de la Revista Digital Actualizandome No. 137 - #BarraActualizandome
DESCRIPTION:
URL:https://calendario.actualizandome.com/event/la-hora-cncp-impuestos-estatales-4ta-parte-barraactualizandome/
CATEGORIES:Aula Virtual
ATTACH;FMTTYPE=image/png:https://calendario.actualizandome.com/wp-content/uploads/2023/09/revista-2.png
END:VEVENT
BEGIN:VEVENT
DTSTART;TZID=America/Mexico_City:20230918T120000
DTEND;TZID=America/Mexico_City:20230918T130000
DTSTAMP:20260423T080047
CREATED:20230915T200028Z
LAST-MODIFIED:20230918T160424Z
UID:10000235-1695038400-1695042000@calendario.actualizandome.com
SUMMARY:Panorama Empresarial - La Relevancia de la Propiedad Intelectual en el Emprendimiento #BarraActualizandome
DESCRIPTION:
URL:https://calendario.actualizandome.com/event/panorama-empresarial-barraactualizandome-3/
CATEGORIES:Aula Virtual
ATTACH;FMTTYPE=image/png:https://calendario.actualizandome.com/wp-content/uploads/2023/09/panorama-2.png
END:VEVENT
BEGIN:VEVENT
DTSTART;TZID=America/Mexico_City:20230918T110000
DTEND;TZID=America/Mexico_City:20230918T120000
DTSTAMP:20260423T080047
CREATED:20230915T195843Z
LAST-MODIFIED:20230915T195843Z
UID:10000234-1695034800-1695038400@calendario.actualizandome.com
SUMMARY:Expresión Fiscal - El Beneficiario Controlador\, Versión 2023 - #BarraActualizandome
DESCRIPTION:
URL:https://calendario.actualizandome.com/event/expresion-fiscal-el-beneficiario-controlador-version-2023-barraactualizandome/
CATEGORIES:Aula Virtual
ATTACH;FMTTYPE=image/png:https://calendario.actualizandome.com/wp-content/uploads/2023/09/expresion.png
END:VEVENT
BEGIN:VEVENT
DTSTART;TZID=America/Mexico_City:20230918T100000
DTEND;TZID=America/Mexico_City:20230918T110000
DTSTAMP:20260423T080047
CREATED:20230915T195651Z
LAST-MODIFIED:20230915T195651Z
UID:10000233-1695031200-1695034800@calendario.actualizandome.com
SUMMARY:Conociendo Actualizandome - #BarraActualizandome
DESCRIPTION:
URL:https://calendario.actualizandome.com/event/conociendo-actualizandome-barraactualizandome-3/
CATEGORIES:Aula Virtual
END:VEVENT
BEGIN:VEVENT
DTSTART;VALUE=DATE:20230918
DTEND;VALUE=DATE:20230919
DTSTAMP:20260423T080047
CREATED:20230913T222915Z
LAST-MODIFIED:20230918T175127Z
UID:10000222-1694995200-1695081599@calendario.actualizandome.com
SUMMARY:Programación de la Barra Actualizandome
DESCRIPTION:
URL:https://calendario.actualizandome.com/event/programacion-de-la-barra-actualizandome-29/
CATEGORIES:Aula Virtual
ATTACH;FMTTYPE=image/png:https://calendario.actualizandome.com/wp-content/uploads/2023/09/LUNES-2.png
END:VEVENT
BEGIN:VEVENT
DTSTART;TZID=America/Mexico_City:20230915T180000
DTEND;TZID=America/Mexico_City:20230915T190000
DTSTAMP:20260423T080047
CREATED:20230914T173100Z
LAST-MODIFIED:20230914T173100Z
UID:10000232-1694800800-1694804400@calendario.actualizandome.com
SUMMARY:Tres a las Seis - #BarraActualizandome
DESCRIPTION:
URL:https://calendario.actualizandome.com/event/tres-a-las-seis-barraactualizandome-3/
CATEGORIES:Aula Virtual
ATTACH;FMTTYPE=image/png:https://calendario.actualizandome.com/wp-content/uploads/2023/09/tres.png
END:VEVENT
BEGIN:VEVENT
DTSTART;TZID=America/Mexico_City:20230915T170000
DTEND;TZID=America/Mexico_City:20230915T180000
DTSTAMP:20260423T080047
CREATED:20230914T172941Z
LAST-MODIFIED:20230914T172941Z
UID:10000231-1694797200-1694800800@calendario.actualizandome.com
SUMMARY:Está Bien No Estar Bien - #BarraActualizandome
DESCRIPTION:
URL:https://calendario.actualizandome.com/event/esta-bien-no-estar-bien-barraactualizandome-3/
CATEGORIES:Aula Virtual
ATTACH;FMTTYPE=image/png:https://calendario.actualizandome.com/wp-content/uploads/2023/09/bien.png
END:VEVENT
BEGIN:VEVENT
DTSTART;TZID=America/Mexico_City:20230915T130000
DTEND;TZID=America/Mexico_City:20230915T140000
DTSTAMP:20260423T080047
CREATED:20230914T172813Z
LAST-MODIFIED:20230914T172813Z
UID:10000230-1694782800-1694786400@calendario.actualizandome.com
SUMMARY:El Mundo más allá de lo Contable y Fiscal - #BarraActualizandome
DESCRIPTION:
URL:https://calendario.actualizandome.com/event/el-mundo-mas-alla-de-lo-contable-y-fiscal-barraactualizandome-3/
CATEGORIES:Aula Virtual
ATTACH;FMTTYPE=image/png:https://calendario.actualizandome.com/wp-content/uploads/2023/09/mundo-1.png
END:VEVENT
BEGIN:VEVENT
DTSTART;TZID=America/Mexico_City:20230915T120000
DTEND;TZID=America/Mexico_City:20230915T130000
DTSTAMP:20260423T080047
CREATED:20230914T172629Z
LAST-MODIFIED:20230914T172629Z
UID:10000229-1694779200-1694782800@calendario.actualizandome.com
SUMMARY:Contabilidad y Algo Más - Ética - #BarraActualizandome
DESCRIPTION:
URL:https://calendario.actualizandome.com/event/contabilidad-y-algo-mas-etica-barraactualizandome/
CATEGORIES:Aula Virtual
ATTACH;FMTTYPE=image/png:https://calendario.actualizandome.com/wp-content/uploads/2023/09/contab-2.png
END:VEVENT
BEGIN:VEVENT
DTSTART;TZID=America/Mexico_City:20230915T110000
DTEND;TZID=America/Mexico_City:20230915T120000
DTSTAMP:20260423T080047
CREATED:20230914T172410Z
LAST-MODIFIED:20230914T172410Z
UID:10000228-1694775600-1694779200@calendario.actualizandome.com
SUMMARY:Metamorfosis - Pilares de Prosperidad - #BarraActualizandome
DESCRIPTION:
URL:https://calendario.actualizandome.com/event/metamorfosis-pilares-de-prosperidad-barraactualizandome/
CATEGORIES:Aula Virtual
ATTACH;FMTTYPE=image/png:https://calendario.actualizandome.com/wp-content/uploads/2023/09/meta.png
END:VEVENT
BEGIN:VEVENT
DTSTART;TZID=America/Mexico_City:20230915T100000
DTEND;TZID=America/Mexico_City:20230915T110000
DTSTAMP:20260423T080047
CREATED:20230914T172145Z
LAST-MODIFIED:20230914T172145Z
UID:10000227-1694772000-1694775600@calendario.actualizandome.com
SUMMARY:Sembrando el Conocimiento - #BarraActualizandome
DESCRIPTION:
URL:https://calendario.actualizandome.com/event/sembrando-el-conocimiento-barraactualizandome-3/
CATEGORIES:Aula Virtual
ATTACH;FMTTYPE=image/png:https://calendario.actualizandome.com/wp-content/uploads/2023/09/sembrando.png
END:VEVENT
BEGIN:VEVENT
DTSTART;VALUE=DATE:20230915
DTEND;VALUE=DATE:20230916
DTSTAMP:20260423T080047
CREATED:20230907T214817Z
LAST-MODIFIED:20230907T214817Z
UID:10000194-1694736000-1694822399@calendario.actualizandome.com
SUMMARY:Programación de la Barra Actualizandome
DESCRIPTION:
URL:https://calendario.actualizandome.com/event/programacion-de-la-barra-actualizandome-28/
CATEGORIES:Aula Virtual
ATTACH;FMTTYPE=image/png:https://calendario.actualizandome.com/wp-content/uploads/2023/09/viernes.png
END:VEVENT
BEGIN:VEVENT
DTSTART;TZID=America/Mexico_City:20230914T180000
DTEND;TZID=America/Mexico_City:20230914T190000
DTSTAMP:20260423T080047
CREATED:20230913T175306Z
LAST-MODIFIED:20230914T154207Z
UID:10000220-1694714400-1694718000@calendario.actualizandome.com
SUMMARY:Club de Reglas - #BarraActualizandome
DESCRIPTION:
URL:https://calendario.actualizandome.com/event/la-hora-cncp-r-barraactualizandome/
CATEGORIES:Aula Virtual
ATTACH;FMTTYPE=image/png:https://calendario.actualizandome.com/wp-content/uploads/2023/09/club.png
END:VEVENT
BEGIN:VEVENT
DTSTART;TZID=America/Mexico_City:20230914T170000
DTEND;TZID=America/Mexico_City:20230914T180000
DTSTAMP:20260423T080047
CREATED:20230913T174558Z
LAST-MODIFIED:20230914T200601Z
UID:10000219-1694710800-1694714400@calendario.actualizandome.com
SUMMARY:Consultoría Fiscal Empresarial - Extinción de Créditos Fiscales - #BarraActualizandome
DESCRIPTION:
URL:https://calendario.actualizandome.com/event/consultoria-fiscal-empresarial-barraactualizandome-2/
CATEGORIES:Aula Virtual
ATTACH;FMTTYPE=image/png:https://calendario.actualizandome.com/wp-content/uploads/2023/09/consultoria-1.png
END:VEVENT
BEGIN:VEVENT
DTSTART;TZID=America/Mexico_City:20230914T130000
DTEND;TZID=America/Mexico_City:20230914T140000
DTSTAMP:20260423T080047
CREATED:20230913T172927Z
LAST-MODIFIED:20230913T172927Z
UID:10000217-1694696400-1694700000@calendario.actualizandome.com
SUMMARY:Participando en Grupo - #BarraActualizandome
DESCRIPTION:
URL:https://calendario.actualizandome.com/event/participando-en-grupo-barraactualizandome-2/
CATEGORIES:Aula Virtual
ATTACH;FMTTYPE=image/png:https://calendario.actualizandome.com/wp-content/uploads/2023/09/participando.png
END:VEVENT
BEGIN:VEVENT
DTSTART;TZID=America/Mexico_City:20230914T120000
DTEND;TZID=America/Mexico_City:20230914T130000
DTSTAMP:20260423T080047
CREATED:20230913T172726Z
LAST-MODIFIED:20230913T172726Z
UID:10000216-1694692800-1694696400@calendario.actualizandome.com
SUMMARY:Diálogos Fiscales - #BarraActualizandome
DESCRIPTION:
URL:https://calendario.actualizandome.com/event/dialogos-fiscales-barraactualizandome-2/
CATEGORIES:Aula Virtual
ATTACH;FMTTYPE=image/png:https://calendario.actualizandome.com/wp-content/uploads/2023/09/dialogos.png
END:VEVENT
BEGIN:VEVENT
DTSTART;TZID=America/Mexico_City:20230914T110000
DTEND;TZID=America/Mexico_City:20230914T120000
DTSTAMP:20260423T080047
CREATED:20230913T184713Z
LAST-MODIFIED:20230913T222719Z
UID:10000221-1694689200-1694692800@calendario.actualizandome.com
SUMMARY:JB El Fiscal - Normas Información Financiera E-1 Actividades Agripecuarias - #BarraActualizandome
DESCRIPTION:
URL:https://calendario.actualizandome.com/event/jb-el-fiscal-barraactualizandome-3/
CATEGORIES:Aula Virtual
ATTACH;FMTTYPE=image/jpeg:https://calendario.actualizandome.com/wp-content/uploads/2023/09/jb.jpg
END:VEVENT
BEGIN:VEVENT
DTSTART;TZID=America/Mexico_City:20230914T100000
DTEND;TZID=America/Mexico_City:20230914T110000
DTSTAMP:20260423T080047
CREATED:20230913T170040Z
LAST-MODIFIED:20230913T170751Z
UID:10000215-1694685600-1694689200@calendario.actualizandome.com
SUMMARY:En Sintonía Fiscal - #BarraActualizandome
DESCRIPTION:
URL:https://calendario.actualizandome.com/event/en-sintonia-fiscal-barraactualizandome/
CATEGORIES:Aula Virtual
ATTACH;FMTTYPE=image/png:https://calendario.actualizandome.com/wp-content/uploads/2023/09/sintonia.png
END:VEVENT
BEGIN:VEVENT
DTSTART;VALUE=DATE:20230914
DTEND;VALUE=DATE:20230915
DTSTAMP:20260423T080047
CREATED:20230907T214722Z
LAST-MODIFIED:20230914T153511Z
UID:10000193-1694649600-1694735999@calendario.actualizandome.com
SUMMARY:Programación de la Barra Actualizandome
DESCRIPTION:
URL:https://calendario.actualizandome.com/event/programacion-de-la-barra-actualizandome-27/
CATEGORIES:Aula Virtual
ATTACH;FMTTYPE=image/png:https://calendario.actualizandome.com/wp-content/uploads/2023/09/JUEVES-2.png
END:VEVENT
BEGIN:VEVENT
DTSTART;TZID=America/Mexico_City:20230913T180000
DTEND;TZID=America/Mexico_City:20230913T190000
DTSTAMP:20260423T080047
CREATED:20230912T213832Z
LAST-MODIFIED:20230913T165748Z
UID:10000212-1694628000-1694631600@calendario.actualizandome.com
SUMMARY:Sesión Interactiva de la Revista Digital Actualizandome Edición 135 - 2da Parte - #BarraActualizandome
DESCRIPTION:
URL:https://calendario.actualizandome.com/event/mitos-y-realidades-tributarias-barraactualizandome-3/
CATEGORIES:Aula Virtual
ATTACH;FMTTYPE=image/png:https://calendario.actualizandome.com/wp-content/uploads/2023/09/interactiva-1.png
END:VEVENT
BEGIN:VEVENT
DTSTART;TZID=America/Mexico_City:20230913T170000
DTEND;TZID=America/Mexico_City:20230913T180000
DTSTAMP:20260423T080047
CREATED:20230912T213700Z
LAST-MODIFIED:20230912T213700Z
UID:10000211-1694624400-1694628000@calendario.actualizandome.com
SUMMARY:Sinergia Laboral InfonavImss - (R) - #BarraActualizandome
DESCRIPTION:
URL:https://calendario.actualizandome.com/event/sinergia-laboral-infonavimss-r-barraactualizandome-2/
CATEGORIES:Aula Virtual
ATTACH;FMTTYPE=image/png:https://calendario.actualizandome.com/wp-content/uploads/2023/09/infinav.png
END:VEVENT
BEGIN:VEVENT
DTSTART;TZID=America/Mexico_City:20230913T140000
DTEND;TZID=America/Mexico_City:20230913T150000
DTSTAMP:20260423T080047
CREATED:20230912T233025Z
LAST-MODIFIED:20230913T165326Z
UID:10000213-1694613600-1694617200@calendario.actualizandome.com
SUMMARY:Quadrando la Info - Más Temas Sobre Facturación - #BarraActualizandome
DESCRIPTION:
URL:https://calendario.actualizandome.com/event/quadrando-la-info-barraactualizandome-2/
CATEGORIES:Aula Virtual
ATTACH;FMTTYPE=image/png:https://calendario.actualizandome.com/wp-content/uploads/2023/09/quadra-1.png
END:VEVENT
BEGIN:VEVENT
DTSTART;TZID=America/Mexico_City:20230913T130000
DTEND;TZID=America/Mexico_City:20230913T140000
DTSTAMP:20260423T080047
CREATED:20230912T213341Z
LAST-MODIFIED:20230912T213456Z
UID:10000210-1694610000-1694613600@calendario.actualizandome.com
SUMMARY:Contabilidad y Leyes Fiscales - #BarraActualizandome
DESCRIPTION:
URL:https://calendario.actualizandome.com/event/27388/
CATEGORIES:Aula Virtual
ATTACH;FMTTYPE=image/png:https://calendario.actualizandome.com/wp-content/uploads/2023/09/contab-1.png
END:VEVENT
BEGIN:VEVENT
DTSTART;TZID=America/Mexico_City:20230913T120000
DTEND;TZID=America/Mexico_City:20230913T140000
DTSTAMP:20260423T080047
CREATED:20230912T233332Z
LAST-MODIFIED:20230912T233332Z
UID:10000214-1694606400-1694613600@calendario.actualizandome.com
SUMMARY:La Hora AMCPMX - (R) - #BarraActualizandome
DESCRIPTION:
URL:https://calendario.actualizandome.com/event/la-hora-amcpmx-r-barraactualizandome/
CATEGORIES:Aula Virtual
END:VEVENT
END:VCALENDAR