BEGIN:VCALENDAR
VERSION:2.0
PRODID:-//ACTUALIZANDOME - ECPv6.15.16//NONSGML v1.0//EN
CALSCALE:GREGORIAN
METHOD:PUBLISH
X-WR-CALNAME:ACTUALIZANDOME
X-ORIGINAL-URL:https://calendario.actualizandome.com
X-WR-CALDESC:Eventos para ACTUALIZANDOME
REFRESH-INTERVAL;VALUE=DURATION:PT1H
X-Robots-Tag:noindex
X-PUBLISHED-TTL:PT1H
BEGIN:VTIMEZONE
TZID:America/Mexico_City
BEGIN:DAYLIGHT
TZOFFSETFROM:-0600
TZOFFSETTO:-0500
TZNAME:CDT
DTSTART:20220403T080000
END:DAYLIGHT
BEGIN:STANDARD
TZOFFSETFROM:-0500
TZOFFSETTO:-0600
TZNAME:CST
DTSTART:20221030T070000
END:STANDARD
END:VTIMEZONE
BEGIN:VTIMEZONE
TZID:America/New_York
BEGIN:DAYLIGHT
TZOFFSETFROM:-0500
TZOFFSETTO:-0400
TZNAME:EDT
DTSTART:20220313T070000
END:DAYLIGHT
BEGIN:STANDARD
TZOFFSETFROM:-0400
TZOFFSETTO:-0500
TZNAME:EST
DTSTART:20221106T060000
END:STANDARD
BEGIN:DAYLIGHT
TZOFFSETFROM:-0500
TZOFFSETTO:-0400
TZNAME:EDT
DTSTART:20230312T070000
END:DAYLIGHT
BEGIN:STANDARD
TZOFFSETFROM:-0400
TZOFFSETTO:-0500
TZNAME:EST
DTSTART:20231105T060000
END:STANDARD
BEGIN:DAYLIGHT
TZOFFSETFROM:-0500
TZOFFSETTO:-0400
TZNAME:EDT
DTSTART:20240310T070000
END:DAYLIGHT
BEGIN:STANDARD
TZOFFSETFROM:-0400
TZOFFSETTO:-0500
TZNAME:EST
DTSTART:20241103T060000
END:STANDARD
END:VTIMEZONE
BEGIN:VEVENT
DTSTART;TZID=America/Mexico_City:20230925T170000
DTEND;TZID=America/Mexico_City:20230925T180000
DTSTAMP:20260423T032629
CREATED:20230925T155833Z
LAST-MODIFIED:20230925T160007Z
UID:10000277-1695661200-1695664800@calendario.actualizandome.com
SUMMARY:Foco Financiero - (R) - #BarraActualizandome
DESCRIPTION:
URL:https://calendario.actualizandome.com/event/foco-financiero-r-barraactualizandome-3/
CATEGORIES:Aula Virtual
ATTACH;FMTTYPE=image/png:https://calendario.actualizandome.com/wp-content/uploads/2023/09/foco-3.png
END:VEVENT
BEGIN:VEVENT
DTSTART;TZID=America/Mexico_City:20230925T140000
DTEND;TZID=America/Mexico_City:20230925T150000
DTSTAMP:20260423T032629
CREATED:20230925T155656Z
LAST-MODIFIED:20230925T155656Z
UID:10000276-1695650400-1695654000@calendario.actualizandome.com
SUMMARY:Enlazando las Profesiones - #BarraActualizandome
DESCRIPTION:
URL:https://calendario.actualizandome.com/event/enlazando-las-profesiones-barraactualizandome-4/
CATEGORIES:Aula Virtual
ATTACH;FMTTYPE=image/png:https://calendario.actualizandome.com/wp-content/uploads/2023/09/enlazando-1.png
END:VEVENT
BEGIN:VEVENT
DTSTART;TZID=America/Mexico_City:20230925T130000
DTEND;TZID=America/Mexico_City:20230925T140000
DTSTAMP:20260423T032629
CREATED:20230925T155546Z
LAST-MODIFIED:20230925T182644Z
UID:10000275-1695646800-1695650400@calendario.actualizandome.com
SUMMARY:La Hora CNCP - Experiencia de la CONVENCIÓN CNCPMX VERACRUZ 2023 -  #BarraActualizandome
DESCRIPTION:
URL:https://calendario.actualizandome.com/event/la-hora-cncp-impuestos-estatales-4ta-parte-barraactualizandome-2/
CATEGORIES:Aula Virtual
ATTACH;FMTTYPE=image/png:https://calendario.actualizandome.com/wp-content/uploads/2023/09/cncp-12.png
END:VEVENT
BEGIN:VEVENT
DTSTART;TZID=America/Mexico_City:20230925T120000
DTEND;TZID=America/Mexico_City:20230925T130000
DTSTAMP:20260423T032629
CREATED:20230925T155434Z
LAST-MODIFIED:20230925T155434Z
UID:10000274-1695643200-1695646800@calendario.actualizandome.com
SUMMARY:El Derecho y su Círculo de Acción - Principios Generales del Derecho Laboral - #BarraActualizandome
DESCRIPTION:
URL:https://calendario.actualizandome.com/event/el-derecho-y-su-circulo-de-accion-principios-generales-del-derecho-laboral-barraactualizandome/
CATEGORIES:Aula Virtual
ATTACH;FMTTYPE=image/png:https://calendario.actualizandome.com/wp-content/uploads/2023/09/circulo.png
END:VEVENT
BEGIN:VEVENT
DTSTART;TZID=America/Mexico_City:20230925T110000
DTEND;TZID=America/Mexico_City:20230925T120000
DTSTAMP:20260423T032629
CREATED:20230925T155136Z
LAST-MODIFIED:20230925T155136Z
UID:10000273-1695639600-1695643200@calendario.actualizandome.com
SUMMARY:Hablemos del Código Fiscal - #BarraActualizandome
DESCRIPTION:
URL:https://calendario.actualizandome.com/event/hablemos-del-codigo-fiscal-barraactualizandome-4/
CATEGORIES:Aula Virtual
ATTACH;FMTTYPE=image/png:https://calendario.actualizandome.com/wp-content/uploads/2023/09/codigo-1.png
END:VEVENT
BEGIN:VEVENT
DTSTART;TZID=America/Mexico_City:20230925T100000
DTEND;TZID=America/Mexico_City:20230925T110000
DTSTAMP:20260423T032629
CREATED:20230925T154913Z
LAST-MODIFIED:20230925T154913Z
UID:10000272-1695636000-1695639600@calendario.actualizandome.com
SUMMARY:Los Derechos Humanos en Serio - #BarraActualizandome
DESCRIPTION:
URL:https://calendario.actualizandome.com/event/los-derechos-humanos-en-serio-barraactualizandome-3/
CATEGORIES:Aula Virtual
ATTACH;FMTTYPE=image/png:https://calendario.actualizandome.com/wp-content/uploads/2023/09/derechos-3.png
END:VEVENT
BEGIN:VEVENT
DTSTART;VALUE=DATE:20230925
DTEND;VALUE=DATE:20230926
DTSTAMP:20260423T032629
CREATED:20230920T181946Z
LAST-MODIFIED:20230920T181946Z
UID:10000267-1695600000-1695686399@calendario.actualizandome.com
SUMMARY:Programación de la Barra Actualizandome
DESCRIPTION:
URL:https://calendario.actualizandome.com/event/programacion-de-la-barra-actualizandome-34/
CATEGORIES:Aula Virtual
ATTACH;FMTTYPE=image/png:https://calendario.actualizandome.com/wp-content/uploads/2023/09/lunes-3.png
END:VEVENT
BEGIN:VEVENT
DTSTART;TZID=America/Mexico_City:20230922T180000
DTEND;TZID=America/Mexico_City:20230922T190000
DTSTAMP:20260423T032629
CREATED:20230920T172951Z
LAST-MODIFIED:20230920T172951Z
UID:10000266-1695405600-1695409200@calendario.actualizandome.com
SUMMARY:Defensores - (R) - #BarraActualizandome
DESCRIPTION:
URL:https://calendario.actualizandome.com/event/defensores-r-barraactualizandome/
CATEGORIES:Aula Virtual
ATTACH;FMTTYPE=image/png:https://calendario.actualizandome.com/wp-content/uploads/2023/09/defensores-1.png
END:VEVENT
BEGIN:VEVENT
DTSTART;TZID=America/Mexico_City:20230922T170000
DTEND;TZID=America/Mexico_City:20230922T180000
DTSTAMP:20260423T032629
CREATED:20230920T172546Z
LAST-MODIFIED:20230920T172546Z
UID:10000265-1695402000-1695405600@calendario.actualizandome.com
SUMMARY:Frecuencia Empresarial - #BarraActualizandome
DESCRIPTION:
URL:https://calendario.actualizandome.com/event/frecuencia-empresarial-barraactualizandome-3/
CATEGORIES:Aula Virtual
ATTACH;FMTTYPE=image/png:https://calendario.actualizandome.com/wp-content/uploads/2023/09/expresion-1.png
END:VEVENT
BEGIN:VEVENT
DTSTART;TZID=America/Mexico_City:20230922T130000
DTEND;TZID=America/Mexico_City:20230922T140000
DTSTAMP:20260423T032629
CREATED:20230920T172216Z
LAST-MODIFIED:20230920T172216Z
UID:10000264-1695387600-1695391200@calendario.actualizandome.com
SUMMARY:Compilación Fiscal - #BarraActualizandome
DESCRIPTION:
URL:https://calendario.actualizandome.com/event/compilacion-fiscal-barraactualizandome-3/
CATEGORIES:Aula Virtual
ATTACH;FMTTYPE=image/png:https://calendario.actualizandome.com/wp-content/uploads/2023/09/compilacion-1.png
END:VEVENT
BEGIN:VEVENT
DTSTART;TZID=America/Mexico_City:20230922T120000
DTEND;TZID=America/Mexico_City:20230922T130000
DTSTAMP:20260423T032629
CREATED:20230920T171950Z
LAST-MODIFIED:20230920T171950Z
UID:10000263-1695384000-1695387600@calendario.actualizandome.com
SUMMARY:Hablemos del Dictamen Fiscal - #BarraActualizandome
DESCRIPTION:
URL:https://calendario.actualizandome.com/event/hablemos-del-dictamen-fiscal-barraactualizandome-3/
CATEGORIES:Aula Virtual
ATTACH;FMTTYPE=image/png:https://calendario.actualizandome.com/wp-content/uploads/2023/09/dictamen-1.png
END:VEVENT
BEGIN:VEVENT
DTSTART;TZID=America/Mexico_City:20230922T110000
DTEND;TZID=America/Mexico_City:20230922T120000
DTSTAMP:20260423T032629
CREATED:20230920T171821Z
LAST-MODIFIED:20230920T171821Z
UID:10000262-1695380400-1695384000@calendario.actualizandome.com
SUMMARY:Yin Yang Fiscal - #BarraActualizandome
DESCRIPTION:
URL:https://calendario.actualizandome.com/event/yin-yang-fiscal-barraactualizandome-4/
CATEGORIES:Aula Virtual
ATTACH;FMTTYPE=image/png:https://calendario.actualizandome.com/wp-content/uploads/2023/09/yin-1.png
END:VEVENT
BEGIN:VEVENT
DTSTART;TZID=America/Mexico_City:20230922T100000
DTEND;TZID=America/Mexico_City:20230922T110000
DTSTAMP:20260423T032629
CREATED:20230920T171703Z
LAST-MODIFIED:20230920T171703Z
UID:10000261-1695376800-1695380400@calendario.actualizandome.com
SUMMARY:Conociendo el Mundo Fiscal - #BarraActualizandome
DESCRIPTION:
URL:https://calendario.actualizandome.com/event/conociendo-el-mundo-fiscal-barraactualizandome-4/
CATEGORIES:Aula Virtual
ATTACH;FMTTYPE=image/png:https://calendario.actualizandome.com/wp-content/uploads/2023/09/mundof.png
END:VEVENT
BEGIN:VEVENT
DTSTART;VALUE=DATE:20230922
DTEND;VALUE=DATE:20230923
DTSTAMP:20260423T032629
CREATED:20230913T233249Z
LAST-MODIFIED:20230913T233249Z
UID:10000226-1695340800-1695427199@calendario.actualizandome.com
SUMMARY:Programación de la Barra Actualizandome
DESCRIPTION:
URL:https://calendario.actualizandome.com/event/programacion-de-la-barra-actualizandome-33/
CATEGORIES:Aula Virtual
ATTACH;FMTTYPE=image/png:https://calendario.actualizandome.com/wp-content/uploads/2023/09/VIERNES-1.png
END:VEVENT
BEGIN:VEVENT
DTSTART;TZID=America/Mexico_City:20230921T170000
DTEND;TZID=America/Mexico_City:20230921T180000
DTSTAMP:20260423T032629
CREATED:20230920T171022Z
LAST-MODIFIED:20230920T171022Z
UID:10000260-1695315600-1695319200@calendario.actualizandome.com
SUMMARY:Defensa Fiscal Práctica - #BarraActualizandome
DESCRIPTION:
URL:https://calendario.actualizandome.com/event/defensa-fiscal-practica-barraactualizandome-4/
CATEGORIES:Aula Virtual
ATTACH;FMTTYPE=image/png:https://calendario.actualizandome.com/wp-content/uploads/2023/09/defensa-2.png
END:VEVENT
BEGIN:VEVENT
DTSTART;TZID=America/Mexico_City:20230921T140000
DTEND;TZID=America/Mexico_City:20230921T150000
DTSTAMP:20260423T032629
CREATED:20230920T170837Z
LAST-MODIFIED:20230920T170837Z
UID:10000259-1695304800-1695308400@calendario.actualizandome.com
SUMMARY:Tecnología Práctica - #BarraActualizandome
DESCRIPTION:
URL:https://calendario.actualizandome.com/event/tecnologia-practica-barraactualizandome-4/
CATEGORIES:Aula Virtual
ATTACH;FMTTYPE=image/png:https://calendario.actualizandome.com/wp-content/uploads/2023/09/tecnologia-1.png
END:VEVENT
BEGIN:VEVENT
DTSTART;TZID=America/Mexico_City:20230921T130000
DTEND;TZID=America/Mexico_City:20230921T140000
DTSTAMP:20260423T032629
CREATED:20230920T170035Z
LAST-MODIFIED:20230920T170035Z
UID:10000258-1695301200-1695304800@calendario.actualizandome.com
SUMMARY:Noticias en Actualizandome - #BarraActualizandome
DESCRIPTION:
URL:https://calendario.actualizandome.com/event/noticias-en-actualizandome-barraactualizandome-6/
CATEGORIES:Aula Virtual
ATTACH;FMTTYPE=image/png:https://calendario.actualizandome.com/wp-content/uploads/2023/09/noticias-2.png
END:VEVENT
BEGIN:VEVENT
DTSTART;TZID=America/Mexico_City:20230921T120000
DTEND;TZID=America/Mexico_City:20230921T130000
DTSTAMP:20260423T032629
CREATED:20230920T164830Z
LAST-MODIFIED:20230920T164830Z
UID:10000257-1695297600-1695301200@calendario.actualizandome.com
SUMMARY:Derechos Humanos en Serio - (R) - #BarraActualizandome
DESCRIPTION:
URL:https://calendario.actualizandome.com/event/derechos-humanos-en-serio-r-barraactualizandome-3/
CATEGORIES:Aula Virtual
ATTACH;FMTTYPE=image/png:https://calendario.actualizandome.com/wp-content/uploads/2023/09/derechos-2.png
END:VEVENT
BEGIN:VEVENT
DTSTART;TZID=America/Mexico_City:20230921T110000
DTEND;TZID=America/Mexico_City:20230921T120000
DTSTAMP:20260423T032629
CREATED:20230920T163652Z
LAST-MODIFIED:20230920T163652Z
UID:10000256-1695294000-1695297600@calendario.actualizandome.com
SUMMARY:Simetría Fiscal - #BarraActualizandome
DESCRIPTION:
URL:https://calendario.actualizandome.com/event/simetria-fiscal-barraactualizandome-3/
CATEGORIES:Aula Virtual
ATTACH;FMTTYPE=image/png:https://calendario.actualizandome.com/wp-content/uploads/2023/09/simetria-1.png
END:VEVENT
BEGIN:VEVENT
DTSTART;TZID=America/Mexico_City:20230921T100000
DTEND;TZID=America/Mexico_City:20230921T110000
DTSTAMP:20260423T032629
CREATED:20230920T163514Z
LAST-MODIFIED:20230920T163514Z
UID:10000255-1695290400-1695294000@calendario.actualizandome.com
SUMMARY:Hablemos de Pensiones - (R) - #BarraActualizandome
DESCRIPTION:
URL:https://calendario.actualizandome.com/event/hablemos-de-pensiones-r-barraactualizandome-3/
CATEGORIES:Aula Virtual
ATTACH;FMTTYPE=image/png:https://calendario.actualizandome.com/wp-content/uploads/2023/09/pensiones-3.png
END:VEVENT
BEGIN:VEVENT
DTSTART;VALUE=DATE:20230921
DTEND;VALUE=DATE:20230925
DTSTAMP:20260423T032629
CREATED:20230809T014807Z
LAST-MODIFIED:20230809T014807Z
UID:10000004-1695254400-1695599999@calendario.actualizandome.com
SUMMARY:CNCP Convención 2023 #Veracruz
DESCRIPTION:
URL:https://calendario.actualizandome.com/event/cncp-convencion-2023-veracruz/
CATEGORIES:Cursos,Presencial
ATTACH;FMTTYPE=image/png:https://calendario.actualizandome.com/wp-content/uploads/2023/08/convencion-cncp-2023-veracruz-agosto.png
END:VEVENT
BEGIN:VEVENT
DTSTART;VALUE=DATE:20230921
DTEND;VALUE=DATE:20230922
DTSTAMP:20260423T032629
CREATED:20230913T232941Z
LAST-MODIFIED:20230913T232941Z
UID:10000225-1695254400-1695340799@calendario.actualizandome.com
SUMMARY:Programación de la Barra Actualizandome
DESCRIPTION:
URL:https://calendario.actualizandome.com/event/programacion-de-la-barra-actualizandome-32/
CATEGORIES:Aula Virtual
ATTACH;FMTTYPE=image/png:https://calendario.actualizandome.com/wp-content/uploads/2023/09/JUEVES-1.png
END:VEVENT
BEGIN:VEVENT
DTSTART;TZID=America/Mexico_City:20230920T180000
DTEND;TZID=America/Mexico_City:20230920T190000
DTSTAMP:20260423T032629
CREATED:20230919T234239Z
LAST-MODIFIED:20230919T234239Z
UID:10000254-1695232800-1695236400@calendario.actualizandome.com
SUMMARY:Sesión Intereactiva  - (R) - #BarraActualizandome
DESCRIPTION:
URL:https://calendario.actualizandome.com/event/sesion-intereactiva-r-barraactualizandome/
CATEGORIES:Aula Virtual
ATTACH;FMTTYPE=image/png:https://calendario.actualizandome.com/wp-content/uploads/2023/09/interactiva-2.png
END:VEVENT
BEGIN:VEVENT
DTSTART;TZID=America/Mexico_City:20230920T170000
DTEND;TZID=America/Mexico_City:20230920T180000
DTSTAMP:20260423T032629
CREATED:20230919T234106Z
LAST-MODIFIED:20230919T234106Z
UID:10000253-1695229200-1695232800@calendario.actualizandome.com
SUMMARY:Reflexionando con Mayer  - (R)- #BarraActualizandome
DESCRIPTION:
URL:https://calendario.actualizandome.com/event/reflexionando-con-mayer-r-barraactualizandome-2/
CATEGORIES:Aula Virtual
ATTACH;FMTTYPE=image/png:https://calendario.actualizandome.com/wp-content/uploads/2023/09/reflex-1.png
END:VEVENT
BEGIN:VEVENT
DTSTART;TZID=America/Mexico_City:20230920T140000
DTEND;TZID=America/Mexico_City:20230920T150000
DTSTAMP:20260423T032629
CREATED:20230919T233803Z
LAST-MODIFIED:20230919T233803Z
UID:10000252-1695218400-1695222000@calendario.actualizandome.com
SUMMARY:Hablemos de Pensiones - #BarraActualizandome
DESCRIPTION:
URL:https://calendario.actualizandome.com/event/hablemos-de-pensiones-barraactualizandome-2/
CATEGORIES:Aula Virtual
ATTACH;FMTTYPE=image/png:https://calendario.actualizandome.com/wp-content/uploads/2023/09/pensiones-2.png
END:VEVENT
BEGIN:VEVENT
DTSTART;TZID=America/Mexico_City:20230920T130000
DTEND;TZID=America/Mexico_City:20230920T140000
DTSTAMP:20260423T032629
CREATED:20230919T233307Z
LAST-MODIFIED:20230919T233307Z
UID:10000251-1695214800-1695218400@calendario.actualizandome.com
SUMMARY:Foco Financiero - #BarraActualizandome
DESCRIPTION:
URL:https://calendario.actualizandome.com/event/foco-financiero-barraactualizandome-4/
CATEGORIES:Aula Virtual
ATTACH;FMTTYPE=image/png:https://calendario.actualizandome.com/wp-content/uploads/2023/09/foco-2.png
END:VEVENT
BEGIN:VEVENT
DTSTART;TZID=America/Mexico_City:20230920T120000
DTEND;TZID=America/Mexico_City:20230920T130000
DTSTAMP:20260423T032629
CREATED:20230919T233144Z
LAST-MODIFIED:20230919T233144Z
UID:10000250-1695211200-1695214800@calendario.actualizandome.com
SUMMARY:Estratégica - La Prescripción de los Delitos Fiscales - 2da Parte - #BarraActualizandome
DESCRIPTION:
URL:https://calendario.actualizandome.com/event/estrategica-la-prescripcion-de-los-delitos-fiscales-2da-parte-barraactualizandome/
CATEGORIES:Aula Virtual
ATTACH;FMTTYPE=image/png:https://calendario.actualizandome.com/wp-content/uploads/2023/09/estrateg.png
END:VEVENT
BEGIN:VEVENT
DTSTART;TZID=America/Mexico_City:20230920T110000
DTEND;TZID=America/Mexico_City:20230920T120000
DTSTAMP:20260423T032629
CREATED:20230919T232951Z
LAST-MODIFIED:20230919T232951Z
UID:10000249-1695207600-1695211200@calendario.actualizandome.com
SUMMARY:Consultorio Conta Fiscal - #BarraActualizandome
DESCRIPTION:
URL:https://calendario.actualizandome.com/event/consultorio-conta-fiscal-barraactualizandome-3/
CATEGORIES:Aula Virtual
ATTACH;FMTTYPE=image/png:https://calendario.actualizandome.com/wp-content/uploads/2023/09/consultorio.png
END:VEVENT
BEGIN:VEVENT
DTSTART;TZID=America/Mexico_City:20230920T100000
DTEND;TZID=America/Mexico_City:20230920T110000
DTSTAMP:20260423T032629
CREATED:20230919T232759Z
LAST-MODIFIED:20230920T154259Z
UID:10000248-1695204000-1695207600@calendario.actualizandome.com
SUMMARY:Tópicos Empresariales - Innovación\, 3er Secreto - #BarraActualizandome
DESCRIPTION:
URL:https://calendario.actualizandome.com/event/topicos-empresariales-innovacion-barraactualizandome/
CATEGORIES:Aula Virtual
ATTACH;FMTTYPE=image/png:https://calendario.actualizandome.com/wp-content/uploads/2023/09/top-emp-1.png
END:VEVENT
BEGIN:VEVENT
DTSTART;VALUE=DATE:20230920
DTEND;VALUE=DATE:20230921
DTSTAMP:20260423T032629
CREATED:20230913T223149Z
LAST-MODIFIED:20230913T223149Z
UID:10000224-1695168000-1695254399@calendario.actualizandome.com
SUMMARY:Programación de la Barra Actualizandome
DESCRIPTION:
URL:https://calendario.actualizandome.com/event/programacion-de-la-barra-actualizandome-31/
CATEGORIES:Aula Virtual
ATTACH;FMTTYPE=image/png:https://calendario.actualizandome.com/wp-content/uploads/2023/09/MIERCOLES-1.png
END:VEVENT
END:VCALENDAR