BEGIN:VCALENDAR
VERSION:2.0
PRODID:-//ACTUALIZANDOME - ECPv6.15.16//NONSGML v1.0//EN
CALSCALE:GREGORIAN
METHOD:PUBLISH
X-ORIGINAL-URL:https://calendario.actualizandome.com
X-WR-CALDESC:Eventos para ACTUALIZANDOME
REFRESH-INTERVAL;VALUE=DURATION:PT1H
X-Robots-Tag:noindex
X-PUBLISHED-TTL:PT1H
BEGIN:VTIMEZONE
TZID:America/Mexico_City
BEGIN:DAYLIGHT
TZOFFSETFROM:-0600
TZOFFSETTO:-0500
TZNAME:CDT
DTSTART:20220403T080000
END:DAYLIGHT
BEGIN:STANDARD
TZOFFSETFROM:-0500
TZOFFSETTO:-0600
TZNAME:CST
DTSTART:20221030T070000
END:STANDARD
END:VTIMEZONE
BEGIN:VEVENT
DTSTART;TZID=America/Mexico_City:20231006T130000
DTEND;TZID=America/Mexico_City:20231006T140000
DTSTAMP:20260422T175725
CREATED:20231005T222214Z
LAST-MODIFIED:20231005T222214Z
UID:10000341-1696597200-1696600800@calendario.actualizandome.com
SUMMARY:Compilación Fiscal - #BarraActualizandome
DESCRIPTION:
URL:https://calendario.actualizandome.com/event/compilacion-fiscal-barraactualizandome-4/
ATTACH;FMTTYPE=image/png:https://calendario.actualizandome.com/wp-content/uploads/2023/10/compilacion.png
END:VEVENT
BEGIN:VEVENT
DTSTART;TZID=America/Mexico_City:20231006T120000
DTEND;TZID=America/Mexico_City:20231006T130000
DTSTAMP:20260422T175725
CREATED:20231005T222104Z
LAST-MODIFIED:20231005T222104Z
UID:10000340-1696593600-1696597200@calendario.actualizandome.com
SUMMARY:Hablemos del Dictamen Fiscal - #BarraActualizandome
DESCRIPTION:
URL:https://calendario.actualizandome.com/event/hablemos-del-dictamen-fiscal-barraactualizandome-4/
CATEGORIES:Aula Virtual
ATTACH;FMTTYPE=image/png:https://calendario.actualizandome.com/wp-content/uploads/2023/10/dictamen.png
END:VEVENT
BEGIN:VEVENT
DTSTART;TZID=America/Mexico_City:20231006T110000
DTEND;TZID=America/Mexico_City:20231006T120000
DTSTAMP:20260422T175725
CREATED:20231005T221948Z
LAST-MODIFIED:20231005T221948Z
UID:10000339-1696590000-1696593600@calendario.actualizandome.com
SUMMARY:Yin Yang Fiscal - #BarraActualizandome
DESCRIPTION:
URL:https://calendario.actualizandome.com/event/yin-yang-fiscal-barraactualizandome-5/
CATEGORIES:Aula Virtual
ATTACH;FMTTYPE=image/png:https://calendario.actualizandome.com/wp-content/uploads/2023/10/yin.png
END:VEVENT
BEGIN:VEVENT
DTSTART;TZID=America/Mexico_City:20231006T100000
DTEND;TZID=America/Mexico_City:20231006T110000
DTSTAMP:20260422T175725
CREATED:20231005T221819Z
LAST-MODIFIED:20231005T221819Z
UID:10000338-1696586400-1696590000@calendario.actualizandome.com
SUMMARY:Conociendo el Mundo Fiscal - #BarraActualizandome
DESCRIPTION:
URL:https://calendario.actualizandome.com/event/conociendo-el-mundo-fiscal-barraactualizandome-5/
CATEGORIES:Aula Virtual
ATTACH;FMTTYPE=image/png:https://calendario.actualizandome.com/wp-content/uploads/2023/10/mfiscal.png
END:VEVENT
BEGIN:VEVENT
DTSTART;VALUE=DATE:20231006
DTEND;VALUE=DATE:20231007
DTSTAMP:20260422T175725
CREATED:20230927T182604Z
LAST-MODIFIED:20230927T182604Z
UID:10000296-1696550400-1696636799@calendario.actualizandome.com
SUMMARY:Programación de la Barra Actualizandome
DESCRIPTION:
URL:https://calendario.actualizandome.com/event/programacion-de-la-barra-actualizandome-43/
CATEGORIES:Aula Virtual
ATTACH;FMTTYPE=image/png:https://calendario.actualizandome.com/wp-content/uploads/2023/09/viernes-3.png
END:VEVENT
BEGIN:VEVENT
DTSTART;TZID=America/Mexico_City:20231005T180000
DTEND;TZID=America/Mexico_City:20231005T190000
DTSTAMP:20260422T175725
CREATED:20231005T000248Z
LAST-MODIFIED:20231005T155923Z
UID:10000337-1696528800-1696532400@calendario.actualizandome.com
SUMMARY:Updating My Intellect - Inteligencia Artificial en la Fiscalización del SAT - #BarraActualizandome
DESCRIPTION:
URL:https://calendario.actualizandome.com/event/updating-my-intellect-inteligencia-artificial-en-la-fiscalizacion-del-sat-barraactualizandome/
CATEGORIES:Aula Virtual
ATTACH;FMTTYPE=image/jpeg:https://calendario.actualizandome.com/wp-content/uploads/2023/10/updating.jpg
END:VEVENT
BEGIN:VEVENT
DTSTART;TZID=America/Mexico_City:20231005T170000
DTEND;TZID=America/Mexico_City:20231005T180000
DTSTAMP:20260422T175725
CREATED:20231004T233825Z
LAST-MODIFIED:20231004T233825Z
UID:10000336-1696525200-1696528800@calendario.actualizandome.com
SUMMARY:Defensa Fiscal Práctica - #BarraActualizandome
DESCRIPTION:
URL:https://calendario.actualizandome.com/event/defensa-fiscal-practica-barraactualizandome-5/
CATEGORIES:Aula Virtual
ATTACH;FMTTYPE=image/png:https://calendario.actualizandome.com/wp-content/uploads/2023/10/defensa.png
END:VEVENT
BEGIN:VEVENT
DTSTART;TZID=America/Mexico_City:20231005T140000
DTEND;TZID=America/Mexico_City:20231005T150000
DTSTAMP:20260422T175725
CREATED:20231004T233716Z
LAST-MODIFIED:20231005T172331Z
UID:10000335-1696514400-1696518000@calendario.actualizandome.com
SUMMARY:Sesión Interactiva de la Revista Digital Actualizandome 136 - 2da Parte - #BarraActualizandome
DESCRIPTION:
URL:https://calendario.actualizandome.com/event/tecnologia-practica-barraactualizandome-5/
CATEGORIES:Aula Virtual
ATTACH;FMTTYPE=image/png:https://calendario.actualizandome.com/wp-content/uploads/2023/10/sesion-interactiva.png
END:VEVENT
BEGIN:VEVENT
DTSTART;TZID=America/Mexico_City:20231005T130000
DTEND;TZID=America/Mexico_City:20231005T140000
DTSTAMP:20260422T175725
CREATED:20231004T233401Z
LAST-MODIFIED:20231004T233401Z
UID:10000334-1696510800-1696514400@calendario.actualizandome.com
SUMMARY:El Mundo más allá de lo Contable y Fiscal - Más Allá de la Convención - #BarraActualizandome
DESCRIPTION:
URL:https://calendario.actualizandome.com/event/el-mundo-mas-alla-de-lo-contable-y-fiscal-mas-alla-de-la-convencion-barraactualizandome/
CATEGORIES:Aula Virtual
ATTACH;FMTTYPE=image/png:https://calendario.actualizandome.com/wp-content/uploads/2023/10/mundo.png
END:VEVENT
BEGIN:VEVENT
DTSTART;TZID=America/Mexico_City:20231005T120000
DTEND;TZID=America/Mexico_City:20231005T130000
DTSTAMP:20260422T175725
CREATED:20231004T233232Z
LAST-MODIFIED:20231004T233232Z
UID:10000333-1696507200-1696510800@calendario.actualizandome.com
SUMMARY:Sinergia Laboral InfonavImss - Tutti Frutti Laboral - #BarraActualizandome
DESCRIPTION:
URL:https://calendario.actualizandome.com/event/sinergia-laboral-infonavimss-tutti-frutti-laboral-barraactualizandome/
CATEGORIES:Aula Virtual
ATTACH;FMTTYPE=image/png:https://calendario.actualizandome.com/wp-content/uploads/2023/10/sinergia.png
END:VEVENT
BEGIN:VEVENT
DTSTART;TZID=America/Mexico_City:20231005T110000
DTEND;TZID=America/Mexico_City:20231005T120000
DTSTAMP:20260422T175725
CREATED:20231004T232848Z
LAST-MODIFIED:20231004T232848Z
UID:10000332-1696503600-1696507200@calendario.actualizandome.com
SUMMARY:Simetría Fiscal - #BarraActualizandome
DESCRIPTION:
URL:https://calendario.actualizandome.com/event/simetria-fiscal-barraactualizandome-4/
CATEGORIES:Aula Virtual
ATTACH;FMTTYPE=image/png:https://calendario.actualizandome.com/wp-content/uploads/2023/10/simetria.png
END:VEVENT
BEGIN:VEVENT
DTSTART;TZID=America/Mexico_City:20231005T100000
DTEND;TZID=America/Mexico_City:20231005T110000
DTSTAMP:20260422T175725
CREATED:20231004T232740Z
LAST-MODIFIED:20231004T232740Z
UID:10000331-1696500000-1696503600@calendario.actualizandome.com
SUMMARY:Hablemos de Pensiones - #BarraActualizandome
DESCRIPTION:
URL:https://calendario.actualizandome.com/event/hablemos-de-pensiones-barraactualizandome-3/
CATEGORIES:Aula Virtual
ATTACH;FMTTYPE=image/png:https://calendario.actualizandome.com/wp-content/uploads/2023/10/pensiones-1.png
END:VEVENT
BEGIN:VEVENT
DTSTART;VALUE=DATE:20231005
DTEND;VALUE=DATE:20231006
DTSTAMP:20260422T175725
CREATED:20230927T182449Z
LAST-MODIFIED:20231005T155331Z
UID:10000295-1696464000-1696550399@calendario.actualizandome.com
SUMMARY:Programación de la Barra Actualizandome
DESCRIPTION:
URL:https://calendario.actualizandome.com/event/programacion-de-la-barra-actualizandome-42/
CATEGORIES:Aula Virtual
ATTACH;FMTTYPE=image/png:https://calendario.actualizandome.com/wp-content/uploads/2023/09/JUEVES-6.png
END:VEVENT
BEGIN:VEVENT
DTSTART;TZID=America/Mexico_City:20231004T180000
DTEND;TZID=America/Mexico_City:20231004T190000
DTSTAMP:20260422T175725
CREATED:20231003T194124Z
LAST-MODIFIED:20231003T194136Z
UID:10000330-1696442400-1696446000@calendario.actualizandome.com
SUMMARY:Sesión Interactiva (R) - #BarraActualizandome
DESCRIPTION:
URL:https://calendario.actualizandome.com/event/sesion-interactiva-r-barraactualizandome-2/
CATEGORIES:Aula Virtual
ATTACH;FMTTYPE=image/png:https://calendario.actualizandome.com/wp-content/uploads/2023/10/interactiva.png
END:VEVENT
BEGIN:VEVENT
DTSTART;TZID=America/Mexico_City:20231004T170000
DTEND;TZID=America/Mexico_City:20231004T180000
DTSTAMP:20260422T175725
CREATED:20231003T193717Z
LAST-MODIFIED:20231003T194226Z
UID:10000329-1696438800-1696442400@calendario.actualizandome.com
SUMMARY:Reflexionando con Mayer - (R) - #BarraActualizandome
DESCRIPTION:
URL:https://calendario.actualizandome.com/event/reflexionando-con-mayer-barraactualizandome-2/
CATEGORIES:Aula Virtual
ATTACH;FMTTYPE=image/png:https://calendario.actualizandome.com/wp-content/uploads/2023/10/reflexionando.png
END:VEVENT
BEGIN:VEVENT
DTSTART;TZID=America/Mexico_City:20231004T140000
DTEND;TZID=America/Mexico_City:20231004T150000
DTSTAMP:20260422T175725
CREATED:20231003T193459Z
LAST-MODIFIED:20231003T193459Z
UID:10000328-1696428000-1696431600@calendario.actualizandome.com
SUMMARY:Hablemos de Pensiones - Pensiones Para Ascendientes - #BarraActualizandome
DESCRIPTION:
URL:https://calendario.actualizandome.com/event/hablemos-de-pensiones-pensiones-para-ascendientes-barraactualizandome/
CATEGORIES:Aula Virtual
ATTACH;FMTTYPE=image/png:https://calendario.actualizandome.com/wp-content/uploads/2023/10/pensiones.png
END:VEVENT
BEGIN:VEVENT
DTSTART;TZID=America/Mexico_City:20231004T130000
DTEND;TZID=America/Mexico_City:20231004T140000
DTSTAMP:20260422T175725
CREATED:20231003T193317Z
LAST-MODIFIED:20231003T211216Z
UID:10000327-1696424400-1696428000@calendario.actualizandome.com
SUMMARY:Foco Financiero - #BarraActualizandome
DESCRIPTION:
URL:https://calendario.actualizandome.com/event/foco-financiero-barraactualizandome-5/
CATEGORIES:Aula Virtual
ATTACH;FMTTYPE=image/png:https://calendario.actualizandome.com/wp-content/uploads/2023/10/foco.png
END:VEVENT
BEGIN:VEVENT
DTSTART;TZID=America/Mexico_City:20231004T120000
DTEND;TZID=America/Mexico_City:20231004T130000
DTSTAMP:20260422T175725
CREATED:20231003T193226Z
LAST-MODIFIED:20231003T211030Z
UID:10000326-1696420800-1696424400@calendario.actualizandome.com
SUMMARY:Estratégica - #BarraActualizandome
DESCRIPTION:
URL:https://calendario.actualizandome.com/event/estrategica-barraactualizandome/
CATEGORIES:Aula Virtual
ATTACH;FMTTYPE=image/png:https://calendario.actualizandome.com/wp-content/uploads/2023/10/estrategica.png
END:VEVENT
BEGIN:VEVENT
DTSTART;TZID=America/Mexico_City:20231004T110000
DTEND;TZID=America/Mexico_City:20231004T120000
DTSTAMP:20260422T175725
CREATED:20231003T193133Z
LAST-MODIFIED:20231003T193133Z
UID:10000325-1696417200-1696420800@calendario.actualizandome.com
SUMMARY:Consultorio Conta Fiscal - #BarraActualizandome
DESCRIPTION:
URL:https://calendario.actualizandome.com/event/consultorio-conta-fiscal-barraactualizandome-4/
CATEGORIES:Aula Virtual
ATTACH;FMTTYPE=image/png:https://calendario.actualizandome.com/wp-content/uploads/2023/10/consultorio.png
END:VEVENT
BEGIN:VEVENT
DTSTART;TZID=America/Mexico_City:20231004T100000
DTEND;TZID=America/Mexico_City:20231004T110000
DTSTAMP:20260422T175725
CREATED:20231003T192957Z
LAST-MODIFIED:20231004T153401Z
UID:10000324-1696413600-1696417200@calendario.actualizandome.com
SUMMARY:Tópicos Empresariales - Estimular la Inversión en Innovación - #BarraActualizandome
DESCRIPTION:
URL:https://calendario.actualizandome.com/event/topicos-empresariales-barraactualizandome-3/
CATEGORIES:Aula Virtual
ATTACH;FMTTYPE=image/png:https://calendario.actualizandome.com/wp-content/uploads/2023/10/topicos-2.png
END:VEVENT
BEGIN:VEVENT
DTSTART;VALUE=DATE:20231004
DTEND;VALUE=DATE:20231005
DTSTAMP:20260422T175725
CREATED:20230927T182247Z
LAST-MODIFIED:20230927T182247Z
UID:10000294-1696377600-1696463999@calendario.actualizandome.com
SUMMARY:Programación de la Barra Actualizandome
DESCRIPTION:
URL:https://calendario.actualizandome.com/event/programacion-de-la-barra-actualizandome-41/
CATEGORIES:Aula Virtual
ATTACH;FMTTYPE=image/png:https://calendario.actualizandome.com/wp-content/uploads/2023/09/miercoles-3.png
END:VEVENT
BEGIN:VEVENT
DTSTART;TZID=America/Mexico_City:20231003T180000
DTEND;TZID=America/Mexico_City:20231003T190000
DTSTAMP:20260422T175725
CREATED:20231002T213104Z
LAST-MODIFIED:20231002T213104Z
UID:10000323-1696356000-1696359600@calendario.actualizandome.com
SUMMARY:CONADFIS - Explicación de la Declaración Anual Título II - #BarraActualizandome
DESCRIPTION:
URL:https://calendario.actualizandome.com/event/conadfis-explicacion-de-la-declaracion-anual-titulo-ii-barraactualizandome/
CATEGORIES:Aula Virtual
ATTACH;FMTTYPE=image/png:https://calendario.actualizandome.com/wp-content/uploads/2023/10/conadfis.png
END:VEVENT
BEGIN:VEVENT
DTSTART;TZID=America/Mexico_City:20231003T170000
DTEND;TZID=America/Mexico_City:20231003T180000
DTSTAMP:20260422T175725
CREATED:20231002T212931Z
LAST-MODIFIED:20231003T192443Z
UID:10000322-1696352400-1696356000@calendario.actualizandome.com
SUMMARY:Fiscal por la Tarde - Reglamento de Inspección del Trabajo y Aplicación de Sanciones - #BarraActualizandome
DESCRIPTION:
URL:https://calendario.actualizandome.com/event/fiscal-por-la-tarde-barraactualizandome-3/
CATEGORIES:Aula Virtual
ATTACH;FMTTYPE=image/png:https://calendario.actualizandome.com/wp-content/uploads/2023/10/fiscal.png
END:VEVENT
BEGIN:VEVENT
DTSTART;TZID=America/Mexico_City:20231003T160000
DTEND;TZID=America/Mexico_City:20231003T170000
DTSTAMP:20260422T175725
CREATED:20231002T212753Z
LAST-MODIFIED:20231003T001724Z
UID:10000321-1696348800-1696352400@calendario.actualizandome.com
SUMMARY:Compliance Más Allá de la Norma - La Importancia del Canal de Denuncia en el Compliance - #BarraActualizandome
DESCRIPTION:
URL:https://calendario.actualizandome.com/event/compliance-mas-alla-de-la-norma-barraactualizandome-3/
CATEGORIES:Aula Virtual
ATTACH;FMTTYPE=image/png:https://calendario.actualizandome.com/wp-content/uploads/2023/10/compliance-1.png
END:VEVENT
BEGIN:VEVENT
DTSTART;TZID=America/Mexico_City:20231003T140000
DTEND;TZID=America/Mexico_City:20231003T150000
DTSTAMP:20260422T175725
CREATED:20231002T212430Z
LAST-MODIFIED:20231002T212430Z
UID:10000320-1696341600-1696345200@calendario.actualizandome.com
SUMMARY:El Poder de los Seguros -Tendencias en Seguros - #BarraActualizandome
DESCRIPTION:
URL:https://calendario.actualizandome.com/event/el-poder-de-los-seguros-tendencias-en-seguros-barraactualizandome/
CATEGORIES:Aula Virtual
ATTACH;FMTTYPE=image/png:https://calendario.actualizandome.com/wp-content/uploads/2023/10/seguros.png
END:VEVENT
BEGIN:VEVENT
DTSTART;TZID=America/Mexico_City:20231003T130000
DTEND;TZID=America/Mexico_City:20231003T140000
DTSTAMP:20260422T175725
CREATED:20231002T212207Z
LAST-MODIFIED:20231003T183200Z
UID:10000319-1696338000-1696341600@calendario.actualizandome.com
SUMMARY:Litigio Fiscal Estratégico - #BarraActualizandome
DESCRIPTION:
URL:https://calendario.actualizandome.com/event/litigio-fiscal-estrategico-barraactualizandome-2/
CATEGORIES:Aula Virtual
ATTACH;FMTTYPE=image/png:https://calendario.actualizandome.com/wp-content/uploads/2023/10/litigio.png
END:VEVENT
BEGIN:VEVENT
DTSTART;TZID=America/Mexico_City:20231003T120000
DTEND;TZID=America/Mexico_City:20231003T130000
DTSTAMP:20260422T175725
CREATED:20231002T212043Z
LAST-MODIFIED:20231003T173849Z
UID:10000318-1696334400-1696338000@calendario.actualizandome.com
SUMMARY:La Hora CNCP - Experiencia de la Convención CNCPMX VERACRUZ 2023 -  2da Parte - #BarraActualizandome
DESCRIPTION:
URL:https://calendario.actualizandome.com/event/topicos-fiscales-barraactualizandome-2/
CATEGORIES:Aula Virtual
ATTACH;FMTTYPE=image/png:https://calendario.actualizandome.com/wp-content/uploads/2023/10/cncp.png
END:VEVENT
BEGIN:VEVENT
DTSTART;TZID=America/Mexico_City:20231003T110000
DTEND;TZID=America/Mexico_City:20231003T120000
DTSTAMP:20260422T175725
CREATED:20231002T211919Z
LAST-MODIFIED:20231003T161639Z
UID:10000317-1696330800-1696334400@calendario.actualizandome.com
SUMMARY:Hora de Prodecon - Procedimiento Adminisrativo de Ejecución - #BarraActualizandome
DESCRIPTION:
URL:https://calendario.actualizandome.com/event/hora-de-prodecon-barraactualizandome/
CATEGORIES:Aula Virtual
ATTACH;FMTTYPE=image/png:https://calendario.actualizandome.com/wp-content/uploads/2023/10/prodecon-1.png
END:VEVENT
BEGIN:VEVENT
DTSTART;TZID=America/Mexico_City:20231003T100000
DTEND;TZID=America/Mexico_City:20231003T110000
DTSTAMP:20260422T175725
CREATED:20231002T211749Z
LAST-MODIFIED:20231002T211749Z
UID:10000316-1696327200-1696330800@calendario.actualizandome.com
SUMMARY:Leones Tributarios - Los Derechos Como Contribuciones\, Ejemplos Prácticos - #BarraActualizandome
DESCRIPTION:
URL:https://calendario.actualizandome.com/event/leones-tributarios-los-derechos-como-contribuciones-ejemplos-practicos-barraactualizandome/
CATEGORIES:Aula Virtual
ATTACH;FMTTYPE=image/png:https://calendario.actualizandome.com/wp-content/uploads/2023/10/leones.png
END:VEVENT
BEGIN:VEVENT
DTSTART;VALUE=DATE:20231003
DTEND;VALUE=DATE:20231004
DTSTAMP:20260422T175725
CREATED:20230927T182150Z
LAST-MODIFIED:20231003T174031Z
UID:10000293-1696291200-1696377599@calendario.actualizandome.com
SUMMARY:Programación de la Barra Actualizandome
DESCRIPTION:
URL:https://calendario.actualizandome.com/event/programacion-de-la-barra-actualizandome-40/
CATEGORIES:Aula Virtual
ATTACH;FMTTYPE=image/png:https://calendario.actualizandome.com/wp-content/uploads/2023/09/MARTES-5.png
END:VEVENT
END:VCALENDAR