BEGIN:VCALENDAR
VERSION:2.0
PRODID:-//ACTUALIZANDOME - ECPv6.15.16//NONSGML v1.0//EN
CALSCALE:GREGORIAN
METHOD:PUBLISH
X-ORIGINAL-URL:https://calendario.actualizandome.com
X-WR-CALDESC:Eventos para ACTUALIZANDOME
REFRESH-INTERVAL;VALUE=DURATION:PT1H
X-Robots-Tag:noindex
X-PUBLISHED-TTL:PT1H
BEGIN:VTIMEZONE
TZID:America/Mexico_City
BEGIN:DAYLIGHT
TZOFFSETFROM:-0600
TZOFFSETTO:-0500
TZNAME:CDT
DTSTART:20220403T080000
END:DAYLIGHT
BEGIN:STANDARD
TZOFFSETFROM:-0500
TZOFFSETTO:-0600
TZNAME:CST
DTSTART:20221030T070000
END:STANDARD
END:VTIMEZONE
BEGIN:VEVENT
DTSTART;TZID=America/Mexico_City:20231011T170000
DTEND;TZID=America/Mexico_City:20231011T180000
DTSTAMP:20260422T144737
CREATED:20231010T184348Z
LAST-MODIFIED:20231010T184348Z
UID:10000368-1697043600-1697047200@calendario.actualizandome.com
SUMMARY:Sinergia Laboral InfonavImss - #BarraActualizandome
DESCRIPTION:
URL:https://calendario.actualizandome.com/event/sinergia-laboral-infonavimss-barraactualizandome-2/
CATEGORIES:Aula Virtual
ATTACH;FMTTYPE=image/jpeg:https://calendario.actualizandome.com/wp-content/uploads/2023/10/sinergia.jpg
END:VEVENT
BEGIN:VEVENT
DTSTART;TZID=America/Mexico_City:20231011T140000
DTEND;TZID=America/Mexico_City:20231011T150000
DTSTAMP:20260422T144737
CREATED:20231010T185311Z
LAST-MODIFIED:20231011T200705Z
UID:10000370-1697032800-1697036400@calendario.actualizandome.com
SUMMARY:La Hora AMCPMX - (R) - #BarraActualizandome
DESCRIPTION:
URL:https://calendario.actualizandome.com/event/la-hora-amcpmx-r-barraactualizandome-3/
CATEGORIES:Aula Virtual
ATTACH;FMTTYPE=image/jpeg:https://calendario.actualizandome.com/wp-content/uploads/2023/10/amcp-3.jpg
END:VEVENT
BEGIN:VEVENT
DTSTART;TZID=America/Mexico_City:20231011T130000
DTEND;TZID=America/Mexico_City:20231011T140000
DTSTAMP:20260422T144737
CREATED:20231010T184045Z
LAST-MODIFIED:20231010T184045Z
UID:10000367-1697029200-1697032800@calendario.actualizandome.com
SUMMARY:Contabilidad y Leyes Fiscales - #BarraActualizandome
DESCRIPTION:
URL:https://calendario.actualizandome.com/event/contabilidad-y-leyes-fiscales-barraactualizandome-5/
CATEGORIES:Aula Virtual
ATTACH;FMTTYPE=image/jpeg:https://calendario.actualizandome.com/wp-content/uploads/2023/10/contab-1.jpg
END:VEVENT
BEGIN:VEVENT
DTSTART;TZID=America/Mexico_City:20231011T120000
DTEND;TZID=America/Mexico_City:20231011T130000
DTSTAMP:20260422T144737
CREATED:20231010T183521Z
LAST-MODIFIED:20231010T183521Z
UID:10000366-1697025600-1697029200@calendario.actualizandome.com
SUMMARY:Quadrando la Info - Ampliando Horizontes Profesionales #BarraActualizandome
DESCRIPTION:
URL:https://calendario.actualizandome.com/event/quadrando-la-info-ampliando-horizontes-profesionales-barraactualizandome/
CATEGORIES:Aula Virtual
ATTACH;FMTTYPE=image/jpeg:https://calendario.actualizandome.com/wp-content/uploads/2023/10/quadra.jpg
END:VEVENT
BEGIN:VEVENT
DTSTART;TZID=America/Mexico_City:20231011T110000
DTEND;TZID=America/Mexico_City:20231011T120000
DTSTAMP:20260422T144737
CREATED:20231010T183311Z
LAST-MODIFIED:20231010T183311Z
UID:10000365-1697022000-1697025600@calendario.actualizandome.com
SUMMARY:Foro Fiscal - #BarraActualizandome
DESCRIPTION:
URL:https://calendario.actualizandome.com/event/foro-fiscal-barraactualizandome-4/
CATEGORIES:Aula Virtual
ATTACH;FMTTYPE=image/jpeg:https://calendario.actualizandome.com/wp-content/uploads/2023/10/foro.jpg
END:VEVENT
BEGIN:VEVENT
DTSTART;TZID=America/Mexico_City:20231011T100000
DTEND;TZID=America/Mexico_City:20231011T110000
DTSTAMP:20260422T144737
CREATED:20231010T183126Z
LAST-MODIFIED:20231010T183126Z
UID:10000364-1697018400-1697022000@calendario.actualizandome.com
SUMMARY:Tríada Fiscal - #BarraActualizandome
DESCRIPTION:
URL:https://calendario.actualizandome.com/event/triada-fiscal-barraactualizandome-5/
CATEGORIES:Aula Virtual
ATTACH;FMTTYPE=image/jpeg:https://calendario.actualizandome.com/wp-content/uploads/2023/10/triada.jpg
END:VEVENT
BEGIN:VEVENT
DTSTART;VALUE=DATE:20231011
DTEND;VALUE=DATE:20231012
DTSTAMP:20260422T144737
CREATED:20231005T224122Z
LAST-MODIFIED:20231010T182124Z
UID:10000346-1696982400-1697068799@calendario.actualizandome.com
SUMMARY:Programación de la Barra Actualizandome
DESCRIPTION:
URL:https://calendario.actualizandome.com/event/programacion-de-la-barra-actualizandome-46/
CATEGORIES:Aula Virtual
ATTACH;FMTTYPE=image/png:https://calendario.actualizandome.com/wp-content/uploads/2023/10/miercoles-1.png
END:VEVENT
BEGIN:VEVENT
DTSTART;TZID=America/Mexico_City:20231010T180000
DTEND;TZID=America/Mexico_City:20231010T190000
DTSTAMP:20260422T144737
CREATED:20231009T223726Z
LAST-MODIFIED:20231009T235552Z
UID:10000363-1696960800-1696964400@calendario.actualizandome.com
SUMMARY:Conquista los Impuestos - Plataformas Tecnológicas 2da Parte - #BarraActualizandome
DESCRIPTION:
URL:https://calendario.actualizandome.com/event/conquista-los-impuestos-barraactualizandome-5/
CATEGORIES:Aula Virtual
ATTACH;FMTTYPE=image/png:https://calendario.actualizandome.com/wp-content/uploads/2023/10/conquista.png
END:VEVENT
BEGIN:VEVENT
DTSTART;TZID=America/Mexico_City:20231010T170000
DTEND;TZID=America/Mexico_City:20231010T180000
DTSTAMP:20260422T144737
CREATED:20231009T223624Z
LAST-MODIFIED:20231009T223624Z
UID:10000362-1696957200-1696960800@calendario.actualizandome.com
SUMMARY:De Impuestos y Otros Demonios - #BarraActualizandome
DESCRIPTION:
URL:https://calendario.actualizandome.com/event/de-impuestos-y-otros-demonios-barraactualizandome-2/
CATEGORIES:Aula Virtual
ATTACH;FMTTYPE=image/png:https://calendario.actualizandome.com/wp-content/uploads/2023/10/impuestos.png
END:VEVENT
BEGIN:VEVENT
DTSTART;TZID=America/Mexico_City:20231010T130000
DTEND;TZID=America/Mexico_City:20231010T140000
DTSTAMP:20260422T144737
CREATED:20231009T223320Z
LAST-MODIFIED:20231009T223320Z
UID:10000361-1696942800-1696946400@calendario.actualizandome.com
SUMMARY:Contabilidad y Operatividad - #BarraActualizandome
DESCRIPTION:
URL:https://calendario.actualizandome.com/event/contabilidad-y-operatividad-barraactualizandome-4/
CATEGORIES:Aula Virtual
ATTACH;FMTTYPE=image/png:https://calendario.actualizandome.com/wp-content/uploads/2023/10/contab.png
END:VEVENT
BEGIN:VEVENT
DTSTART;TZID=America/Mexico_City:20231010T120000
DTEND;TZID=America/Mexico_City:20231010T130000
DTSTAMP:20260422T144737
CREATED:20231009T223134Z
LAST-MODIFIED:20231009T223134Z
UID:10000360-1696939200-1696942800@calendario.actualizandome.com
SUMMARY:Noticias en Actualizandome - #BarraActualizandome
DESCRIPTION:
URL:https://calendario.actualizandome.com/event/noticias-en-actualizandome-barraactualizandome-8/
CATEGORIES:Aula Virtual
ATTACH;FMTTYPE=image/png:https://calendario.actualizandome.com/wp-content/uploads/2023/10/noticias.png
END:VEVENT
BEGIN:VEVENT
DTSTART;TZID=America/Mexico_City:20231010T110000
DTEND;TZID=America/Mexico_City:20231010T120000
DTSTAMP:20260422T144737
CREATED:20231009T222808Z
LAST-MODIFIED:20231009T222808Z
UID:10000359-1696935600-1696939200@calendario.actualizandome.com
SUMMARY:Tópicos de Seguridad Social - #BarraActualizandome
DESCRIPTION:
URL:https://calendario.actualizandome.com/event/topicos-de-seguridad-social-barraactualizandome-3/
CATEGORIES:Aula Virtual
ATTACH;FMTTYPE=image/png:https://calendario.actualizandome.com/wp-content/uploads/2023/10/segsocial.png
END:VEVENT
BEGIN:VEVENT
DTSTART;TZID=America/Mexico_City:20231010T100000
DTEND;TZID=America/Mexico_City:20231010T110000
DTSTAMP:20260422T144737
CREATED:20231009T162512Z
LAST-MODIFIED:20231009T162610Z
UID:10000357-1696932000-1696935600@calendario.actualizandome.com
SUMMARY:Inttegra Sistemas - Código de Barras - #BarraActualizandome
DESCRIPTION:
URL:https://calendario.actualizandome.com/event/inttegra-sistemas-codigo-de-barras-barraactualizandome/
CATEGORIES:Aula Virtual
ATTACH;FMTTYPE=image/png:https://calendario.actualizandome.com/wp-content/uploads/2023/10/inttegra.png
END:VEVENT
BEGIN:VEVENT
DTSTART;VALUE=DATE:20231010
DTEND;VALUE=DATE:20231011
DTSTAMP:20260422T144737
CREATED:20231005T223611Z
LAST-MODIFIED:20231005T223611Z
UID:10000345-1696896000-1696982399@calendario.actualizandome.com
SUMMARY:Programación de la Barra Actualizandome
DESCRIPTION:
URL:https://calendario.actualizandome.com/event/programacion-de-la-barra-actualizandome-45/
CATEGORIES:Aula Virtual
ATTACH;FMTTYPE=image/png:https://calendario.actualizandome.com/wp-content/uploads/2023/10/martes.png
END:VEVENT
BEGIN:VEVENT
DTSTART;TZID=America/Mexico_City:20231009T180000
DTEND;TZID=America/Mexico_City:20231009T190000
DTSTAMP:20260422T144737
CREATED:20231006T194827Z
LAST-MODIFIED:20231009T162313Z
UID:10000356-1696874400-1696878000@calendario.actualizandome.com
SUMMARY:El ABC de lo Fiscal - Determinación de la CUFIN - #BarraActualizandome
DESCRIPTION:
URL:https://calendario.actualizandome.com/event/el-abc-de-lo-fiscal-barraactualizandome-3/
CATEGORIES:Aula Virtual
ATTACH;FMTTYPE=image/png:https://calendario.actualizandome.com/wp-content/uploads/2023/10/ABC-1.png
END:VEVENT
BEGIN:VEVENT
DTSTART;TZID=America/Mexico_City:20231009T170000
DTEND;TZID=America/Mexico_City:20231009T180000
DTSTAMP:20260422T144737
CREATED:20231006T193650Z
LAST-MODIFIED:20231006T193650Z
UID:10000355-1696870800-1696874400@calendario.actualizandome.com
SUMMARY:Foco Financiero - (R) - #BarraActualizandome
DESCRIPTION:
URL:https://calendario.actualizandome.com/event/foco-financiero-r-barraactualizandome-4/
CATEGORIES:Aula Virtual
ATTACH;FMTTYPE=image/png:https://calendario.actualizandome.com/wp-content/uploads/2023/10/foco-1.png
END:VEVENT
BEGIN:VEVENT
DTSTART;TZID=America/Mexico_City:20231009T140000
DTEND;TZID=America/Mexico_City:20231009T150000
DTSTAMP:20260422T144737
CREATED:20231006T193407Z
LAST-MODIFIED:20231006T193407Z
UID:10000354-1696860000-1696863600@calendario.actualizandome.com
SUMMARY:Enlazando las Profesiones - Programa de Socialización - #BarraActualizandome
DESCRIPTION:
URL:https://calendario.actualizandome.com/event/enlazando-las-profesiones-programa-de-socializacion-barraactualizandome/
CATEGORIES:Aula Virtual
ATTACH;FMTTYPE=image/png:https://calendario.actualizandome.com/wp-content/uploads/2023/10/enlazando.png
END:VEVENT
BEGIN:VEVENT
DTSTART;TZID=America/Mexico_City:20231009T130000
DTEND;TZID=America/Mexico_City:20231009T140000
DTSTAMP:20260422T144737
CREATED:20231006T192714Z
LAST-MODIFIED:20231006T192714Z
UID:10000353-1696856400-1696860000@calendario.actualizandome.com
SUMMARY:Hora CNCP - Impuestos Estatales 4ta Parte - #BarraActualizandome
DESCRIPTION:
URL:https://calendario.actualizandome.com/event/hora-cncp-impuestos-estatales-4ta-parte-barraactualizandome/
CATEGORIES:Aula Virtual
ATTACH;FMTTYPE=image/png:https://calendario.actualizandome.com/wp-content/uploads/2023/10/cncp-1.png
END:VEVENT
BEGIN:VEVENT
DTSTART;TZID=America/Mexico_City:20231009T120000
DTEND;TZID=America/Mexico_City:20231009T130000
DTSTAMP:20260422T144737
CREATED:20231006T192548Z
LAST-MODIFIED:20231009T153946Z
UID:10000352-1696852800-1696856400@calendario.actualizandome.com
SUMMARY:El Derecho y su Circulo de Acción - Principios Generales del Derecho Laboral - #BarraActualizandome
DESCRIPTION:
URL:https://calendario.actualizandome.com/event/el-derecho-y-su-circulo-de-accion-barraactualizandome/
CATEGORIES:Aula Virtual
ATTACH;FMTTYPE=image/png:https://calendario.actualizandome.com/wp-content/uploads/2023/10/derecho.png
END:VEVENT
BEGIN:VEVENT
DTSTART;TZID=America/Mexico_City:20231009T110000
DTEND;TZID=America/Mexico_City:20231009T120000
DTSTAMP:20260422T144737
CREATED:20231006T192414Z
LAST-MODIFIED:20231006T192414Z
UID:10000351-1696849200-1696852800@calendario.actualizandome.com
SUMMARY:Hablemos del Código Fiscal - #BarraActualizandome
DESCRIPTION:
URL:https://calendario.actualizandome.com/event/hablemos-del-codigo-fiscal-barraactualizandome-5/
CATEGORIES:Aula Virtual
ATTACH;FMTTYPE=image/png:https://calendario.actualizandome.com/wp-content/uploads/2023/10/codigo.png
END:VEVENT
BEGIN:VEVENT
DTSTART;TZID=America/Mexico_City:20231009T100000
DTEND;TZID=America/Mexico_City:20231009T110000
DTSTAMP:20260422T144737
CREATED:20231006T192226Z
LAST-MODIFIED:20231006T192226Z
UID:10000350-1696845600-1696849200@calendario.actualizandome.com
SUMMARY:Los Derechos Humanos en Serio - #BarraActualizandome
DESCRIPTION:
URL:https://calendario.actualizandome.com/event/los-derechos-humanos-en-serio-barraactualizandome-4/
CATEGORIES:Aula Virtual
ATTACH;FMTTYPE=image/png:https://calendario.actualizandome.com/wp-content/uploads/2023/10/derechos.png
END:VEVENT
BEGIN:VEVENT
DTSTART;VALUE=DATE:20231009
DTEND;VALUE=DATE:20231010
DTSTAMP:20260422T144737
CREATED:20231005T223509Z
LAST-MODIFIED:20231005T223509Z
UID:10000344-1696809600-1696895999@calendario.actualizandome.com
SUMMARY:Programación de la Barra Actualizandome
DESCRIPTION:
URL:https://calendario.actualizandome.com/event/programacion-de-la-barra-actualizandome-44/
CATEGORIES:Aula Virtual
ATTACH;FMTTYPE=image/png:https://calendario.actualizandome.com/wp-content/uploads/2023/10/lunes.png
END:VEVENT
BEGIN:VEVENT
DTSTART;TZID=America/Mexico_City:20231006T180000
DTEND;TZID=America/Mexico_City:20231006T190000
DTSTAMP:20260422T144737
CREATED:20231005T222447Z
LAST-MODIFIED:20231005T223700Z
UID:10000343-1696615200-1696618800@calendario.actualizandome.com
SUMMARY:Defensores - (R) - #BarraActualizandome
DESCRIPTION:
URL:https://calendario.actualizandome.com/event/defensores-barraactualizandome-4/
CATEGORIES:Aula Virtual
ATTACH;FMTTYPE=image/png:https://calendario.actualizandome.com/wp-content/uploads/2023/10/defensores.png
END:VEVENT
BEGIN:VEVENT
DTSTART;TZID=America/Mexico_City:20231006T170000
DTEND;TZID=America/Mexico_City:20231006T180000
DTSTAMP:20260422T144737
CREATED:20231005T222342Z
LAST-MODIFIED:20231005T222342Z
UID:10000342-1696611600-1696615200@calendario.actualizandome.com
SUMMARY:Frecuencia Empresarial - Escritorio Virtual del IMSS - #BarraActualizandome
DESCRIPTION:
URL:https://calendario.actualizandome.com/event/frecuencia-empresarial-escritorio-virtual-del-imss-barraactualizandome/
CATEGORIES:Aula Virtual
ATTACH;FMTTYPE=image/png:https://calendario.actualizandome.com/wp-content/uploads/2023/10/frecuencia.png
END:VEVENT
BEGIN:VEVENT
DTSTART;TZID=America/Mexico_City:20231006T130000
DTEND;TZID=America/Mexico_City:20231006T140000
DTSTAMP:20260422T144737
CREATED:20231006T191520Z
LAST-MODIFIED:20231006T191520Z
UID:10000349-1696597200-1696600800@calendario.actualizandome.com
SUMMARY:Compilación Fiscal - #BarraActualizandome
DESCRIPTION:
URL:https://calendario.actualizandome.com/event/compilacion-fiscal-barraactualizandome-5/
CATEGORIES:Aula Virtual
ATTACH;FMTTYPE=image/png:https://calendario.actualizandome.com/wp-content/uploads/2023/10/compil.png
END:VEVENT
BEGIN:VEVENT
DTSTART;TZID=America/Mexico_City:20231006T130000
DTEND;TZID=America/Mexico_City:20231006T140000
DTSTAMP:20260422T144737
CREATED:20231005T222214Z
LAST-MODIFIED:20231005T222214Z
UID:10000341-1696597200-1696600800@calendario.actualizandome.com
SUMMARY:Compilación Fiscal - #BarraActualizandome
DESCRIPTION:
URL:https://calendario.actualizandome.com/event/compilacion-fiscal-barraactualizandome-4/
ATTACH;FMTTYPE=image/png:https://calendario.actualizandome.com/wp-content/uploads/2023/10/compilacion.png
END:VEVENT
BEGIN:VEVENT
DTSTART;TZID=America/Mexico_City:20231006T120000
DTEND;TZID=America/Mexico_City:20231006T130000
DTSTAMP:20260422T144737
CREATED:20231005T222104Z
LAST-MODIFIED:20231005T222104Z
UID:10000340-1696593600-1696597200@calendario.actualizandome.com
SUMMARY:Hablemos del Dictamen Fiscal - #BarraActualizandome
DESCRIPTION:
URL:https://calendario.actualizandome.com/event/hablemos-del-dictamen-fiscal-barraactualizandome-4/
CATEGORIES:Aula Virtual
ATTACH;FMTTYPE=image/png:https://calendario.actualizandome.com/wp-content/uploads/2023/10/dictamen.png
END:VEVENT
BEGIN:VEVENT
DTSTART;TZID=America/Mexico_City:20231006T110000
DTEND;TZID=America/Mexico_City:20231006T120000
DTSTAMP:20260422T144737
CREATED:20231005T221948Z
LAST-MODIFIED:20231005T221948Z
UID:10000339-1696590000-1696593600@calendario.actualizandome.com
SUMMARY:Yin Yang Fiscal - #BarraActualizandome
DESCRIPTION:
URL:https://calendario.actualizandome.com/event/yin-yang-fiscal-barraactualizandome-5/
CATEGORIES:Aula Virtual
ATTACH;FMTTYPE=image/png:https://calendario.actualizandome.com/wp-content/uploads/2023/10/yin.png
END:VEVENT
BEGIN:VEVENT
DTSTART;TZID=America/Mexico_City:20231006T100000
DTEND;TZID=America/Mexico_City:20231006T110000
DTSTAMP:20260422T144737
CREATED:20231005T221819Z
LAST-MODIFIED:20231005T221819Z
UID:10000338-1696586400-1696590000@calendario.actualizandome.com
SUMMARY:Conociendo el Mundo Fiscal - #BarraActualizandome
DESCRIPTION:
URL:https://calendario.actualizandome.com/event/conociendo-el-mundo-fiscal-barraactualizandome-5/
CATEGORIES:Aula Virtual
ATTACH;FMTTYPE=image/png:https://calendario.actualizandome.com/wp-content/uploads/2023/10/mfiscal.png
END:VEVENT
BEGIN:VEVENT
DTSTART;VALUE=DATE:20231006
DTEND;VALUE=DATE:20231007
DTSTAMP:20260422T144737
CREATED:20230927T182604Z
LAST-MODIFIED:20230927T182604Z
UID:10000296-1696550400-1696636799@calendario.actualizandome.com
SUMMARY:Programación de la Barra Actualizandome
DESCRIPTION:
URL:https://calendario.actualizandome.com/event/programacion-de-la-barra-actualizandome-43/
CATEGORIES:Aula Virtual
ATTACH;FMTTYPE=image/png:https://calendario.actualizandome.com/wp-content/uploads/2023/09/viernes-3.png
END:VEVENT
END:VCALENDAR