BEGIN:VCALENDAR
VERSION:2.0
PRODID:-//ACTUALIZANDOME - ECPv6.15.16//NONSGML v1.0//EN
CALSCALE:GREGORIAN
METHOD:PUBLISH
X-ORIGINAL-URL:https://calendario.actualizandome.com
X-WR-CALDESC:Eventos para ACTUALIZANDOME
REFRESH-INTERVAL;VALUE=DURATION:PT1H
X-Robots-Tag:noindex
X-PUBLISHED-TTL:PT1H
BEGIN:VTIMEZONE
TZID:America/Mexico_City
BEGIN:DAYLIGHT
TZOFFSETFROM:-0600
TZOFFSETTO:-0500
TZNAME:CDT
DTSTART:20220403T080000
END:DAYLIGHT
BEGIN:STANDARD
TZOFFSETFROM:-0500
TZOFFSETTO:-0600
TZNAME:CST
DTSTART:20221030T070000
END:STANDARD
END:VTIMEZONE
BEGIN:VTIMEZONE
TZID:America/New_York
BEGIN:DAYLIGHT
TZOFFSETFROM:-0500
TZOFFSETTO:-0400
TZNAME:EDT
DTSTART:20220313T070000
END:DAYLIGHT
BEGIN:STANDARD
TZOFFSETFROM:-0400
TZOFFSETTO:-0500
TZNAME:EST
DTSTART:20221106T060000
END:STANDARD
BEGIN:DAYLIGHT
TZOFFSETFROM:-0500
TZOFFSETTO:-0400
TZNAME:EDT
DTSTART:20230312T070000
END:DAYLIGHT
BEGIN:STANDARD
TZOFFSETFROM:-0400
TZOFFSETTO:-0500
TZNAME:EST
DTSTART:20231105T060000
END:STANDARD
BEGIN:DAYLIGHT
TZOFFSETFROM:-0500
TZOFFSETTO:-0400
TZNAME:EDT
DTSTART:20240310T070000
END:DAYLIGHT
BEGIN:STANDARD
TZOFFSETFROM:-0400
TZOFFSETTO:-0500
TZNAME:EST
DTSTART:20241103T060000
END:STANDARD
END:VTIMEZONE
BEGIN:VEVENT
DTSTART;TZID=America/Mexico_City:20231025T170000
DTEND;TZID=America/Mexico_City:20231025T180000
DTSTAMP:20260422T035059
CREATED:20231024T223722Z
LAST-MODIFIED:20231024T223722Z
UID:10000448-1698253200-1698256800@calendario.actualizandome.com
SUMMARY:Sinergia Laboral InfonavImss - (R) - #BarraActualizandome
DESCRIPTION:
URL:https://calendario.actualizandome.com/event/sinergia-laboral-infonavimss-r-barraactualizandome-3/
CATEGORIES:Aula Virtual
ATTACH;FMTTYPE=image/jpeg:https://calendario.actualizandome.com/wp-content/uploads/2023/10/sinergia-1.jpg
END:VEVENT
BEGIN:VEVENT
DTSTART;TZID=America/Mexico_City:20231025T140000
DTEND;TZID=America/Mexico_City:20231025T150000
DTSTAMP:20260422T035059
CREATED:20231024T223551Z
LAST-MODIFIED:20231024T223551Z
UID:10000447-1698242400-1698246000@calendario.actualizandome.com
SUMMARY:La Hora AMCPMX - (R) - #Barra Actualizandome
DESCRIPTION:
URL:https://calendario.actualizandome.com/event/la-hora-amcpmx-r-barra-actualizandome/
CATEGORIES:Aula Virtual
ATTACH;FMTTYPE=image/jpeg:https://calendario.actualizandome.com/wp-content/uploads/2023/10/amcp-4.jpg
END:VEVENT
BEGIN:VEVENT
DTSTART;TZID=America/Mexico_City:20231025T130000
DTEND;TZID=America/Mexico_City:20231025T140000
DTSTAMP:20260422T035059
CREATED:20231024T223435Z
LAST-MODIFIED:20231024T232557Z
UID:10000446-1698238800-1698242400@calendario.actualizandome.com
SUMMARY:Contabilidad y Leyes Fiscales - Tratamiento Legal de las Bebidas Alcohólicas - #BarraActualizandome
DESCRIPTION:
URL:https://calendario.actualizandome.com/event/contabilidad-y-leyes-fiscales-barraactualizandome-6/
CATEGORIES:Aula Virtual
ATTACH;FMTTYPE=image/jpeg:https://calendario.actualizandome.com/wp-content/uploads/2023/10/contab-7.jpg
END:VEVENT
BEGIN:VEVENT
DTSTART;TZID=America/Mexico_City:20231025T120000
DTEND;TZID=America/Mexico_City:20231025T130000
DTSTAMP:20260422T035059
CREATED:20231024T223316Z
LAST-MODIFIED:20231024T223316Z
UID:10000445-1698235200-1698238800@calendario.actualizandome.com
SUMMARY:Quadrando la Info - #BarraActualizandome
DESCRIPTION:
URL:https://calendario.actualizandome.com/event/quadrando-la-info-barraactualizandome-4/
CATEGORIES:Aula Virtual
ATTACH;FMTTYPE=image/jpeg:https://calendario.actualizandome.com/wp-content/uploads/2023/10/quadrando.jpg
END:VEVENT
BEGIN:VEVENT
DTSTART;TZID=America/Mexico_City:20231025T110000
DTEND;TZID=America/Mexico_City:20231025T120000
DTSTAMP:20260422T035059
CREATED:20231024T223206Z
LAST-MODIFIED:20231024T223206Z
UID:10000444-1698231600-1698235200@calendario.actualizandome.com
SUMMARY:Foro Fiscal - Factura al Público en General/Factura Global - #BarraActualizandome
DESCRIPTION:
URL:https://calendario.actualizandome.com/event/foro-fiscal-factura-al-publico-en-general-factura-global-barraactualizandome/
CATEGORIES:Aula Virtual
ATTACH;FMTTYPE=image/jpeg:https://calendario.actualizandome.com/wp-content/uploads/2023/10/foro-2.jpg
END:VEVENT
BEGIN:VEVENT
DTSTART;TZID=America/Mexico_City:20231025T100000
DTEND;TZID=America/Mexico_City:20231025T110000
DTSTAMP:20260422T035059
CREATED:20231024T220835Z
LAST-MODIFIED:20231024T231834Z
UID:10000443-1698228000-1698231600@calendario.actualizandome.com
SUMMARY:Tríada Fiscal - Tips de Vanguardia Para la Constitución de una Sociedad Mercantil - #BarraActualizandome
DESCRIPTION:
URL:https://calendario.actualizandome.com/event/triada-fiscal-barraactualizandome-6/
CATEGORIES:Aula Virtual
ATTACH;FMTTYPE=image/jpeg:https://calendario.actualizandome.com/wp-content/uploads/2023/10/triada-2.jpg
END:VEVENT
BEGIN:VEVENT
DTSTART;VALUE=DATE:20231025
DTEND;VALUE=DATE:20231026
DTSTAMP:20260422T035059
CREATED:20231019T174813Z
LAST-MODIFIED:20231023T183848Z
UID:10000420-1698192000-1698278399@calendario.actualizandome.com
SUMMARY:Programación de la Barra Actualizandome
DESCRIPTION:
URL:https://calendario.actualizandome.com/event/programacion-de-la-barra-actualizandome-56/
CATEGORIES:Aula Virtual
ATTACH;FMTTYPE=image/png:https://calendario.actualizandome.com/wp-content/uploads/2023/10/miercoles-5.png
END:VEVENT
BEGIN:VEVENT
DTSTART;TZID=America/New_York:20231024T180000
DTEND;TZID=America/New_York:20231025T200000
DTSTAMP:20260422T035059
CREATED:20230808T002744Z
LAST-MODIFIED:20231005T194121Z
UID:10000001-1698170400-1698264000@calendario.actualizandome.com
SUMMARY:Curso: Redes Sociales y Marca Personal para Contadores y Abogados
DESCRIPTION:
URL:https://calendario.actualizandome.com/event/curso-redes-sociales-y-marca-personal-para-contadores-y-abogados/
CATEGORIES:Cursos,Videoconferencia
ATTACH;FMTTYPE=image/png:https://calendario.actualizandome.com/wp-content/uploads/2023/08/Captura-de-Pantalla-09-07-a-las-18.55.33.png
END:VEVENT
BEGIN:VEVENT
DTSTART;TZID=America/Mexico_City:20231024T180000
DTEND;TZID=America/Mexico_City:20231024T190000
DTSTAMP:20260422T035059
CREATED:20231023T223002Z
LAST-MODIFIED:20231023T223002Z
UID:10000441-1698170400-1698174000@calendario.actualizandome.com
SUMMARY:Conquista los Impuestos - #BarraActualizandome
DESCRIPTION:
URL:https://calendario.actualizandome.com/event/conquista-los-impuestos-barraactualizandome-6/
CATEGORIES:Aula Virtual
ATTACH;FMTTYPE=image/jpeg:https://calendario.actualizandome.com/wp-content/uploads/2023/10/impuestos-1.jpg
END:VEVENT
BEGIN:VEVENT
DTSTART;TZID=America/Mexico_City:20231024T170000
DTEND;TZID=America/Mexico_City:20231024T180000
DTSTAMP:20260422T035059
CREATED:20231024T200343Z
LAST-MODIFIED:20231024T200343Z
UID:10000442-1698166800-1698170400@calendario.actualizandome.com
SUMMARY:Diplomado en Inversiones y Estrategias Financieras 2023 - 2022 (R) - #BarraActualizandome
DESCRIPTION:
URL:https://calendario.actualizandome.com/event/diplomado-en-inversiones-y-estrategias-financieras-2023-2022-r-barraactualizandome/
CATEGORIES:Aula Virtual
ATTACH;FMTTYPE=image/jpeg:https://calendario.actualizandome.com/wp-content/uploads/2023/10/diplomado.jpg
END:VEVENT
BEGIN:VEVENT
DTSTART;TZID=America/Mexico_City:20231024T130000
DTEND;TZID=America/Mexico_City:20231024T140000
DTSTAMP:20260422T035059
CREATED:20231023T222835Z
LAST-MODIFIED:20231023T222835Z
UID:10000440-1698152400-1698156000@calendario.actualizandome.com
SUMMARY:Contabilidad y Operatividad - #BarraActualizandome
DESCRIPTION:
URL:https://calendario.actualizandome.com/event/contabilidad-y-operatividad-barraactualizandome-5/
CATEGORIES:Aula Virtual
ATTACH;FMTTYPE=image/jpeg:https://calendario.actualizandome.com/wp-content/uploads/2023/10/contab-5.jpg
END:VEVENT
BEGIN:VEVENT
DTSTART;TZID=America/Mexico_City:20231024T120000
DTEND;TZID=America/Mexico_City:20231024T130000
DTSTAMP:20260422T035059
CREATED:20231023T222429Z
LAST-MODIFIED:20231023T222429Z
UID:10000439-1698148800-1698152400@calendario.actualizandome.com
SUMMARY:Noticias en Actualizandome - #BarraActualizandome
DESCRIPTION:
URL:https://calendario.actualizandome.com/event/noticias-en-actualizandome-barraactualizandome-10/
CATEGORIES:Aula Virtual
ATTACH;FMTTYPE=image/jpeg:https://calendario.actualizandome.com/wp-content/uploads/2023/10/NOTICIAS-1.jpg
END:VEVENT
BEGIN:VEVENT
DTSTART;TZID=America/Mexico_City:20231024T110000
DTEND;TZID=America/Mexico_City:20231024T120000
DTSTAMP:20260422T035059
CREATED:20231023T222309Z
LAST-MODIFIED:20231023T222309Z
UID:10000438-1698145200-1698148800@calendario.actualizandome.com
SUMMARY:Tópicos de Seguridad - SIROC - #BarraActualizandome
DESCRIPTION:
URL:https://calendario.actualizandome.com/event/topicos-de-seguridad-siroc-barraactualizandome/
CATEGORIES:Aula Virtual
ATTACH;FMTTYPE=image/jpeg:https://calendario.actualizandome.com/wp-content/uploads/2023/10/TOPICOS-3.jpg
END:VEVENT
BEGIN:VEVENT
DTSTART;TZID=America/Mexico_City:20231024T100000
DTEND;TZID=America/Mexico_City:20231024T110000
DTSTAMP:20260422T035059
CREATED:20231023T222115Z
LAST-MODIFIED:20231023T222115Z
UID:10000437-1698141600-1698145200@calendario.actualizandome.com
SUMMARY:Inttegra Sistemas - #BarraActualizandome
DESCRIPTION:
URL:https://calendario.actualizandome.com/event/inttegra-sistemas-barraactualizandome-2/
CATEGORIES:Aula Virtual
ATTACH;FMTTYPE=image/jpeg:https://calendario.actualizandome.com/wp-content/uploads/2023/10/inttegra.jpg
END:VEVENT
BEGIN:VEVENT
DTSTART;VALUE=DATE:20231024
DTEND;VALUE=DATE:20231025
DTSTAMP:20260422T035059
CREATED:20231019T174530Z
LAST-MODIFIED:20231019T174530Z
UID:10000419-1698105600-1698191999@calendario.actualizandome.com
SUMMARY:Programación de la Barra Actualizandome
DESCRIPTION:
URL:https://calendario.actualizandome.com/event/programacion-de-la-barra-actualizandome-55/
CATEGORIES:Aula Virtual
ATTACH;FMTTYPE=image/png:https://calendario.actualizandome.com/wp-content/uploads/2023/10/martes-3.png
END:VEVENT
BEGIN:VEVENT
DTSTART;TZID=America/Mexico_City:20231023T180000
DTEND;TZID=America/Mexico_City:20231023T190000
DTSTAMP:20260422T035059
CREATED:20231020T181016Z
LAST-MODIFIED:20231020T181016Z
UID:10000436-1698084000-1698087600@calendario.actualizandome.com
SUMMARY:ABC de lo Fiscal - #BarraActualizandome
DESCRIPTION:
URL:https://calendario.actualizandome.com/event/abc-de-lo-fiscal-barraactualizandome-3/
CATEGORIES:Aula Virtual
ATTACH;FMTTYPE=image/jpeg:https://calendario.actualizandome.com/wp-content/uploads/2023/10/abc.jpg
END:VEVENT
BEGIN:VEVENT
DTSTART;TZID=America/Mexico_City:20231023T170000
DTEND;TZID=America/Mexico_City:20231023T180000
DTSTAMP:20260422T035059
CREATED:20231020T180855Z
LAST-MODIFIED:20231020T180855Z
UID:10000435-1698080400-1698084000@calendario.actualizandome.com
SUMMARY:Foco Financiero - (R) - #BarraActualizandome
DESCRIPTION:
URL:https://calendario.actualizandome.com/event/foco-financiero-r-barraactualizandome-5/
ATTACH;FMTTYPE=image/jpeg:https://calendario.actualizandome.com/wp-content/uploads/2023/10/foco-2.jpg
END:VEVENT
BEGIN:VEVENT
DTSTART;TZID=America/Mexico_City:20231023T140000
DTEND;TZID=America/Mexico_City:20231023T150000
DTSTAMP:20260422T035059
CREATED:20231020T175754Z
LAST-MODIFIED:20231023T181824Z
UID:10000434-1698069600-1698073200@calendario.actualizandome.com
SUMMARY:Enlazando las Profesiones - Protocolo de Actualización Ante Riesgo Suicida - #BarraActualizandome
DESCRIPTION:
URL:https://calendario.actualizandome.com/event/enlazando-las-profesiones-barraactualizandome-5/
CATEGORIES:Aula Virtual
ATTACH;FMTTYPE=image/jpeg:https://calendario.actualizandome.com/wp-content/uploads/2023/10/enlazando-1.jpg
END:VEVENT
BEGIN:VEVENT
DTSTART;TZID=America/Mexico_City:20231023T130000
DTEND;TZID=America/Mexico_City:20231023T140000
DTSTAMP:20260422T035059
CREATED:20231020T175449Z
LAST-MODIFIED:20231023T181645Z
UID:10000433-1698066000-1698069600@calendario.actualizandome.com
SUMMARY:La Hora CNCP - Impuestos Estatales - 6ta Parte - Impuesto Sobre Nómina - #BarraActualizandome
DESCRIPTION:
URL:https://calendario.actualizandome.com/event/la-hora-cncp-barraactualizandome-6/
CATEGORIES:Aula Virtual
ATTACH;FMTTYPE=image/jpeg:https://calendario.actualizandome.com/wp-content/uploads/2023/10/cncp-2.jpg
END:VEVENT
BEGIN:VEVENT
DTSTART;TZID=America/Mexico_City:20231023T120000
DTEND;TZID=America/Mexico_City:20231023T130000
DTSTAMP:20260422T035059
CREATED:20231020T175332Z
LAST-MODIFIED:20231020T175332Z
UID:10000432-1698062400-1698066000@calendario.actualizandome.com
SUMMARY:El Derecho y su Círculo de Acción - Principios Generales de Derecho Laboral - #BarraActualizandome
DESCRIPTION:
URL:https://calendario.actualizandome.com/event/el-derecho-y-su-circulo-de-accion-principios-generales-de-derecho-laboral-barraactualizandome/
CATEGORIES:Aula Virtual
ATTACH;FMTTYPE=image/jpeg:https://calendario.actualizandome.com/wp-content/uploads/2023/10/derecho.jpg
END:VEVENT
BEGIN:VEVENT
DTSTART;TZID=America/Mexico_City:20231023T110000
DTEND;TZID=America/Mexico_City:20231023T120000
DTSTAMP:20260422T035059
CREATED:20231020T175004Z
LAST-MODIFIED:20231020T175004Z
UID:10000431-1698058800-1698062400@calendario.actualizandome.com
SUMMARY:Hablemos del Código Fiscal - CFF Actualidades - #BarraActualizandome
DESCRIPTION:
URL:https://calendario.actualizandome.com/event/hablemos-del-codigo-fiscal-cff-actualidades-barraactualizandome/
CATEGORIES:Aula Virtual
ATTACH;FMTTYPE=image/jpeg:https://calendario.actualizandome.com/wp-content/uploads/2023/10/cff.jpg
END:VEVENT
BEGIN:VEVENT
DTSTART;TZID=America/Mexico_City:20231023T100000
DTEND;TZID=America/Mexico_City:20231023T110000
DTSTAMP:20260422T035059
CREATED:20231020T174828Z
LAST-MODIFIED:20231020T174828Z
UID:10000430-1698055200-1698058800@calendario.actualizandome.com
SUMMARY:Los Derechos Humanos en Serio - #BarraActualizandome
DESCRIPTION:
URL:https://calendario.actualizandome.com/event/los-derechos-humanos-en-serio-barraactualizandome-5/
CATEGORIES:Aula Virtual
ATTACH;FMTTYPE=image/jpeg:https://calendario.actualizandome.com/wp-content/uploads/2023/10/dhumanos.jpg
END:VEVENT
BEGIN:VEVENT
DTSTART;VALUE=DATE:20231023
DTEND;VALUE=DATE:20231024
DTSTAMP:20260422T035059
CREATED:20231019T174420Z
LAST-MODIFIED:20231019T174420Z
UID:10000418-1698019200-1698105599@calendario.actualizandome.com
SUMMARY:Programación de la Barra Actualizandome
DESCRIPTION:
URL:https://calendario.actualizandome.com/event/programacion-de-la-barra-actualizandome-54/
CATEGORIES:Aula Virtual
ATTACH;FMTTYPE=image/png:https://calendario.actualizandome.com/wp-content/uploads/2023/10/lunes-1.png
END:VEVENT
BEGIN:VEVENT
DTSTART;TZID=America/Mexico_City:20231020T180000
DTEND;TZID=America/Mexico_City:20231020T190000
DTSTAMP:20260422T035059
CREATED:20231019T181419Z
LAST-MODIFIED:20231019T181419Z
UID:10000428-1697824800-1697828400@calendario.actualizandome.com
SUMMARY:Defensores - (R) - #BarraActualizandome
DESCRIPTION:
URL:https://calendario.actualizandome.com/event/defensores-r-barraactualizandome-2/
CATEGORIES:Aula Virtual
ATTACH;FMTTYPE=image/jpeg:https://calendario.actualizandome.com/wp-content/uploads/2023/10/defensores.jpg
END:VEVENT
BEGIN:VEVENT
DTSTART;TZID=America/Mexico_City:20231020T170000
DTEND;TZID=America/Mexico_City:20231020T180000
DTSTAMP:20260422T035059
CREATED:20231019T181250Z
LAST-MODIFIED:20231019T181250Z
UID:10000427-1697821200-1697824800@calendario.actualizandome.com
SUMMARY:Frecuencia Empresarial - #BarraActualizandome
DESCRIPTION:
URL:https://calendario.actualizandome.com/event/frecuencia-empresarial-barraactualizandome-4/
CATEGORIES:Aula Virtual
ATTACH;FMTTYPE=image/jpeg:https://calendario.actualizandome.com/wp-content/uploads/2023/10/frecuencia-1.jpg
END:VEVENT
BEGIN:VEVENT
DTSTART;TZID=America/Mexico_City:20231020T130000
DTEND;TZID=America/Mexico_City:20231020T140000
DTSTAMP:20260422T035059
CREATED:20231019T180823Z
LAST-MODIFIED:20231020T161255Z
UID:10000426-1697806800-1697810400@calendario.actualizandome.com
SUMMARY:Compilación Fiscal - Reporte de Donatarias Autorizadas 2023 - #BarraActualizandome
DESCRIPTION:
URL:https://calendario.actualizandome.com/event/compilacion-fiscal-barraactualizandome-6/
CATEGORIES:Aula Virtual
ATTACH;FMTTYPE=image/jpeg:https://calendario.actualizandome.com/wp-content/uploads/2023/10/compilacion-1.jpg
END:VEVENT
BEGIN:VEVENT
DTSTART;TZID=America/Mexico_City:20231020T120000
DTEND;TZID=America/Mexico_City:20231020T130000
DTSTAMP:20260422T035059
CREATED:20231019T180627Z
LAST-MODIFIED:20231019T204238Z
UID:10000425-1697803200-1697806800@calendario.actualizandome.com
SUMMARY:Hablemos del Dictamen Fiscal - Beneficios de una Auditoría Externa Preventiva\, Ante una Posible Fiscalización de las Autoridades Fiscales - #BarraActualizandome
DESCRIPTION:
URL:https://calendario.actualizandome.com/event/hablemos-del-dictamen-fiscal-barraactualizandome-5/
CATEGORIES:Aula Virtual
ATTACH;FMTTYPE=image/jpeg:https://calendario.actualizandome.com/wp-content/uploads/2023/10/dictamen-1.jpg
END:VEVENT
BEGIN:VEVENT
DTSTART;TZID=America/Mexico_City:20231020T110000
DTEND;TZID=America/Mexico_City:20231020T120000
DTSTAMP:20260422T035059
CREATED:20231019T180503Z
LAST-MODIFIED:20231020T171945Z
UID:10000424-1697799600-1697803200@calendario.actualizandome.com
SUMMARY:Yin Yang Fiscal - Expectativas Económicas de la Ley de Ingresos - #BarraActualizandome
DESCRIPTION:
URL:https://calendario.actualizandome.com/event/yin-yang-fiscal-barraactualizandome-6/
CATEGORIES:Aula Virtual
ATTACH;FMTTYPE=image/jpeg:https://calendario.actualizandome.com/wp-content/uploads/2023/10/ying.jpg
END:VEVENT
BEGIN:VEVENT
DTSTART;TZID=America/Mexico_City:20231020T100000
DTEND;TZID=America/Mexico_City:20231020T110000
DTSTAMP:20260422T035059
CREATED:20231019T180350Z
LAST-MODIFIED:20231020T161406Z
UID:10000423-1697796000-1697799600@calendario.actualizandome.com
SUMMARY:Conociendo el Mundo Fiscal - La Modalidad 35 del IMSS - #BarraActualizandome
DESCRIPTION:
URL:https://calendario.actualizandome.com/event/conociendo-el-mundo-fiscal-barraactualizandome-6/
ATTACH;FMTTYPE=image/jpeg:https://calendario.actualizandome.com/wp-content/uploads/2023/10/mundo-1.jpg
END:VEVENT
BEGIN:VEVENT
DTSTART;VALUE=DATE:20231020
DTEND;VALUE=DATE:20231021
DTSTAMP:20260422T035059
CREATED:20231012T173158Z
LAST-MODIFIED:20231012T173312Z
UID:10000381-1697760000-1697846399@calendario.actualizandome.com
SUMMARY:Programación de la Barra Actualizandome
DESCRIPTION:
URL:https://calendario.actualizandome.com/event/programacion-de-la-barra-actualizandome-53/
CATEGORIES:Aula Virtual
ATTACH;FMTTYPE=image/png:https://calendario.actualizandome.com/wp-content/uploads/2023/10/viernes-1.png
END:VEVENT
END:VCALENDAR