BEGIN:VCALENDAR
VERSION:2.0
PRODID:-//ACTUALIZANDOME - ECPv6.15.16//NONSGML v1.0//EN
CALSCALE:GREGORIAN
METHOD:PUBLISH
X-WR-CALNAME:ACTUALIZANDOME
X-ORIGINAL-URL:https://calendario.actualizandome.com
X-WR-CALDESC:Eventos para ACTUALIZANDOME
REFRESH-INTERVAL;VALUE=DURATION:PT1H
X-Robots-Tag:noindex
X-PUBLISHED-TTL:PT1H
BEGIN:VTIMEZONE
TZID:America/Mexico_City
BEGIN:DAYLIGHT
TZOFFSETFROM:-0600
TZOFFSETTO:-0500
TZNAME:CDT
DTSTART:20220403T080000
END:DAYLIGHT
BEGIN:STANDARD
TZOFFSETFROM:-0500
TZOFFSETTO:-0600
TZNAME:CST
DTSTART:20221030T070000
END:STANDARD
END:VTIMEZONE
BEGIN:VEVENT
DTSTART;TZID=America/Mexico_City:20231031T200000
DTEND;TZID=America/Mexico_City:20231031T210000
DTSTAMP:20260421T233020
CREATED:20231031T234808Z
LAST-MODIFIED:20231031T234808Z
UID:10000491-1698782400-1698786000@calendario.actualizandome.com
SUMMARY:Sesión Interactiva de la Revista actualizandome.com Nº 138
DESCRIPTION:
URL:https://calendario.actualizandome.com/event/sesion-interactiva-de-la-revista-actualizandome-com-no-138/
CATEGORIES:Cursos,Videoconferencia
ATTACH;FMTTYPE=image/jpeg:https://calendario.actualizandome.com/wp-content/uploads/2023/10/interactiva-138-scaled.jpg
END:VEVENT
BEGIN:VEVENT
DTSTART;TZID=America/Mexico_City:20231031T180000
DTEND;TZID=America/Mexico_City:20231031T190000
DTSTAMP:20260421T233020
CREATED:20231030T215546Z
LAST-MODIFIED:20231030T215546Z
UID:10000483-1698775200-1698778800@calendario.actualizandome.com
SUMMARY:CONADFIS - Concluir con Dudas del Llenado\, Sesión Anterior - #BarraActualizandome
DESCRIPTION:
URL:https://calendario.actualizandome.com/event/conadfis-concluir-con-dudas-del-llenado-sesion-anterior-barraactualizandome/
CATEGORIES:Aula Virtual
ATTACH;FMTTYPE=image/jpeg:https://calendario.actualizandome.com/wp-content/uploads/2023/10/conadfis-2.jpg
END:VEVENT
BEGIN:VEVENT
DTSTART;TZID=America/Mexico_City:20231031T170000
DTEND;TZID=America/Mexico_City:20231031T180000
DTSTAMP:20260421T233020
CREATED:20231030T215300Z
LAST-MODIFIED:20231030T215300Z
UID:10000482-1698771600-1698775200@calendario.actualizandome.com
SUMMARY:Fiscal por la Tarde - #BarraActualizandome
DESCRIPTION:
URL:https://calendario.actualizandome.com/event/fiscal-por-la-tarde-barraactualizandome-5/
CATEGORIES:Aula Virtual
ATTACH;FMTTYPE=image/jpeg:https://calendario.actualizandome.com/wp-content/uploads/2023/10/fiscal-2.jpg
END:VEVENT
BEGIN:VEVENT
DTSTART;TZID=America/Mexico_City:20231031T160000
DTEND;TZID=America/Mexico_City:20231031T170000
DTSTAMP:20260421T233020
CREATED:20231030T215134Z
LAST-MODIFIED:20231030T215134Z
UID:10000481-1698768000-1698771600@calendario.actualizandome.com
SUMMARY:Compliance más allá de la Norma - #BarraActualizandome
DESCRIPTION:
URL:https://calendario.actualizandome.com/event/compliance-mas-alla-de-la-norma-barraactualizandome-5/
CATEGORIES:Aula Virtual
ATTACH;FMTTYPE=image/jpeg:https://calendario.actualizandome.com/wp-content/uploads/2023/10/compliance-1.jpg
END:VEVENT
BEGIN:VEVENT
DTSTART;TZID=America/Mexico_City:20231031T140000
DTEND;TZID=America/Mexico_City:20231031T150000
DTSTAMP:20260421T233020
CREATED:20231030T214940Z
LAST-MODIFIED:20231031T191655Z
UID:10000480-1698760800-1698764400@calendario.actualizandome.com
SUMMARY:El Poder de los Seguros - Riesgos al Cierre Anual - #BarraActualizandome
DESCRIPTION:
URL:https://calendario.actualizandome.com/event/el-poder-de-los-seguros-barraactualizandome-4/
CATEGORIES:Aula Virtual
ATTACH;FMTTYPE=image/jpeg:https://calendario.actualizandome.com/wp-content/uploads/2023/10/seguros-2.jpg
END:VEVENT
BEGIN:VEVENT
DTSTART;TZID=America/Mexico_City:20231031T130000
DTEND;TZID=America/Mexico_City:20231031T140000
DTSTAMP:20260421T233020
CREATED:20231030T214818Z
LAST-MODIFIED:20231030T214818Z
UID:10000479-1698757200-1698760800@calendario.actualizandome.com
SUMMARY:Litigio Fiscal Estratégico - #BarraActualizandome
DESCRIPTION:
URL:https://calendario.actualizandome.com/event/litigio-fiscal-estrategico-barraactualizandome-3/
CATEGORIES:Aula Virtual
ATTACH;FMTTYPE=image/jpeg:https://calendario.actualizandome.com/wp-content/uploads/2023/10/litigio-1.jpg
END:VEVENT
BEGIN:VEVENT
DTSTART;TZID=America/Mexico_City:20231031T120000
DTEND;TZID=America/Mexico_City:20231031T130000
DTSTAMP:20260421T233020
CREATED:20231030T214650Z
LAST-MODIFIED:20231030T214650Z
UID:10000478-1698753600-1698757200@calendario.actualizandome.com
SUMMARY:Tópicos Fiscales - Información al Contribuyente Sobre los Hechos u Omisiones Detectados en la Visita Domiciliaria\, Revisión de Gabinete o Revisión Electrónica - #BarraActualizandome
DESCRIPTION:
URL:https://calendario.actualizandome.com/event/topicos-fiscales-informacion-al-contribuyente-sobre-los-hechos-u-omisiones-detectados-en-la-visita-domiciliaria-revision-de-gabinete-o-revision-electronica-barraactualizandome/
CATEGORIES:Aula Virtual
ATTACH;FMTTYPE=image/jpeg:https://calendario.actualizandome.com/wp-content/uploads/2023/10/topicos-5.jpg
END:VEVENT
BEGIN:VEVENT
DTSTART;TZID=America/Mexico_City:20231031T110000
DTEND;TZID=America/Mexico_City:20231031T120000
DTSTAMP:20260421T233020
CREATED:20231030T214248Z
LAST-MODIFIED:20231030T214248Z
UID:10000477-1698750000-1698753600@calendario.actualizandome.com
SUMMARY:La Hora de la Prodecon - Donatarias Autorizadas - #BarraActualizandome
DESCRIPTION:
URL:https://calendario.actualizandome.com/event/la-hora-de-la-prodecon-donatarias-autorizadas-barraactualizandome/
CATEGORIES:Aula Virtual
ATTACH;FMTTYPE=image/jpeg:https://calendario.actualizandome.com/wp-content/uploads/2023/10/prodecon-1.jpg
END:VEVENT
BEGIN:VEVENT
DTSTART;TZID=America/Mexico_City:20231031T100000
DTEND;TZID=America/Mexico_City:20231031T110000
DTSTAMP:20260421T233020
CREATED:20231030T214110Z
LAST-MODIFIED:20231030T214110Z
UID:10000476-1698746400-1698750000@calendario.actualizandome.com
SUMMARY:Leones Tributarios - El Amparo Contra Normas Fiscales Cuando No Establecen Vicios Subsanables - #BarraActualizandome
DESCRIPTION:
URL:https://calendario.actualizandome.com/event/leones-tributarios-el-amparo-contra-normas-fiscales-cuando-no-establecen-vicios-subsanables-barraactualizandome/
CATEGORIES:Aula Virtual
ATTACH;FMTTYPE=image/jpeg:https://calendario.actualizandome.com/wp-content/uploads/2023/10/leones-1.jpg
END:VEVENT
BEGIN:VEVENT
DTSTART;VALUE=DATE:20231031
DTEND;VALUE=DATE:20231101
DTSTAMP:20260421T233020
CREATED:20231025T185450Z
LAST-MODIFIED:20231025T185450Z
UID:10000458-1698710400-1698796799@calendario.actualizandome.com
SUMMARY:Programación de la Barra Actualizandome
DESCRIPTION:
URL:https://calendario.actualizandome.com/event/programacion-de-la-barra-actualizandome-60/
CATEGORIES:Aula Virtual
ATTACH;FMTTYPE=image/png:https://calendario.actualizandome.com/wp-content/uploads/2023/10/martes-4.png
END:VEVENT
BEGIN:VEVENT
DTSTART;TZID=America/Mexico_City:20231030T180000
DTEND;TZID=America/Mexico_City:20231030T190000
DTSTAMP:20260421T233020
CREATED:20231027T204125Z
LAST-MODIFIED:20231030T232519Z
UID:10000474-1698688800-1698692400@calendario.actualizandome.com
SUMMARY:Hora de la Asociación Sonorense de Contadores Públicos - IVA en Alimentos Tasa 0% - #BarraActualizandome
DESCRIPTION:
URL:https://calendario.actualizandome.com/event/hora-de-la-asociacion-sonorense-de-contadores-publicos-barraactualizandome-3/
CATEGORIES:Aula Virtual
ATTACH;FMTTYPE=image/jpeg:https://calendario.actualizandome.com/wp-content/uploads/2023/10/ascp-2.jpg
END:VEVENT
BEGIN:VEVENT
DTSTART;TZID=America/Mexico_City:20231030T170000
DTEND;TZID=America/Mexico_City:20231030T180000
DTSTAMP:20260421T233020
CREATED:20231027T203948Z
LAST-MODIFIED:20231027T203948Z
UID:10000473-1698685200-1698688800@calendario.actualizandome.com
SUMMARY:Conoce les Finanzas - #BarraActualizandome
DESCRIPTION:
URL:https://calendario.actualizandome.com/event/conoce-les-finanzas-barraactualizandome/
CATEGORIES:Aula Virtual
ATTACH;FMTTYPE=image/jpeg:https://calendario.actualizandome.com/wp-content/uploads/2023/10/finanzas-1.jpg
END:VEVENT
BEGIN:VEVENT
DTSTART;TZID=America/Mexico_City:20231030T160000
DTEND;TZID=America/Mexico_City:20231030T180000
DTSTAMP:20260421T233020
CREATED:20231016T200928Z
LAST-MODIFIED:20231016T200928Z
UID:10000396-1698681600-1698688800@calendario.actualizandome.com
SUMMARY:Videoconferencia: Repasando aspectos relevantes ante el envío de la contabilidad  electrónica
DESCRIPTION:
URL:https://calendario.actualizandome.com/event/videoconferencia-repasando-aspectos-relevantes-ante-el-envio-de-la-contabilidad-electronica/
CATEGORIES:Cursos,On line
ATTACH;FMTTYPE=image/jpeg:https://calendario.actualizandome.com/wp-content/uploads/2023/10/WhatsApp-Image-2023-10-16-at-11.51.28.jpeg
END:VEVENT
BEGIN:VEVENT
DTSTART;TZID=America/Mexico_City:20231030T140000
DTEND;TZID=America/Mexico_City:20231030T150000
DTSTAMP:20260421T233020
CREATED:20231027T192508Z
LAST-MODIFIED:20231027T192508Z
UID:10000472-1698674400-1698678000@calendario.actualizandome.com
SUMMARY:De Obligaciones y de Derechos - Derechos en los Procedimientos de Comprobación - #BarraActualizandome
DESCRIPTION:
URL:https://calendario.actualizandome.com/event/de-obligaciones-y-de-derechos-derechos-en-los-procedimientos-de-comprobacion-barraactualizandome/
CATEGORIES:Aula Virtual
ATTACH;FMTTYPE=image/jpeg:https://calendario.actualizandome.com/wp-content/uploads/2023/10/obligaciones-1.jpg
END:VEVENT
BEGIN:VEVENT
DTSTART;TZID=America/Mexico_City:20231030T130000
DTEND;TZID=America/Mexico_City:20231030T140000
DTSTAMP:20260421T233020
CREATED:20231027T192242Z
LAST-MODIFIED:20231027T192242Z
UID:10000471-1698670800-1698674400@calendario.actualizandome.com
SUMMARY:La Hora CNCP - Impuestos Estatales 7ma. Parte - Impuesto Sobre Nómina - #BarraActualizandome
DESCRIPTION:
URL:https://calendario.actualizandome.com/event/la-hora-cncp-impuestos-estatales-7ma-parte-impuesto-sobre-nomina-barraactualizandome/
CATEGORIES:Aula Virtual
ATTACH;FMTTYPE=image/jpeg:https://calendario.actualizandome.com/wp-content/uploads/2023/10/cncp-4.jpg
END:VEVENT
BEGIN:VEVENT
DTSTART;TZID=America/Mexico_City:20231030T120000
DTEND;TZID=America/Mexico_City:20231030T130000
DTSTAMP:20260421T233020
CREATED:20231027T191754Z
LAST-MODIFIED:20231027T191754Z
UID:10000470-1698667200-1698670800@calendario.actualizandome.com
SUMMARY:Panorama Empresarial - #BarraActualizandome
DESCRIPTION:
URL:https://calendario.actualizandome.com/event/panorama-empresarial-barraactualizandome-6/
CATEGORIES:Aula Virtual
ATTACH;FMTTYPE=image/jpeg:https://calendario.actualizandome.com/wp-content/uploads/2023/10/panorama-1.jpg
END:VEVENT
BEGIN:VEVENT
DTSTART;TZID=America/Mexico_City:20231030T110000
DTEND;TZID=America/Mexico_City:20231030T120000
DTSTAMP:20260421T233020
CREATED:20231027T191647Z
LAST-MODIFIED:20231027T191647Z
UID:10000469-1698663600-1698667200@calendario.actualizandome.com
SUMMARY:Expresión Fiscal - Consejos Prácticos Para el Juicio Contencioso Administrativo Federal - #BarraActualizandome
DESCRIPTION:
URL:https://calendario.actualizandome.com/event/expresion-fiscal-consejos-practicos-para-el-juicio-contencioso-administrativo-federal-barraactualizandome/
ATTACH;FMTTYPE=image/jpeg:https://calendario.actualizandome.com/wp-content/uploads/2023/10/expresion.jpg
END:VEVENT
BEGIN:VEVENT
DTSTART;VALUE=DATE:20231030
DTEND;VALUE=DATE:20231031
DTSTAMP:20260421T233020
CREATED:20231025T185356Z
LAST-MODIFIED:20231025T185356Z
UID:10000457-1698624000-1698710399@calendario.actualizandome.com
SUMMARY:Programación de la Barra Actualizandome
DESCRIPTION:
URL:https://calendario.actualizandome.com/event/programacion-de-la-barra-actualizandome-59/
CATEGORIES:Aula Virtual
ATTACH;FMTTYPE=image/png:https://calendario.actualizandome.com/wp-content/uploads/2023/10/lunes-3.png
END:VEVENT
BEGIN:VEVENT
DTSTART;TZID=America/Mexico_City:20231028T120000
DTEND;TZID=America/Mexico_City:20231028T140000
DTSTAMP:20260421T233020
CREATED:20231026T004541Z
LAST-MODIFIED:20231026T004541Z
UID:10000464-1698494400-1698501600@calendario.actualizandome.com
SUMMARY:Videoconferencia Reglas sobre IEPS 3ra parte
DESCRIPTION:boto
URL:https://calendario.actualizandome.com/event/videoconferencia-reglas-sobre-ieps-3ra-parte/
CATEGORIES:Cursos,Videoconferencia
ATTACH;FMTTYPE=image/png:https://calendario.actualizandome.com/wp-content/uploads/2023/10/cursos-28oct23.png
END:VEVENT
BEGIN:VEVENT
DTSTART;TZID=America/Mexico_City:20231027T190000
DTEND;TZID=America/Mexico_City:20231027T200000
DTSTAMP:20260421T233020
CREATED:20231024T224624Z
LAST-MODIFIED:20231024T224624Z
UID:10000451-1698433200-1698436800@calendario.actualizandome.com
SUMMARY:ACTUALIZANDOMEME #BarraActualizandome
DESCRIPTION:
URL:https://calendario.actualizandome.com/event/actualizandomeme-barraactualizandome-2/
CATEGORIES:Aula Virtual
ATTACH;FMTTYPE=image/png:https://calendario.actualizandome.com/wp-content/uploads/2023/10/memes.png
END:VEVENT
BEGIN:VEVENT
DTSTART;TZID=America/Mexico_City:20231027T180000
DTEND;TZID=America/Mexico_City:20231027T190000
DTSTAMP:20260421T233020
CREATED:20231026T223950Z
LAST-MODIFIED:20231027T161235Z
UID:10000468-1698429600-1698433200@calendario.actualizandome.com
SUMMARY:Tres a las Seis - Los Avisos al RFC - #BarraActualizandome
DESCRIPTION:
URL:https://calendario.actualizandome.com/event/tres-a-las-seis-barraactualizandome-5/
CATEGORIES:Aula Virtual
ATTACH;FMTTYPE=image/jpeg:https://calendario.actualizandome.com/wp-content/uploads/2023/10/TRES-2.jpg
END:VEVENT
BEGIN:VEVENT
DTSTART;TZID=America/Mexico_City:20231027T170000
DTEND;TZID=America/Mexico_City:20231027T180000
DTSTAMP:20260421T233020
CREATED:20231026T160908Z
LAST-MODIFIED:20231026T160908Z
UID:10000465-1698426000-1698429600@calendario.actualizandome.com
SUMMARY:Está Bien No Estar Bien - Los Villanos o no tan Villanos - #BarraActualizandome
DESCRIPTION:
URL:https://calendario.actualizandome.com/event/esta-bien-no-estar-bien-los-villanos-o-no-tan-villanos-barraactualizandome/
CATEGORIES:Aula Virtual
ATTACH;FMTTYPE=image/jpeg:https://calendario.actualizandome.com/wp-content/uploads/2023/10/bien-1.jpg
END:VEVENT
BEGIN:VEVENT
DTSTART;TZID=America/Mexico_City:20231027T130000
DTEND;TZID=America/Mexico_City:20231027T140000
DTSTAMP:20260421T233020
CREATED:20231025T230745Z
LAST-MODIFIED:20231025T230745Z
UID:10000461-1698411600-1698415200@calendario.actualizandome.com
SUMMARY:Los Derechos Humanos en Serio - #BarraActualizandome
DESCRIPTION:
URL:https://calendario.actualizandome.com/event/los-derechos-humanos-en-serio-barraactualizandome-6/
CATEGORIES:Aula Virtual
ATTACH;FMTTYPE=image/jpeg:https://calendario.actualizandome.com/wp-content/uploads/2023/10/derechos-1.jpg
END:VEVENT
BEGIN:VEVENT
DTSTART;TZID=America/Mexico_City:20231027T120000
DTEND;TZID=America/Mexico_City:20231027T130000
DTSTAMP:20260421T233020
CREATED:20231026T223828Z
LAST-MODIFIED:20231027T161117Z
UID:10000467-1698408000-1698411600@calendario.actualizandome.com
SUMMARY:Contabilidad y Algo Más - Renovación en la Contabilidad - #BarraActualizandome
DESCRIPTION:
URL:https://calendario.actualizandome.com/event/contabilidad-y-algo-mas-barraactualizandome-5/
CATEGORIES:Aula Virtual
ATTACH;FMTTYPE=image/jpeg:https://calendario.actualizandome.com/wp-content/uploads/2023/10/contab-9.jpg
END:VEVENT
BEGIN:VEVENT
DTSTART;TZID=America/Mexico_City:20231027T110000
DTEND;TZID=America/Mexico_City:20231027T120000
DTSTAMP:20260421T233020
CREATED:20231026T223648Z
LAST-MODIFIED:20231026T223713Z
UID:10000466-1698404400-1698408000@calendario.actualizandome.com
SUMMARY:Metamorfosis - #BarraActualizandome
DESCRIPTION:
URL:https://calendario.actualizandome.com/event/28641/
CATEGORIES:Aula Virtual
ATTACH;FMTTYPE=image/jpeg:https://calendario.actualizandome.com/wp-content/uploads/2023/10/meta.jpg
END:VEVENT
BEGIN:VEVENT
DTSTART;TZID=America/Mexico_City:20231027T100000
DTEND;TZID=America/Mexico_City:20231027T110000
DTSTAMP:20260421T233020
CREATED:20231025T230626Z
LAST-MODIFIED:20231025T230626Z
UID:10000460-1698400800-1698404400@calendario.actualizandome.com
SUMMARY:Sembrando el Conocimiento - Costos de Producción en el Sector Primario - Cultivo de la Piña - #BarraActualizandome
DESCRIPTION:
URL:https://calendario.actualizandome.com/event/sembrando-el-conocimiento-costos-de-produccion-en-el-sector-primario-cultivo-de-la-pina-barraactualizandome/
CATEGORIES:Aula Virtual
ATTACH;FMTTYPE=image/jpeg:https://calendario.actualizandome.com/wp-content/uploads/2023/10/sembrando-1.jpg
END:VEVENT
BEGIN:VEVENT
DTSTART;VALUE=DATE:20231027
DTEND;VALUE=DATE:20231028
DTSTAMP:20260421T233020
CREATED:20231019T175101Z
LAST-MODIFIED:20231026T230604Z
UID:10000422-1698364800-1698451199@calendario.actualizandome.com
SUMMARY:Programación de la Barra Actualizandome
DESCRIPTION:
URL:https://calendario.actualizandome.com/event/programacion-de-la-barra-actualizandome-58/
CATEGORIES:Aula Virtual
ATTACH;FMTTYPE=image/png:https://calendario.actualizandome.com/wp-content/uploads/2023/10/VIERNES-6.png
END:VEVENT
BEGIN:VEVENT
DTSTART;TZID=America/Mexico_City:20231026T180000
DTEND;TZID=America/Mexico_City:20231026T190000
DTSTAMP:20260421T233020
CREATED:20231025T182739Z
LAST-MODIFIED:20231025T182739Z
UID:10000456-1698343200-1698346800@calendario.actualizandome.com
SUMMARY:Defensa Fiscal Práctica - #BarraActualizandome
DESCRIPTION:
URL:https://calendario.actualizandome.com/event/defensa-fiscal-practica-barraactualizandome-6/
CATEGORIES:Aula Virtual
ATTACH;FMTTYPE=image/jpeg:https://calendario.actualizandome.com/wp-content/uploads/2023/10/defensa-2.jpg
END:VEVENT
BEGIN:VEVENT
DTSTART;TZID=America/Mexico_City:20231026T170000
DTEND;TZID=America/Mexico_City:20231026T180000
DTSTAMP:20260421T233020
CREATED:20231025T182417Z
LAST-MODIFIED:20231025T182417Z
UID:10000455-1698339600-1698343200@calendario.actualizandome.com
SUMMARY:Consultoría Fiscal Empresarial - Planeación\, Elusión\, Simulación\, Evasión y Defraudación Fiscal\, Características y Diferencias - #BarraActualizandome
DESCRIPTION:
URL:https://calendario.actualizandome.com/event/consultoria-fiscal-empresarial-planeacion-elusion-simulacion-evasion-y-defraudacion-fiscal-caracteristicas-y-diferencias-barraactualizandome/
CATEGORIES:Aula Virtual
ATTACH;FMTTYPE=image/jpeg:https://calendario.actualizandome.com/wp-content/uploads/2023/10/consultoria-2.jpg
END:VEVENT
BEGIN:VEVENT
DTSTART;TZID=America/Mexico_City:20231026T130000
DTEND;TZID=America/Mexico_City:20231026T140000
DTSTAMP:20260421T233020
CREATED:20231025T182155Z
LAST-MODIFIED:20231025T182155Z
UID:10000454-1698325200-1698328800@calendario.actualizandome.com
SUMMARY:Participando en Grupo - #BarraActualizandome
DESCRIPTION:
URL:https://calendario.actualizandome.com/event/participando-en-grupo-barraactualizandome-3/
CATEGORIES:Aula Virtual
ATTACH;FMTTYPE=image/jpeg:https://calendario.actualizandome.com/wp-content/uploads/2023/10/participando.jpg
END:VEVENT
END:VCALENDAR