BEGIN:VCALENDAR
VERSION:2.0
PRODID:-//ACTUALIZANDOME - ECPv6.15.16//NONSGML v1.0//EN
CALSCALE:GREGORIAN
METHOD:PUBLISH
X-WR-CALNAME:ACTUALIZANDOME
X-ORIGINAL-URL:https://calendario.actualizandome.com
X-WR-CALDESC:Eventos para ACTUALIZANDOME
REFRESH-INTERVAL;VALUE=DURATION:PT1H
X-Robots-Tag:noindex
X-PUBLISHED-TTL:PT1H
BEGIN:VTIMEZONE
TZID:America/Mexico_City
BEGIN:DAYLIGHT
TZOFFSETFROM:-0600
TZOFFSETTO:-0500
TZNAME:CDT
DTSTART:20220403T080000
END:DAYLIGHT
BEGIN:STANDARD
TZOFFSETFROM:-0500
TZOFFSETTO:-0600
TZNAME:CST
DTSTART:20221030T070000
END:STANDARD
END:VTIMEZONE
BEGIN:VEVENT
DTSTART;TZID=America/Mexico_City:20231107T110000
DTEND;TZID=America/Mexico_City:20231107T120000
DTSTAMP:20260421T185850
CREATED:20231106T222653Z
LAST-MODIFIED:20231106T222653Z
UID:10000519-1699354800-1699358400@calendario.actualizandome.com
SUMMARY:Tópicos de Seguridad Social - SIROC - #BarraActualizandome
DESCRIPTION:
URL:https://calendario.actualizandome.com/event/topicos-de-seguridad-social-siroc-barraactualizandome/
CATEGORIES:Aula Virtual
ATTACH;FMTTYPE=image/jpeg:https://calendario.actualizandome.com/wp-content/uploads/2023/11/topicos.jpg
END:VEVENT
BEGIN:VEVENT
DTSTART;TZID=America/Mexico_City:20231107T100000
DTEND;TZID=America/Mexico_City:20231107T110000
DTSTAMP:20260421T185850
CREATED:20231106T223927Z
LAST-MODIFIED:20231106T223927Z
UID:10000525-1699351200-1699354800@calendario.actualizandome.com
SUMMARY:Diplomado en Inversiones y Estrategias Financieras - (R) - #BarraActualizandome
DESCRIPTION:
URL:https://calendario.actualizandome.com/event/diplomado-en-inversiones-y-estrategias-financieras-r-barraactualizandome-2/
CATEGORIES:Aula Virtual
ATTACH;FMTTYPE=image/jpeg:https://calendario.actualizandome.com/wp-content/uploads/2023/11/diplomado-1.jpg
END:VEVENT
BEGIN:VEVENT
DTSTART;VALUE=DATE:20231107
DTEND;VALUE=DATE:20231108
DTSTAMP:20260421T185850
CREATED:20231102T214315Z
LAST-MODIFIED:20231102T225613Z
UID:10000507-1699315200-1699401599@calendario.actualizandome.com
SUMMARY:Programación de la Barra Actualizandome
DESCRIPTION:
URL:https://calendario.actualizandome.com/event/programacion-de-la-barra-actualizandome-65/
CATEGORIES:Aula Virtual
ATTACH;FMTTYPE=image/png:https://calendario.actualizandome.com/wp-content/uploads/2023/11/martes-1.png
END:VEVENT
BEGIN:VEVENT
DTSTART;TZID=America/Mexico_City:20231106T180000
DTEND;TZID=America/Mexico_City:20231106T190000
DTSTAMP:20260421T185850
CREATED:20231103T220936Z
LAST-MODIFIED:20231103T220936Z
UID:10000517-1699293600-1699297200@calendario.actualizandome.com
SUMMARY:ABC de lo Fiscal - Ajuste Anual Por Inflación - #BarraActualizandome
DESCRIPTION:
URL:https://calendario.actualizandome.com/event/abc-de-lo-fiscal-ajuste-anual-por-inflacion-barraactualizandome/
CATEGORIES:Aula Virtual
ATTACH;FMTTYPE=image/jpeg:https://calendario.actualizandome.com/wp-content/uploads/2023/11/abc.jpg
END:VEVENT
BEGIN:VEVENT
DTSTART;TZID=America/Mexico_City:20231106T170000
DTEND;TZID=America/Mexico_City:20231106T180000
DTSTAMP:20260421T185850
CREATED:20231103T220819Z
LAST-MODIFIED:20231103T220819Z
UID:10000516-1699290000-1699293600@calendario.actualizandome.com
SUMMARY:Foco Financiero - (R) - #BarraActualizandome
DESCRIPTION:
URL:https://calendario.actualizandome.com/event/foco-financiero-r-barraactualizandome-6/
CATEGORIES:Aula Virtual
ATTACH;FMTTYPE=image/jpeg:https://calendario.actualizandome.com/wp-content/uploads/2023/11/foco.jpg
END:VEVENT
BEGIN:VEVENT
DTSTART;TZID=America/Mexico_City:20231106T140000
DTEND;TZID=America/Mexico_City:20231106T150000
DTSTAMP:20260421T185850
CREATED:20231103T220602Z
LAST-MODIFIED:20231103T220602Z
UID:10000515-1699279200-1699282800@calendario.actualizandome.com
SUMMARY:Enlazando las Profesiones - #BarraActualizandome
DESCRIPTION:
URL:https://calendario.actualizandome.com/event/enlazando-las-profesiones-barraactualizandome-6/
CATEGORIES:Aula Virtual
ATTACH;FMTTYPE=image/jpeg:https://calendario.actualizandome.com/wp-content/uploads/2023/11/enlazando.jpg
END:VEVENT
BEGIN:VEVENT
DTSTART;TZID=America/Mexico_City:20231106T130000
DTEND;TZID=America/Mexico_City:20231106T140000
DTSTAMP:20260421T185850
CREATED:20231103T220447Z
LAST-MODIFIED:20231106T182947Z
UID:10000514-1699275600-1699279200@calendario.actualizandome.com
SUMMARY:La Hora CNCP - Impuestos Estatales - 8va. Parte - Impuesto Sobre Hospedaje - #BarraActualizandome
DESCRIPTION:
URL:https://calendario.actualizandome.com/event/la-hora-cncp-impuestos-estatales-8va-parte-barraactualizandome/
CATEGORIES:Aula Virtual
ATTACH;FMTTYPE=image/jpeg:https://calendario.actualizandome.com/wp-content/uploads/2023/11/cncp-1.jpg
END:VEVENT
BEGIN:VEVENT
DTSTART;TZID=America/Mexico_City:20231106T120000
DTEND;TZID=America/Mexico_City:20231106T130000
DTSTAMP:20260421T185850
CREATED:20231103T220249Z
LAST-MODIFIED:20231103T220249Z
UID:10000513-1699272000-1699275600@calendario.actualizandome.com
SUMMARY:El Derecho y su Círculo de Acción - Los Contratos - #BarraActualizandome
DESCRIPTION:
URL:https://calendario.actualizandome.com/event/el-derecho-y-su-circulo-de-accion-los-contratos-barraactualizandome/
CATEGORIES:Aula Virtual
ATTACH;FMTTYPE=image/jpeg:https://calendario.actualizandome.com/wp-content/uploads/2023/11/derecho.jpg
END:VEVENT
BEGIN:VEVENT
DTSTART;TZID=America/Mexico_City:20231106T110000
DTEND;TZID=America/Mexico_City:20231106T120000
DTSTAMP:20260421T185850
CREATED:20231103T220112Z
LAST-MODIFIED:20231106T162127Z
UID:10000512-1699268400-1699272000@calendario.actualizandome.com
SUMMARY:Frecuencia Empresarial - Cumplimiento Oportuno de Obligaciones - #BarraActualizandome
DESCRIPTION:
URL:https://calendario.actualizandome.com/event/hablemos-del-codigo-fiscal-barraactualizandome-6/
CATEGORIES:Aula Virtual
ATTACH;FMTTYPE=image/jpeg:https://calendario.actualizandome.com/wp-content/uploads/2023/11/frecuencia-2.jpg
END:VEVENT
BEGIN:VEVENT
DTSTART;TZID=America/Mexico_City:20231106T100000
DTEND;TZID=America/Mexico_City:20231106T110000
DTSTAMP:20260421T185850
CREATED:20231103T220001Z
LAST-MODIFIED:20231103T220001Z
UID:10000511-1699264800-1699268400@calendario.actualizandome.com
SUMMARY:Diplomado en Inversiones y Estrategias Financieras (R) - #BarraActualizandome
DESCRIPTION:
URL:https://calendario.actualizandome.com/event/diplomado-en-inversiones-y-estrategias-financieras-r-barraactualizandome/
CATEGORIES:Aula Virtual
ATTACH;FMTTYPE=image/jpeg:https://calendario.actualizandome.com/wp-content/uploads/2023/11/diplomado.jpg
END:VEVENT
BEGIN:VEVENT
DTSTART;VALUE=DATE:20231106
DTEND;VALUE=DATE:20231107
DTSTAMP:20260421T185850
CREATED:20231102T214116Z
LAST-MODIFIED:20231106T153620Z
UID:10000506-1699228800-1699315199@calendario.actualizandome.com
SUMMARY:Programación de la Barra Actualizandome
DESCRIPTION:
URL:https://calendario.actualizandome.com/event/programacion-de-la-barra-actualizandome-64/
CATEGORIES:Aula Virtual
ATTACH;FMTTYPE=image/png:https://calendario.actualizandome.com/wp-content/uploads/2023/11/LUNES-1.png
END:VEVENT
BEGIN:VEVENT
DTSTART;TZID=America/Mexico_City:20231103T180000
DTEND;TZID=America/Mexico_City:20231103T190000
DTSTAMP:20260421T185850
CREATED:20231102T191827Z
LAST-MODIFIED:20231102T191827Z
UID:10000505-1699034400-1699038000@calendario.actualizandome.com
SUMMARY:Defensores - (R) - #BarraActualizandome
DESCRIPTION:
URL:https://calendario.actualizandome.com/event/defensores-r-barraactualizandome-3/
CATEGORIES:Aula Virtual
ATTACH;FMTTYPE=image/jpeg:https://calendario.actualizandome.com/wp-content/uploads/2023/11/defensores.jpg
END:VEVENT
BEGIN:VEVENT
DTSTART;TZID=America/Mexico_City:20231103T170000
DTEND;TZID=America/Mexico_City:20231103T180000
DTSTAMP:20260421T185850
CREATED:20231102T191722Z
LAST-MODIFIED:20231102T221917Z
UID:10000504-1699030800-1699034400@calendario.actualizandome.com
SUMMARY:Frecuencia Empresarial - Cumplimiento Oportuno de Obligaciones - #BarraActualizandome
DESCRIPTION:
URL:https://calendario.actualizandome.com/event/frecuencia-empresarial-barraactualizandome-5/
CATEGORIES:Aula Virtual
ATTACH;FMTTYPE=image/jpeg:https://calendario.actualizandome.com/wp-content/uploads/2023/11/frecuencia-1.jpg
END:VEVENT
BEGIN:VEVENT
DTSTART;TZID=America/Mexico_City:20231103T130000
DTEND;TZID=America/Mexico_City:20231103T140000
DTSTAMP:20260421T185850
CREATED:20231102T191620Z
LAST-MODIFIED:20231102T191620Z
UID:10000503-1699016400-1699020000@calendario.actualizandome.com
SUMMARY:El Mundo más allá de lo Contable y Fiscal - #BarraActualizandome
DESCRIPTION:
URL:https://calendario.actualizandome.com/event/el-mundo-mas-alla-de-lo-contable-y-fiscal-barraactualizandome-4/
CATEGORIES:Aula Virtual
ATTACH;FMTTYPE=image/jpeg:https://calendario.actualizandome.com/wp-content/uploads/2023/11/mundo.jpg
END:VEVENT
BEGIN:VEVENT
DTSTART;TZID=America/Mexico_City:20231103T120000
DTEND;TZID=America/Mexico_City:20231103T130000
DTSTAMP:20260421T185850
CREATED:20231102T191448Z
LAST-MODIFIED:20231102T191448Z
UID:10000502-1699012800-1699016400@calendario.actualizandome.com
SUMMARY:Compilación Fiscal - Reporte de Donatarias Autorizadas 2023 - #BarraActualizandome
DESCRIPTION:
URL:https://calendario.actualizandome.com/event/compilacion-fiscal-reporte-de-donatarias-autorizadas-2023-barraactualizandome/
CATEGORIES:Aula Virtual
ATTACH;FMTTYPE=image/jpeg:https://calendario.actualizandome.com/wp-content/uploads/2023/11/compilacion.jpg
END:VEVENT
BEGIN:VEVENT
DTSTART;TZID=America/Mexico_City:20231103T110000
DTEND;TZID=America/Mexico_City:20231103T120000
DTSTAMP:20260421T185850
CREATED:20231102T191322Z
LAST-MODIFIED:20231102T191322Z
UID:10000501-1699009200-1699012800@calendario.actualizandome.com
SUMMARY:Yin Yang Fiscal - Estímulos Fiscales - #BarraActualizandome
DESCRIPTION:
URL:https://calendario.actualizandome.com/event/yin-yang-fiscal-estimulos-fiscales-barraactualizandome/
CATEGORIES:Aula Virtual
ATTACH;FMTTYPE=image/jpeg:https://calendario.actualizandome.com/wp-content/uploads/2023/11/yin.jpg
END:VEVENT
BEGIN:VEVENT
DTSTART;TZID=America/Mexico_City:20231103T100000
DTEND;TZID=America/Mexico_City:20231103T110000
DTSTAMP:20260421T185850
CREATED:20231102T191136Z
LAST-MODIFIED:20231102T191136Z
UID:10000500-1699005600-1699009200@calendario.actualizandome.com
SUMMARY:Conociendo el Mundo Fiscal - #BarraActualizandome
DESCRIPTION:
URL:https://calendario.actualizandome.com/event/conociendo-el-mundo-fiscal-barraactualizandome-7/
CATEGORIES:Aula Virtual
ATTACH;FMTTYPE=image/jpeg:https://calendario.actualizandome.com/wp-content/uploads/2023/11/conociendo.jpg
END:VEVENT
BEGIN:VEVENT
DTSTART;VALUE=DATE:20231103
DTEND;VALUE=DATE:20231104
DTSTAMP:20260421T185850
CREATED:20231025T233513Z
LAST-MODIFIED:20231102T221316Z
UID:10000463-1698969600-1699055999@calendario.actualizandome.com
SUMMARY:Programación de la Barra Actualizandome
DESCRIPTION:
URL:https://calendario.actualizandome.com/event/programacion-de-la-barra-actualizandome-63/
CATEGORIES:Aula Virtual
ATTACH;FMTTYPE=image/png:https://calendario.actualizandome.com/wp-content/uploads/2023/10/VIERNES3.png
END:VEVENT
BEGIN:VEVENT
DTSTART;TZID=America/Mexico_City:20231102T180000
DTEND;TZID=America/Mexico_City:20231102T190000
DTSTAMP:20260421T185850
CREATED:20231101T201113Z
LAST-MODIFIED:20231101T201113Z
UID:10000498-1698948000-1698951600@calendario.actualizandome.com
SUMMARY:Updating My Intellect - Uso de Herramientas\, IA\, Robot - #BarraActualizandome
DESCRIPTION:
URL:https://calendario.actualizandome.com/event/updating-my-intellect-uso-de-herramientas-ia-robot-barraactualizandome/
CATEGORIES:Aula Virtual
ATTACH;FMTTYPE=image/jpeg:https://calendario.actualizandome.com/wp-content/uploads/2023/11/updating.jpg
END:VEVENT
BEGIN:VEVENT
DTSTART;TZID=America/Mexico_City:20231102T170000
DTEND;TZID=America/Mexico_City:20231102T180000
DTSTAMP:20260421T185850
CREATED:20231101T200404Z
LAST-MODIFIED:20231101T200404Z
UID:10000497-1698944400-1698948000@calendario.actualizandome.com
SUMMARY:De Impuestos y Otros Demonios - #BarraActualizandome
DESCRIPTION:
URL:https://calendario.actualizandome.com/event/de-impuestos-y-otros-demonios-barraactualizandome-4/
CATEGORIES:Aula Virtual
ATTACH;FMTTYPE=image/jpeg:https://calendario.actualizandome.com/wp-content/uploads/2023/11/impuestos.jpg
END:VEVENT
BEGIN:VEVENT
DTSTART;TZID=America/Mexico_City:20231102T140000
DTEND;TZID=America/Mexico_City:20231102T150000
DTSTAMP:20260421T185850
CREATED:20231101T200243Z
LAST-MODIFIED:20231101T200243Z
UID:10000496-1698933600-1698937200@calendario.actualizandome.com
SUMMARY:Tecnología Práctica - #BarraActualizandome
DESCRIPTION:
URL:https://calendario.actualizandome.com/event/tecnologia-practica-barraactualizandome-7/
CATEGORIES:Aula Virtual
ATTACH;FMTTYPE=image/jpeg:https://calendario.actualizandome.com/wp-content/uploads/2023/11/tecno.jpg
END:VEVENT
BEGIN:VEVENT
DTSTART;TZID=America/Mexico_City:20231102T130000
DTEND;TZID=America/Mexico_City:20231102T140000
DTSTAMP:20260421T185850
CREATED:20231101T200133Z
LAST-MODIFIED:20231101T200133Z
UID:10000495-1698930000-1698933600@calendario.actualizandome.com
SUMMARY:Noticias en Actualizandome - #BarraActualizandome
DESCRIPTION:
URL:https://calendario.actualizandome.com/event/noticias-en-actualizandome-barraactualizandome-11/
CATEGORIES:Aula Virtual
ATTACH;FMTTYPE=image/jpeg:https://calendario.actualizandome.com/wp-content/uploads/2023/11/noticias.jpg
END:VEVENT
BEGIN:VEVENT
DTSTART;TZID=America/Mexico_City:20231102T120000
DTEND;TZID=America/Mexico_City:20231102T130000
DTSTAMP:20260421T185850
CREATED:20231101T200010Z
LAST-MODIFIED:20231101T200010Z
UID:10000494-1698926400-1698930000@calendario.actualizandome.com
SUMMARY:Derechos Humanos en Serio - (R) - #BarraActualizandome
DESCRIPTION:
URL:https://calendario.actualizandome.com/event/derechos-humanos-en-serio-r-barraactualizandome-4/
CATEGORIES:Aula Virtual
ATTACH;FMTTYPE=image/jpeg:https://calendario.actualizandome.com/wp-content/uploads/2023/11/derechos.jpg
END:VEVENT
BEGIN:VEVENT
DTSTART;TZID=America/Mexico_City:20231102T110000
DTEND;TZID=America/Mexico_City:20231102T120000
DTSTAMP:20260421T185850
CREATED:20231101T195818Z
LAST-MODIFIED:20231101T195818Z
UID:10000493-1698922800-1698926400@calendario.actualizandome.com
SUMMARY:Simetría Fiscal - #BarraActualizandome
DESCRIPTION:
URL:https://calendario.actualizandome.com/event/simetria-fiscal-barraactualizandome-5/
CATEGORIES:Aula Virtual
ATTACH;FMTTYPE=image/jpeg:https://calendario.actualizandome.com/wp-content/uploads/2023/11/simetria.jpg
END:VEVENT
BEGIN:VEVENT
DTSTART;TZID=America/Mexico_City:20231102T100000
DTEND;TZID=America/Mexico_City:20231102T110000
DTSTAMP:20260421T185850
CREATED:20231101T195624Z
LAST-MODIFIED:20231101T195624Z
UID:10000492-1698919200-1698922800@calendario.actualizandome.com
SUMMARY:Hablemos de Pensiones - (R) - #BarraActualizandome
DESCRIPTION:
URL:https://calendario.actualizandome.com/event/hablemos-de-pensiones-r-barraactualizandome-5/
CATEGORIES:Aula Virtual
ATTACH;FMTTYPE=image/jpeg:https://calendario.actualizandome.com/wp-content/uploads/2023/11/PENSIONES.jpg
END:VEVENT
BEGIN:VEVENT
DTSTART;VALUE=DATE:20231102
DTEND;VALUE=DATE:20231103
DTSTAMP:20260421T185850
CREATED:20231025T232750Z
LAST-MODIFIED:20231025T232750Z
UID:10000462-1698883200-1698969599@calendario.actualizandome.com
SUMMARY:Programación de la Barra Actualizandome
DESCRIPTION:
URL:https://calendario.actualizandome.com/event/programacion-de-la-barra-actualizandome-62/
CATEGORIES:Aula Virtual
ATTACH;FMTTYPE=image/png:https://calendario.actualizandome.com/wp-content/uploads/2023/10/jueves-6.png
END:VEVENT
BEGIN:VEVENT
DTSTART;TZID=America/Mexico_City:20231101T190000
DTEND;TZID=America/Mexico_City:20231101T200000
DTSTAMP:20260421T185850
CREATED:20231101T233936Z
LAST-MODIFIED:20231101T234628Z
UID:10000499-1698865200-1698868800@calendario.actualizandome.com
SUMMARY:Sesión Interactiva de la Revista actualizandome.com Nº 138 - 2da Parte
DESCRIPTION:
URL:https://calendario.actualizandome.com/event/sesion-interactiva-de-la-revista-actualizandome-com-no-138-2da-parte/
CATEGORIES:Cursos,Videoconferencia
ATTACH;FMTTYPE=image/jpeg:https://calendario.actualizandome.com/wp-content/uploads/2023/11/interactiva.jpg
END:VEVENT
BEGIN:VEVENT
DTSTART;TZID=America/Mexico_City:20231101T180000
DTEND;TZID=America/Mexico_City:20231101T190000
DTSTAMP:20260421T185850
CREATED:20231031T213738Z
LAST-MODIFIED:20231031T213738Z
UID:10000490-1698861600-1698865200@calendario.actualizandome.com
SUMMARY:Sesión Interactiva - (R) - #BarraActualizandome
DESCRIPTION:
URL:https://calendario.actualizandome.com/event/sesion-interactiva-r-barraactualizandome-4/
CATEGORIES:Aula Virtual
ATTACH;FMTTYPE=image/jpeg:https://calendario.actualizandome.com/wp-content/uploads/2023/10/interactiva-1.jpg
END:VEVENT
BEGIN:VEVENT
DTSTART;TZID=America/Mexico_City:20231101T170000
DTEND;TZID=America/Mexico_City:20231101T180000
DTSTAMP:20260421T185850
CREATED:20231031T213607Z
LAST-MODIFIED:20231031T213925Z
UID:10000489-1698858000-1698861600@calendario.actualizandome.com
SUMMARY:Reflexionando con Mayer - (R) - #BarraActualizandome
DESCRIPTION:
URL:https://calendario.actualizandome.com/event/reflexionando-con-mayer-barraactualizandome-4/
CATEGORIES:Aula Virtual
ATTACH;FMTTYPE=image/jpeg:https://calendario.actualizandome.com/wp-content/uploads/2023/10/reflex-1.jpg
END:VEVENT
BEGIN:VEVENT
DTSTART;TZID=America/Mexico_City:20231101T140000
DTEND;TZID=America/Mexico_City:20231101T150000
DTSTAMP:20260421T185850
CREATED:20231031T213459Z
LAST-MODIFIED:20231031T213459Z
UID:10000488-1698847200-1698850800@calendario.actualizandome.com
SUMMARY:Hablemos de Pensiones - Mitos y Realidades de Modalidad 40 - #BarraActualizandome
DESCRIPTION:
URL:https://calendario.actualizandome.com/event/hablemos-de-pensiones-mitos-y-realidades-de-modalidad-40-barraactualizandome/
CATEGORIES:Aula Virtual
ATTACH;FMTTYPE=image/jpeg:https://calendario.actualizandome.com/wp-content/uploads/2023/10/pensiones-2.jpg
END:VEVENT
END:VCALENDAR