BEGIN:VCALENDAR
VERSION:2.0
PRODID:-//ACTUALIZANDOME - ECPv6.15.16//NONSGML v1.0//EN
CALSCALE:GREGORIAN
METHOD:PUBLISH
X-WR-CALNAME:ACTUALIZANDOME
X-ORIGINAL-URL:https://calendario.actualizandome.com
X-WR-CALDESC:Eventos para ACTUALIZANDOME
REFRESH-INTERVAL;VALUE=DURATION:PT1H
X-Robots-Tag:noindex
X-PUBLISHED-TTL:PT1H
BEGIN:VTIMEZONE
TZID:America/Mexico_City
BEGIN:DAYLIGHT
TZOFFSETFROM:-0600
TZOFFSETTO:-0500
TZNAME:CDT
DTSTART:20220403T080000
END:DAYLIGHT
BEGIN:STANDARD
TZOFFSETFROM:-0500
TZOFFSETTO:-0600
TZNAME:CST
DTSTART:20221030T070000
END:STANDARD
END:VTIMEZONE
BEGIN:VEVENT
DTSTART;TZID=America/Mexico_City:20231115T180000
DTEND;TZID=America/Mexico_City:20231115T190000
DTSTAMP:20260421T094107
CREATED:20231114T200123Z
LAST-MODIFIED:20231115T175322Z
UID:10001620-1700071200-1700074800@calendario.actualizandome.com
SUMMARY:Sesión Interactiva de la Revista Digital Actualizandome Edición 139 - 1ra Parte - #BarraActualizandome
DESCRIPTION:
URL:https://calendario.actualizandome.com/event/sesion-interactiva-r-barraactualizandome-5/
CATEGORIES:Aula Virtual
ATTACH;FMTTYPE=image/jpeg:https://calendario.actualizandome.com/wp-content/uploads/2023/11/interac139.jpg
END:VEVENT
BEGIN:VEVENT
DTSTART;TZID=America/Mexico_City:20231115T170000
DTEND;TZID=America/Mexico_City:20231115T180000
DTSTAMP:20260421T094107
CREATED:20231114T195837Z
LAST-MODIFIED:20231114T200347Z
UID:10001619-1700067600-1700071200@calendario.actualizandome.com
SUMMARY:Reflexionando con Mayer - (R) - #BarraActualizandome
DESCRIPTION:
URL:https://calendario.actualizandome.com/event/reflexionando-con-mayer-barraactualizandome-5/
CATEGORIES:Aula Virtual
ATTACH;FMTTYPE=image/jpeg:https://calendario.actualizandome.com/wp-content/uploads/2023/11/reflex.jpg
END:VEVENT
BEGIN:VEVENT
DTSTART;TZID=America/Mexico_City:20231115T140000
DTEND;TZID=America/Mexico_City:20231115T150000
DTSTAMP:20260421T094107
CREATED:20231114T195505Z
LAST-MODIFIED:20231115T171555Z
UID:10001618-1700056800-1700060400@calendario.actualizandome.com
SUMMARY:Hablemos de Pensiones - #BarraActualizandome
DESCRIPTION:
URL:https://calendario.actualizandome.com/event/hablemos-de-pensiones-barraactualizandome-5/
CATEGORIES:Aula Virtual
ATTACH;FMTTYPE=image/jpeg:https://calendario.actualizandome.com/wp-content/uploads/2023/11/pens1.jpg
END:VEVENT
BEGIN:VEVENT
DTSTART;TZID=America/Mexico_City:20231115T130000
DTEND;TZID=America/Mexico_City:20231115T140000
DTSTAMP:20260421T094107
CREATED:20231114T195350Z
LAST-MODIFIED:20231114T195350Z
UID:10001617-1700053200-1700056800@calendario.actualizandome.com
SUMMARY:Foco Financiero - #BarraActualizandome
DESCRIPTION:
URL:https://calendario.actualizandome.com/event/foco-financiero-barraactualizandome-7/
CATEGORIES:Aula Virtual
ATTACH;FMTTYPE=image/jpeg:https://calendario.actualizandome.com/wp-content/uploads/2023/11/foco-1.jpg
END:VEVENT
BEGIN:VEVENT
DTSTART;TZID=America/Mexico_City:20231115T120000
DTEND;TZID=America/Mexico_City:20231115T130000
DTSTAMP:20260421T094107
CREATED:20231114T194938Z
LAST-MODIFIED:20231114T194938Z
UID:10001615-1700049600-1700053200@calendario.actualizandome.com
SUMMARY:Estratégica - #BarraActualizandome
DESCRIPTION:
URL:https://calendario.actualizandome.com/event/estrategica-barraactualizandome-3/
CATEGORIES:Aula Virtual
ATTACH;FMTTYPE=image/jpeg:https://calendario.actualizandome.com/wp-content/uploads/2023/11/estrategica.jpg
END:VEVENT
BEGIN:VEVENT
DTSTART;TZID=America/Mexico_City:20231115T110000
DTEND;TZID=America/Mexico_City:20231115T120000
DTSTAMP:20260421T094107
CREATED:20231114T195130Z
LAST-MODIFIED:20231114T195130Z
UID:10001616-1700046000-1700049600@calendario.actualizandome.com
SUMMARY:Consultorio Conta Fiscal - Propuestas 2024 - #BarraActualizandome
DESCRIPTION:
URL:https://calendario.actualizandome.com/event/consultorio-conta-fiscal-propuestas-2024-barraactualizandome/
CATEGORIES:Aula Virtual
ATTACH;FMTTYPE=image/jpeg:https://calendario.actualizandome.com/wp-content/uploads/2023/11/consultorio.jpg
END:VEVENT
BEGIN:VEVENT
DTSTART;TZID=America/Mexico_City:20231115T100000
DTEND;TZID=America/Mexico_City:20231115T110000
DTSTAMP:20260421T094107
CREATED:20231114T193243Z
LAST-MODIFIED:20231114T193243Z
UID:10001614-1700042400-1700046000@calendario.actualizandome.com
SUMMARY:Inttegra Sistemas - Las Redes Sociales\, la Economía de la Información y la Atención - #BarraActualizandome
DESCRIPTION:
URL:https://calendario.actualizandome.com/event/inttegra-sistemas-las-redes-sociales-la-economia-de-la-informacion-y-la-atencion-barraactualizandome/
CATEGORIES:Aula Virtual
ATTACH;FMTTYPE=image/jpeg:https://calendario.actualizandome.com/wp-content/uploads/2023/11/inttegra.jpg
END:VEVENT
BEGIN:VEVENT
DTSTART;VALUE=DATE:20231115
DTEND;VALUE=DATE:20231116
DTSTAMP:20260421T094107
CREATED:20231108T232205Z
LAST-MODIFIED:20231115T175340Z
UID:10000544-1700006400-1700092799@calendario.actualizandome.com
SUMMARY:Programación de la Barra Actualizandome
DESCRIPTION:
URL:https://calendario.actualizandome.com/event/programacion-de-la-barra-actualizandome-71/
CATEGORIES:Aula Virtual
ATTACH;FMTTYPE=image/jpeg:https://calendario.actualizandome.com/wp-content/uploads/2023/11/miercoles-1-scaled.jpg
END:VEVENT
BEGIN:VEVENT
DTSTART;TZID=America/Mexico_City:20231114T180000
DTEND;TZID=America/Mexico_City:20231114T190000
DTSTAMP:20260421T094107
CREATED:20231113T211549Z
LAST-MODIFIED:20231113T211549Z
UID:10001613-1699984800-1699988400@calendario.actualizandome.com
SUMMARY:CONADFIS - Régimen Simplificado de Confianza Personas Morales - #BarraActualizandome
DESCRIPTION:
URL:https://calendario.actualizandome.com/event/conadfis-regimen-simplificado-de-confianza-personas-morales-barraactualizandome/
CATEGORIES:Aula Virtual
ATTACH;FMTTYPE=image/jpeg:https://calendario.actualizandome.com/wp-content/uploads/2023/11/conadfis.jpg
END:VEVENT
BEGIN:VEVENT
DTSTART;TZID=America/Mexico_City:20231114T170000
DTEND;TZID=America/Mexico_City:20231114T180000
DTSTAMP:20260421T094107
CREATED:20231113T211421Z
LAST-MODIFIED:20231113T211421Z
UID:10001612-1699981200-1699984800@calendario.actualizandome.com
SUMMARY:Fiscal por la Tarde - Ejecución Simultánea de Facultades de Control y de Comprobación por Parte de la Autoridad Fiscal - #BarraActualizandome
DESCRIPTION:
URL:https://calendario.actualizandome.com/event/fiscal-por-la-tarde-ejecucion-simultanea-de-facultades-de-control-y-de-comprobacion-por-parte-de-la-autoridad-fiscal-barraactualizandome/
CATEGORIES:Aula Virtual
ATTACH;FMTTYPE=image/jpeg:https://calendario.actualizandome.com/wp-content/uploads/2023/11/fiscal.jpg
END:VEVENT
BEGIN:VEVENT
DTSTART;TZID=America/Mexico_City:20231114T160000
DTEND;TZID=America/Mexico_City:20231114T170000
DTSTAMP:20260421T094107
CREATED:20231113T211217Z
LAST-MODIFIED:20231113T211217Z
UID:10001611-1699977600-1699981200@calendario.actualizandome.com
SUMMARY:Compliance más allá de la Norma - #BarraActualizandome
DESCRIPTION:
URL:https://calendario.actualizandome.com/event/compliance-mas-alla-de-la-norma-barraactualizandome-6/
CATEGORIES:Aula Virtual
ATTACH;FMTTYPE=image/jpeg:https://calendario.actualizandome.com/wp-content/uploads/2023/11/compliance.jpg
END:VEVENT
BEGIN:VEVENT
DTSTART;TZID=America/Mexico_City:20231114T140000
DTEND;TZID=America/Mexico_City:20231114T150000
DTSTAMP:20260421T094107
CREATED:20231113T211108Z
LAST-MODIFIED:20231113T211108Z
UID:10001610-1699970400-1699974000@calendario.actualizandome.com
SUMMARY:El Poder de los Seguros - #BarraActualizandome
DESCRIPTION:
URL:https://calendario.actualizandome.com/event/el-poder-de-los-seguros-barraactualizandome-5/
CATEGORIES:Aula Virtual
ATTACH;FMTTYPE=image/jpeg:https://calendario.actualizandome.com/wp-content/uploads/2023/11/seguros.jpg
END:VEVENT
BEGIN:VEVENT
DTSTART;TZID=America/Mexico_City:20231114T130000
DTEND;TZID=America/Mexico_City:20231114T140000
DTSTAMP:20260421T094107
CREATED:20231113T210948Z
LAST-MODIFIED:20231113T210948Z
UID:10001609-1699966800-1699970400@calendario.actualizandome.com
SUMMARY:Litigio Fiscal Estratégico - Serie Delitos Fiscales - Clase 2 - Elementos Básicos del Procedimiento Penal - #BarraActualizandome
DESCRIPTION:
URL:https://calendario.actualizandome.com/event/litigio-fiscal-estrategico-serie-delitos-fiscales-clase-2-elementos-basicos-del-procedimiento-penal-barraactualizandome/
CATEGORIES:Aula Virtual
ATTACH;FMTTYPE=image/jpeg:https://calendario.actualizandome.com/wp-content/uploads/2023/11/litigio.jpg
END:VEVENT
BEGIN:VEVENT
DTSTART;TZID=America/Mexico_City:20231114T120000
DTEND;TZID=America/Mexico_City:20231114T130000
DTSTAMP:20260421T094107
CREATED:20231113T210746Z
LAST-MODIFIED:20231113T210746Z
UID:10001608-1699963200-1699966800@calendario.actualizandome.com
SUMMARY:Tópicos Fiscales - La Visita Domiciliaria - #BarraActualizandome
DESCRIPTION:
URL:https://calendario.actualizandome.com/event/topicos-fiscales-la-visita-domiciliaria-barraactualizandome/
CATEGORIES:Aula Virtual
ATTACH;FMTTYPE=image/jpeg:https://calendario.actualizandome.com/wp-content/uploads/2023/11/topicos-2.jpg
END:VEVENT
BEGIN:VEVENT
DTSTART;TZID=America/Mexico_City:20231114T110000
DTEND;TZID=America/Mexico_City:20231114T120000
DTSTAMP:20260421T094107
CREATED:20231113T210553Z
LAST-MODIFIED:20231113T210553Z
UID:10001607-1699959600-1699963200@calendario.actualizandome.com
SUMMARY:Hora de la PRODECON - Tratamiento Fiscal de las Sociedades Cooperativas - #BarraActualizandome
DESCRIPTION:
URL:https://calendario.actualizandome.com/event/hora-de-la-prodecon-tratamiento-fiscal-de-las-sociedades-cooperativas-barraactualizandome/
CATEGORIES:Aula Virtual
ATTACH;FMTTYPE=image/jpeg:https://calendario.actualizandome.com/wp-content/uploads/2023/11/prodecon.jpg
END:VEVENT
BEGIN:VEVENT
DTSTART;TZID=America/Mexico_City:20231114T100000
DTEND;TZID=America/Mexico_City:20231114T110000
DTSTAMP:20260421T094107
CREATED:20231113T210255Z
LAST-MODIFIED:20231114T154610Z
UID:10001606-1699956000-1699959600@calendario.actualizandome.com
SUMMARY:Leones Tributarios - Reforma a la Ley General de Sociedades Mercantiles - #BarraActualizandome
DESCRIPTION:
URL:https://calendario.actualizandome.com/event/leones-tributarios-barraactualizandome-4/
CATEGORIES:Aula Virtual
ATTACH;FMTTYPE=image/jpeg:https://calendario.actualizandome.com/wp-content/uploads/2023/11/leones-1.jpg
END:VEVENT
BEGIN:VEVENT
DTSTART;VALUE=DATE:20231114
DTEND;VALUE=DATE:20231115
DTSTAMP:20260421T094107
CREATED:20231108T232055Z
LAST-MODIFIED:20231113T210118Z
UID:10000543-1699920000-1700006399@calendario.actualizandome.com
SUMMARY:Programación de la Barra Actualizandome
DESCRIPTION:
URL:https://calendario.actualizandome.com/event/programacion-de-la-barra-actualizandome-70/
CATEGORIES:Aula Virtual
ATTACH;FMTTYPE=image/jpeg:https://calendario.actualizandome.com/wp-content/uploads/2023/11/martes-scaled.jpg
END:VEVENT
BEGIN:VEVENT
DTSTART;TZID=America/Mexico_City:20231113T210000
DTEND;TZID=America/Mexico_City:20231113T213000
DTSTAMP:20260421T094107
CREATED:20231109T233129Z
LAST-MODIFIED:20231202T174721Z
UID:10000816-1699909200-1699911000@calendario.actualizandome.com
SUMMARY:Club de estudio sobre Costos
DESCRIPTION:
URL:https://calendario.actualizandome.com/event/club-de-estudio-sobre-costos/2023-11-13/
CATEGORIES:academia,Cursos
ATTACH;FMTTYPE=image/png:https://calendario.actualizandome.com/wp-content/uploads/2023/11/costo-diciembre.png
END:VEVENT
BEGIN:VEVENT
DTSTART;TZID=America/Mexico_City:20231113T180000
DTEND;TZID=America/Mexico_City:20231113T190000
DTSTAMP:20260421T094107
CREATED:20231110T205123Z
LAST-MODIFIED:20231110T205226Z
UID:10001604-1699898400-1699902000@calendario.actualizandome.com
SUMMARY:La Hora de la Asociación Sonorense de Contadores Públicos - #BarraActualizandome
DESCRIPTION:
URL:https://calendario.actualizandome.com/event/la-hora-de-la-asociacion-sonorense-de-contadores-publicos-barraactualizandome/
CATEGORIES:Aula Virtual
ATTACH;FMTTYPE=image/jpeg:https://calendario.actualizandome.com/wp-content/uploads/2023/11/ascp.jpg
END:VEVENT
BEGIN:VEVENT
DTSTART;TZID=America/Mexico_City:20231113T170000
DTEND;TZID=America/Mexico_City:20231113T180000
DTSTAMP:20260421T094107
CREATED:20231110T204959Z
LAST-MODIFIED:20231113T212434Z
UID:10001603-1699894800-1699898400@calendario.actualizandome.com
SUMMARY:Conoce las Finanzas  - Expectativas Financieras 2024\, mi Punto de Vista - #BarraActualizandome
DESCRIPTION:
URL:https://calendario.actualizandome.com/event/conoce-las-finanzas-barraactualizandome-4/
CATEGORIES:Aula Virtual
ATTACH;FMTTYPE=image/jpeg:https://calendario.actualizandome.com/wp-content/uploads/2023/11/finanzas-1.jpg
END:VEVENT
BEGIN:VEVENT
DTSTART;TZID=America/Mexico_City:20231113T140000
DTEND;TZID=America/Mexico_City:20231113T150000
DTSTAMP:20260421T094107
CREATED:20231110T204348Z
LAST-MODIFIED:20231110T204348Z
UID:10001602-1699884000-1699887600@calendario.actualizandome.com
SUMMARY:De Obligaciones y de Derechos - Derechos en los Procedimientos de Comprobación - 2da Parte - #BarraActualizandome
DESCRIPTION:
URL:https://calendario.actualizandome.com/event/de-obligaciones-y-de-derechos-derechos-en-los-procedimientos-de-comprobacion-2da-parte-barraactualizandome/
CATEGORIES:Aula Virtual
ATTACH;FMTTYPE=image/jpeg:https://calendario.actualizandome.com/wp-content/uploads/2023/11/obligaciones.jpg
END:VEVENT
BEGIN:VEVENT
DTSTART;TZID=America/Mexico_City:20231113T130000
DTEND;TZID=America/Mexico_City:20231113T140000
DTSTAMP:20260421T094107
CREATED:20231110T204202Z
LAST-MODIFIED:20231110T204202Z
UID:10001601-1699880400-1699884000@calendario.actualizandome.com
SUMMARY:La Hora CNCP - Impuestos Estatales 9na. Parte - #BarraActualizandome
DESCRIPTION:
URL:https://calendario.actualizandome.com/event/la-hora-cncp-impuestos-estatales-9na-parte-barraactualizandome/
CATEGORIES:Aula Virtual
ATTACH;FMTTYPE=image/jpeg:https://calendario.actualizandome.com/wp-content/uploads/2023/11/cncp-4.jpg
END:VEVENT
BEGIN:VEVENT
DTSTART;TZID=America/Mexico_City:20231113T120000
DTEND;TZID=America/Mexico_City:20231113T130000
DTSTAMP:20260421T094107
CREATED:20231110T203756Z
LAST-MODIFIED:20231110T203756Z
UID:10001600-1699876800-1699880400@calendario.actualizandome.com
SUMMARY:Panorama Empresarial - #BarraActualizandome
DESCRIPTION:
URL:https://calendario.actualizandome.com/event/panorama-empresarial-barraactualizandome-7/
CATEGORIES:Aula Virtual
ATTACH;FMTTYPE=image/jpeg:https://calendario.actualizandome.com/wp-content/uploads/2023/11/panorama.jpg
END:VEVENT
BEGIN:VEVENT
DTSTART;TZID=America/Mexico_City:20231113T110000
DTEND;TZID=America/Mexico_City:20231113T120000
DTSTAMP:20260421T094107
CREATED:20231110T203617Z
LAST-MODIFIED:20231110T205458Z
UID:10001599-1699873200-1699876800@calendario.actualizandome.com
SUMMARY:Expresión Fiscal - #BarraActualizandome
DESCRIPTION:
URL:https://calendario.actualizandome.com/event/expresion-fiscal-barraactualizandome-4/
CATEGORIES:Aula Virtual
ATTACH;FMTTYPE=image/jpeg:https://calendario.actualizandome.com/wp-content/uploads/2023/11/expresion.jpg
END:VEVENT
BEGIN:VEVENT
DTSTART;TZID=America/Mexico_City:20231113T100000
DTEND;TZID=America/Mexico_City:20231113T110000
DTSTAMP:20260421T094107
CREATED:20231110T205602Z
LAST-MODIFIED:20231110T205602Z
UID:10001605-1699869600-1699873200@calendario.actualizandome.com
SUMMARY:Conociendo Actualizandome - #BarraActualizandome
DESCRIPTION:
URL:https://calendario.actualizandome.com/event/conociendo-actualizandome-barraactualizandome-6/
CATEGORIES:Aula Virtual
ATTACH;FMTTYPE=image/jpeg:https://calendario.actualizandome.com/wp-content/uploads/2023/11/actual.jpg
END:VEVENT
BEGIN:VEVENT
DTSTART;VALUE=DATE:20231113
DTEND;VALUE=DATE:20231114
DTSTAMP:20260421T094107
CREATED:20231108T231424Z
LAST-MODIFIED:20231113T221039Z
UID:10000542-1699833600-1699919999@calendario.actualizandome.com
SUMMARY:Programación de la Barra Actualizandome
DESCRIPTION:
URL:https://calendario.actualizandome.com/event/programacion-de-la-barra-actualizandome-69/
CATEGORIES:Aula Virtual
ATTACH;FMTTYPE=image/jpeg:https://calendario.actualizandome.com/wp-content/uploads/2023/11/lunes-scaled.jpg
END:VEVENT
BEGIN:VEVENT
DTSTART;TZID=America/Mexico_City:20231110T180000
DTEND;TZID=America/Mexico_City:20231110T190000
DTSTAMP:20260421T094107
CREATED:20231109T211232Z
LAST-MODIFIED:20231109T211232Z
UID:10000553-1699639200-1699642800@calendario.actualizandome.com
SUMMARY:Tres a las Seis - Los Impuestos Después de la Muerte - #BarraActualizandome
DESCRIPTION:
URL:https://calendario.actualizandome.com/event/tres-a-las-seis-los-impuestos-despues-de-la-muerte-barraactualizandome/
CATEGORIES:Aula Virtual
ATTACH;FMTTYPE=image/jpeg:https://calendario.actualizandome.com/wp-content/uploads/2023/11/tres.jpg
END:VEVENT
BEGIN:VEVENT
DTSTART;TZID=America/Mexico_City:20231110T170000
DTEND;TZID=America/Mexico_City:20231110T180000
DTSTAMP:20260421T094107
CREATED:20231109T211054Z
LAST-MODIFIED:20231109T211054Z
UID:10000552-1699635600-1699639200@calendario.actualizandome.com
SUMMARY:Está Bien No Estar Bien - Los Villanos o no tan Villanos - 2da Parte - #BarraActualizandome
DESCRIPTION:
URL:https://calendario.actualizandome.com/event/esta-bien-no-estar-bien-los-villanos-o-no-tan-villanos-2da-parte-barraactualizandome/
CATEGORIES:Aula Virtual
ATTACH;FMTTYPE=image/jpeg:https://calendario.actualizandome.com/wp-content/uploads/2023/11/bien.jpg
END:VEVENT
BEGIN:VEVENT
DTSTART;TZID=America/Mexico_City:20231110T160000
DTEND;TZID=America/Mexico_City:20231110T170000
DTSTAMP:20260421T094107
CREATED:20231109T210817Z
LAST-MODIFIED:20231109T210817Z
UID:10000551-1699632000-1699635600@calendario.actualizandome.com
SUMMARY:Actualizandome.com Universitario - #BarraActualizandome
DESCRIPTION:
URL:https://calendario.actualizandome.com/event/actualizandome-com-universitario-barraactualizandome/
CATEGORIES:Aula Virtual
ATTACH;FMTTYPE=image/jpeg:https://calendario.actualizandome.com/wp-content/uploads/2023/11/ab3a463e-a1f2-4a50-8d93-b0afa6449b41.jpg
END:VEVENT
BEGIN:VEVENT
DTSTART;TZID=America/Mexico_City:20231110T130000
DTEND;TZID=America/Mexico_City:20231110T140000
DTSTAMP:20260421T094107
CREATED:20231109T210620Z
LAST-MODIFIED:20231109T210620Z
UID:10000550-1699621200-1699624800@calendario.actualizandome.com
SUMMARY:Los Derechos Humanos en Serio - #BarraActualizandome
DESCRIPTION:
URL:https://calendario.actualizandome.com/event/los-derechos-humanos-en-serio-barraactualizandome-7/
CATEGORIES:Aula Virtual
ATTACH;FMTTYPE=image/jpeg:https://calendario.actualizandome.com/wp-content/uploads/2023/11/derechos-2.jpg
END:VEVENT
END:VCALENDAR