BEGIN:VCALENDAR
VERSION:2.0
PRODID:-//ACTUALIZANDOME - ECPv6.15.16//NONSGML v1.0//EN
CALSCALE:GREGORIAN
METHOD:PUBLISH
X-WR-CALNAME:ACTUALIZANDOME
X-ORIGINAL-URL:https://calendario.actualizandome.com
X-WR-CALDESC:Eventos para ACTUALIZANDOME
REFRESH-INTERVAL;VALUE=DURATION:PT1H
X-Robots-Tag:noindex
X-PUBLISHED-TTL:PT1H
BEGIN:VTIMEZONE
TZID:America/Mexico_City
BEGIN:DAYLIGHT
TZOFFSETFROM:-0600
TZOFFSETTO:-0500
TZNAME:CDT
DTSTART:20220403T080000
END:DAYLIGHT
BEGIN:STANDARD
TZOFFSETFROM:-0500
TZOFFSETTO:-0600
TZNAME:CST
DTSTART:20221030T070000
END:STANDARD
END:VTIMEZONE
BEGIN:VEVENT
DTSTART;TZID=America/Mexico_City:20231124T160000
DTEND;TZID=America/Mexico_City:20231124T170000
DTSTAMP:20260421T033654
CREATED:20231123T182731Z
LAST-MODIFIED:20231123T182731Z
UID:10001667-1700841600-1700845200@calendario.actualizandome.com
SUMMARY:Actualizandome.com Universitario - #BarraActualizandome
DESCRIPTION:
URL:https://calendario.actualizandome.com/event/actualizandome-com-universitario-barraactualizandome-2/
CATEGORIES:Aula Virtual
ATTACH;FMTTYPE=image/jpeg:https://calendario.actualizandome.com/wp-content/uploads/2023/11/univ2.jpg
END:VEVENT
BEGIN:VEVENT
DTSTART;TZID=America/Mexico_City:20231124T130000
DTEND;TZID=America/Mexico_City:20231124T140000
DTSTAMP:20260421T033654
CREATED:20231123T182108Z
LAST-MODIFIED:20231123T182108Z
UID:10001666-1700830800-1700834400@calendario.actualizandome.com
SUMMARY:Los Derechos Humanos en Serio - #BarraActualizandome
DESCRIPTION:
URL:https://calendario.actualizandome.com/event/los-derechos-humanos-en-serio-barraactualizandome-8/
CATEGORIES:Aula Virtual
ATTACH;FMTTYPE=image/jpeg:https://calendario.actualizandome.com/wp-content/uploads/2023/11/derechos-4.jpg
END:VEVENT
BEGIN:VEVENT
DTSTART;TZID=America/Mexico_City:20231124T120000
DTEND;TZID=America/Mexico_City:20231124T130000
DTSTAMP:20260421T033654
CREATED:20231123T181559Z
LAST-MODIFIED:20231123T181559Z
UID:10001665-1700827200-1700830800@calendario.actualizandome.com
SUMMARY:Contabilidad y Algo Más - #BarraActualizandome
DESCRIPTION:
URL:https://calendario.actualizandome.com/event/contabilidad-y-algo-mas-barraactualizandome-7/
CATEGORIES:Aula Virtual
ATTACH;FMTTYPE=image/jpeg:https://calendario.actualizandome.com/wp-content/uploads/2023/11/contabilidad.jpg
END:VEVENT
BEGIN:VEVENT
DTSTART;TZID=America/Mexico_City:20231124T110000
DTEND;TZID=America/Mexico_City:20231124T120000
DTSTAMP:20260421T033654
CREATED:20231123T181333Z
LAST-MODIFIED:20231123T181333Z
UID:10001664-1700823600-1700827200@calendario.actualizandome.com
SUMMARY:Metamorfosis - El Estado de Gratitud - #BarraActualizandome
DESCRIPTION:
URL:https://calendario.actualizandome.com/event/metamorfosis-el-estado-de-gratitud-barraactualizandome/
CATEGORIES:Aula Virtual
ATTACH;FMTTYPE=image/jpeg:https://calendario.actualizandome.com/wp-content/uploads/2023/11/meta-1.jpg
END:VEVENT
BEGIN:VEVENT
DTSTART;TZID=America/Mexico_City:20231124T100000
DTEND;TZID=America/Mexico_City:20231124T110000
DTSTAMP:20260421T033654
CREATED:20231123T180932Z
LAST-MODIFIED:20231123T183418Z
UID:10001663-1700820000-1700823600@calendario.actualizandome.com
SUMMARY:Sembrando el Conocimiento - Costos de Producción en el Cultivo de la Nochebuena - #BarraActualizandome
DESCRIPTION:
URL:https://calendario.actualizandome.com/event/sembrando-el-conocimiento-costos-de-produccion-en-el-cultivo-de-la-nochebuena/
CATEGORIES:Aula Virtual
ATTACH;FMTTYPE=image/jpeg:https://calendario.actualizandome.com/wp-content/uploads/2023/11/sembrando-1.jpg
END:VEVENT
BEGIN:VEVENT
DTSTART;VALUE=DATE:20231124
DTEND;VALUE=DATE:20231125
DTSTAMP:20260421T033654
CREATED:20231116T180730Z
LAST-MODIFIED:20231116T180730Z
UID:10001632-1700784000-1700870399@calendario.actualizandome.com
SUMMARY:Programación de la Barra Actualizandome
DESCRIPTION:
URL:https://calendario.actualizandome.com/event/programacion-de-la-barra-actualizandome-78/
ATTACH;FMTTYPE=image/jpeg:https://calendario.actualizandome.com/wp-content/uploads/2023/11/viernes-3-scaled.jpg
END:VEVENT
BEGIN:VEVENT
DTSTART;TZID=America/Mexico_City:20231123T180000
DTEND;TZID=America/Mexico_City:20231123T190000
DTSTAMP:20260421T033654
CREATED:20231121T194303Z
LAST-MODIFIED:20231121T194303Z
UID:10001653-1700762400-1700766000@calendario.actualizandome.com
SUMMARY:Defensa Fiscal Práctica - Las Pruebas en el Juicio de Nulidad - Segunda Parte - #BarraActualizandome
DESCRIPTION:
URL:https://calendario.actualizandome.com/event/defensa-fiscal-practica-las-pruebas-en-el-juicio-de-nulidad-segunda-parte-barraactualizandome/
CATEGORIES:Aula Virtual
ATTACH;FMTTYPE=image/jpeg:https://calendario.actualizandome.com/wp-content/uploads/2023/11/defensa-2.jpg
END:VEVENT
BEGIN:VEVENT
DTSTART;TZID=America/Mexico_City:20231123T170000
DTEND;TZID=America/Mexico_City:20231123T180000
DTSTAMP:20260421T033654
CREATED:20231122T173622Z
LAST-MODIFIED:20231123T211427Z
UID:10001656-1700758800-1700762400@calendario.actualizandome.com
SUMMARY:Consultoría Fiscal Empresarial - Exenciones Fiscales #BarraActualizandome
DESCRIPTION:
URL:https://calendario.actualizandome.com/event/consultoria-fiscal-empresarial-barraactualizandome-6/
CATEGORIES:Aula Virtual
ATTACH;FMTTYPE=image/jpeg:https://calendario.actualizandome.com/wp-content/uploads/2023/11/consultoria-3.jpg
END:VEVENT
BEGIN:VEVENT
DTSTART;TZID=America/Mexico_City:20231123T130000
DTEND;TZID=America/Mexico_City:20231123T140000
DTSTAMP:20260421T033654
CREATED:20231122T174153Z
LAST-MODIFIED:20231122T174153Z
UID:10001657-1700744400-1700748000@calendario.actualizandome.com
SUMMARY:Participando en Grupo - Estudio de las NIF - #BarraActualizandome
DESCRIPTION:
URL:https://calendario.actualizandome.com/event/participando-en-grupo-estudio-de-las-nif-barraactualizandome/
CATEGORIES:Aula Virtual
ATTACH;FMTTYPE=image/jpeg:https://calendario.actualizandome.com/wp-content/uploads/2023/11/grupo-1.jpg
END:VEVENT
BEGIN:VEVENT
DTSTART;TZID=America/Mexico_City:20231123T120000
DTEND;TZID=America/Mexico_City:20231123T130000
DTSTAMP:20260421T033654
CREATED:20231121T194115Z
LAST-MODIFIED:20231121T194115Z
UID:10001652-1700740800-1700744400@calendario.actualizandome.com
SUMMARY:Diálogos Fiscales - Defensa Fiscal Contra Créditos Determinados a Empresas del Giro de la Construcción\, por Aplicación de la Presuntiva Artículo 18 RSSOTCOTD - #BarraActualizandome
DESCRIPTION:
URL:https://calendario.actualizandome.com/event/dialogos-fiscales-defensa-fiscal-contra-creditos-determinados-a-empresas-del-giro-de-la-construccion-por-aplicacion-de-la-presuntiva-articulo-18-rssotcotd-barraactualizandome/
CATEGORIES:Aula Virtual
ATTACH;FMTTYPE=image/jpeg:https://calendario.actualizandome.com/wp-content/uploads/2023/11/dialogos-1.jpg
END:VEVENT
BEGIN:VEVENT
DTSTART;TZID=America/Mexico_City:20231123T110000
DTEND;TZID=America/Mexico_City:20231123T120000
DTSTAMP:20260421T033654
CREATED:20231122T154153Z
LAST-MODIFIED:20231122T154153Z
UID:10001654-1700737200-1700740800@calendario.actualizandome.com
SUMMARY:JB El Fiscal - Adiós a Resico - #BarraActualizandome
DESCRIPTION:
URL:https://calendario.actualizandome.com/event/jb-el-fiscal-adios-a-resico-barraactualizandome/
CATEGORIES:Aula Virtual
ATTACH;FMTTYPE=image/jpeg:https://calendario.actualizandome.com/wp-content/uploads/2023/11/jb-1.jpg
END:VEVENT
BEGIN:VEVENT
DTSTART;TZID=America/Mexico_City:20231123T100000
DTEND;TZID=America/Mexico_City:20231123T110000
DTSTAMP:20260421T033654
CREATED:20231122T154511Z
LAST-MODIFIED:20231122T154511Z
UID:10001655-1700733600-1700737200@calendario.actualizandome.com
SUMMARY:En Sintonía Fiscal - Limpieza Digital - #BarraActualizandome
DESCRIPTION:
URL:https://calendario.actualizandome.com/event/en-sintonia-fiscal-limpieza-digital-barraactualizandome/
CATEGORIES:Aula Virtual
ATTACH;FMTTYPE=image/jpeg:https://calendario.actualizandome.com/wp-content/uploads/2023/11/sintonia-1.jpg
END:VEVENT
BEGIN:VEVENT
DTSTART;VALUE=DATE:20231123
DTEND;VALUE=DATE:20231124
DTSTAMP:20260421T033654
CREATED:20231116T180636Z
LAST-MODIFIED:20231116T180636Z
UID:10001631-1700697600-1700783999@calendario.actualizandome.com
SUMMARY:Programación de la Barra Actualizandome
DESCRIPTION:
URL:https://calendario.actualizandome.com/event/programacion-de-la-barra-actualizandome-77/
CATEGORIES:Aula Virtual
ATTACH;FMTTYPE=image/jpeg:https://calendario.actualizandome.com/wp-content/uploads/2023/11/jueves-4-scaled.jpg
END:VEVENT
BEGIN:VEVENT
DTSTART;TZID=America/Mexico_City:20231122T210000
DTEND;TZID=America/Mexico_City:20231122T210000
DTSTAMP:20260421T033654
CREATED:20231109T233529Z
LAST-MODIFIED:20260129T002251Z
UID:10001339-1700686800-1700686800@calendario.actualizandome.com
SUMMARY:Club de estudio sobre Reglas Misceláneas 2026
DESCRIPTION:
URL:https://calendario.actualizandome.com/event/club-de-estudio-sobre-reglas-miscelaneas-2026/2023-11-22/
CATEGORIES:academia,Cursos
ATTACH;FMTTYPE=image/png:https://calendario.actualizandome.com/wp-content/uploads/2023/11/Club-de-estudio-sobre-Reglas-Miscelaneas-2024-26-1400x788-1.png
END:VEVENT
BEGIN:VEVENT
DTSTART;TZID=America/Mexico_City:20231122T180000
DTEND;TZID=America/Mexico_City:20231122T190000
DTSTAMP:20260421T033654
CREATED:20231121T193130Z
LAST-MODIFIED:20231121T193130Z
UID:10001651-1700676000-1700679600@calendario.actualizandome.com
SUMMARY:Mitos y Realidades Tributarias - #BarraActualizandome
DESCRIPTION:
URL:https://calendario.actualizandome.com/event/mitos-y-realidades-tributarias-barraactualizandome-8/
CATEGORIES:Aula Virtual
ATTACH;FMTTYPE=image/jpeg:https://calendario.actualizandome.com/wp-content/uploads/2023/11/mitos-1.jpg
END:VEVENT
BEGIN:VEVENT
DTSTART;TZID=America/Mexico_City:20231122T170000
DTEND;TZID=America/Mexico_City:20231122T180000
DTSTAMP:20260421T033654
CREATED:20231121T193007Z
LAST-MODIFIED:20231121T193007Z
UID:10001650-1700672400-1700676000@calendario.actualizandome.com
SUMMARY:Sinergia Laboral InfonavImss - (R) - #BarraActualizandome
DESCRIPTION:
URL:https://calendario.actualizandome.com/event/sinergia-laboral-infonavimss-r-barraactualizandome-5/
CATEGORIES:Aula Virtual
ATTACH;FMTTYPE=image/jpeg:https://calendario.actualizandome.com/wp-content/uploads/2023/11/sinergia-2.jpg
END:VEVENT
BEGIN:VEVENT
DTSTART;TZID=America/Mexico_City:20231122T140000
DTEND;TZID=America/Mexico_City:20231122T150000
DTSTAMP:20260421T033654
CREATED:20231121T192323Z
LAST-MODIFIED:20231121T192323Z
UID:10001649-1700661600-1700665200@calendario.actualizandome.com
SUMMARY:La Hora AMCPMX - Constitución y Funcionamiento de las Sociedades en General - 2da Parte - #BarraActualizandome
DESCRIPTION:
URL:https://calendario.actualizandome.com/event/la-hora-amcpmx-constitucion-y-funcionamiento-de-las-sociedades-en-general-2da-parte-barraactualizandome/
CATEGORIES:Aula Virtual
ATTACH;FMTTYPE=image/jpeg:https://calendario.actualizandome.com/wp-content/uploads/2023/11/amcp-2.jpg
END:VEVENT
BEGIN:VEVENT
DTSTART;TZID=America/Mexico_City:20231122T130000
DTEND;TZID=America/Mexico_City:20231122T140000
DTSTAMP:20260421T033654
CREATED:20231121T192149Z
LAST-MODIFIED:20231122T165233Z
UID:10001648-1700658000-1700661600@calendario.actualizandome.com
SUMMARY:Mezcal Contable - Denominación de Origen Mezcal y NOM 070 - #BarraActualizandome
DESCRIPTION:
URL:https://calendario.actualizandome.com/event/mezcal-contable-barraactualizandome/
CATEGORIES:Aula Virtual
ATTACH;FMTTYPE=image/jpeg:https://calendario.actualizandome.com/wp-content/uploads/2023/11/mezcal-3.jpg
END:VEVENT
BEGIN:VEVENT
DTSTART;TZID=America/Mexico_City:20231122T120000
DTEND;TZID=America/Mexico_City:20231122T130000
DTSTAMP:20260421T033654
CREATED:20231121T191950Z
LAST-MODIFIED:20231121T191950Z
UID:10001647-1700654400-1700658000@calendario.actualizandome.com
SUMMARY:Quadrando la Info - #BarraActualizandome
DESCRIPTION:
URL:https://calendario.actualizandome.com/event/quadrando-la-info-barraactualizandome-5/
CATEGORIES:Aula Virtual
ATTACH;FMTTYPE=image/jpeg:https://calendario.actualizandome.com/wp-content/uploads/2023/11/quadra-1.jpg
END:VEVENT
BEGIN:VEVENT
DTSTART;TZID=America/Mexico_City:20231122T110000
DTEND;TZID=America/Mexico_City:20231122T120000
DTSTAMP:20260421T033654
CREATED:20231121T191832Z
LAST-MODIFIED:20231122T154011Z
UID:10001646-1700650800-1700654400@calendario.actualizandome.com
SUMMARY:Foro Fiscal - #BarraActualizandome
DESCRIPTION:
URL:https://calendario.actualizandome.com/event/foro-fiscal-union-de-creditos-de-infonavit-barraactualizandome/
CATEGORIES:Aula Virtual
ATTACH;FMTTYPE=image/jpeg:https://calendario.actualizandome.com/wp-content/uploads/2023/11/foro-2.jpg
END:VEVENT
BEGIN:VEVENT
DTSTART;TZID=America/Mexico_City:20231122T100000
DTEND;TZID=America/Mexico_City:20231122T150000
DTSTAMP:20260421T033654
CREATED:20231106T225112Z
LAST-MODIFIED:20231107T170853Z
UID:10000527-1700647200-1700665200@calendario.actualizandome.com
SUMMARY:Entorno Fiscal Rumbo al 2024
DESCRIPTION:
URL:https://calendario.actualizandome.com/event/entorno-fiscal-rumbo-al-2024/
CATEGORIES:Cursos,On line,Presencial
ATTACH;FMTTYPE=image/png:https://calendario.actualizandome.com/wp-content/uploads/2023/11/paquete-2024-nov-1.png
END:VEVENT
BEGIN:VEVENT
DTSTART;TZID=America/Mexico_City:20231122T100000
DTEND;TZID=America/Mexico_City:20231122T110000
DTSTAMP:20260421T033654
CREATED:20231121T191554Z
LAST-MODIFIED:20231122T153338Z
UID:10001645-1700647200-1700650800@calendario.actualizandome.com
SUMMARY:Tríada Fiscal - Tips de Vanguardia Para la Constitución de una Sociedad Mercantil - 2da Parte - #BarraActualizandome
DESCRIPTION:
URL:https://calendario.actualizandome.com/event/triada-fiscal-barraactualizandome-7/
CATEGORIES:Aula Virtual
ATTACH;FMTTYPE=image/jpeg:https://calendario.actualizandome.com/wp-content/uploads/2023/11/triada-1.jpg
END:VEVENT
BEGIN:VEVENT
DTSTART;VALUE=DATE:20231122
DTEND;VALUE=DATE:20231123
DTSTAMP:20260421T033654
CREATED:20231116T180457Z
LAST-MODIFIED:20231116T180457Z
UID:10001630-1700611200-1700697599@calendario.actualizandome.com
SUMMARY:Programación de la Barra Actualizandome
DESCRIPTION:
URL:https://calendario.actualizandome.com/event/programacion-de-la-barra-actualizandome-76/
CATEGORIES:Aula Virtual
ATTACH;FMTTYPE=image/jpeg:https://calendario.actualizandome.com/wp-content/uploads/2023/11/miercoles-2-scaled.jpg
END:VEVENT
BEGIN:VEVENT
DTSTART;TZID=America/Mexico_City:20231121T180000
DTEND;TZID=America/Mexico_City:20231121T190000
DTSTAMP:20260421T033654
CREATED:20231117T170258Z
LAST-MODIFIED:20231121T162021Z
UID:10001644-1700589600-1700593200@calendario.actualizandome.com
SUMMARY:Conquista los Impuestos - Sector Primario Resico - #BarraActualizandome
DESCRIPTION:
URL:https://calendario.actualizandome.com/event/conquista-los-impuestos-barraactualizandome-8/
CATEGORIES:Aula Virtual
ATTACH;FMTTYPE=image/jpeg:https://calendario.actualizandome.com/wp-content/uploads/2023/11/conquista-1.jpg
END:VEVENT
BEGIN:VEVENT
DTSTART;TZID=America/Mexico_City:20231121T170000
DTEND;TZID=America/Mexico_City:20231121T180000
DTSTAMP:20260421T033654
CREATED:20231117T170053Z
LAST-MODIFIED:20231117T170053Z
UID:10001643-1700586000-1700589600@calendario.actualizandome.com
SUMMARY:El Derecho y su Círculo de Acción - Los Contratos - #BarraActualizandome
DESCRIPTION:
URL:https://calendario.actualizandome.com/event/el-derecho-y-su-circulo-de-accion-los-contratos-barraactualizandome-2/
CATEGORIES:Aula Virtual
ATTACH;FMTTYPE=image/jpeg:https://calendario.actualizandome.com/wp-content/uploads/2023/11/derecho-1.jpg
END:VEVENT
BEGIN:VEVENT
DTSTART;TZID=America/Mexico_City:20231121T130000
DTEND;TZID=America/Mexico_City:20231121T140000
DTSTAMP:20260421T033654
CREATED:20231117T164656Z
LAST-MODIFIED:20231121T161709Z
UID:10001642-1700571600-1700575200@calendario.actualizandome.com
SUMMARY:Frecuencia Empresarial - Estabilidad Laboral - #BarraActualizandome
DESCRIPTION:
URL:https://calendario.actualizandome.com/event/contabilidad-y-operatividad-barraactualizandome-7/
CATEGORIES:Aula Virtual
ATTACH;FMTTYPE=image/jpeg:https://calendario.actualizandome.com/wp-content/uploads/2023/11/frecuencia-5.jpg
END:VEVENT
BEGIN:VEVENT
DTSTART;TZID=America/Mexico_City:20231121T120000
DTEND;TZID=America/Mexico_City:20231121T130000
DTSTAMP:20260421T033654
CREATED:20231117T164322Z
LAST-MODIFIED:20231117T164322Z
UID:10001641-1700568000-1700571600@calendario.actualizandome.com
SUMMARY:Noticias en Actualizandome - #BarraActualizandome
DESCRIPTION:
URL:https://calendario.actualizandome.com/event/noticias-en-actualizandome-barraactualizandome-14/
CATEGORIES:Aula Virtual
ATTACH;FMTTYPE=image/jpeg:https://calendario.actualizandome.com/wp-content/uploads/2023/11/noticias-3.jpg
END:VEVENT
BEGIN:VEVENT
DTSTART;TZID=America/Mexico_City:20231121T110000
DTEND;TZID=America/Mexico_City:20231121T120000
DTSTAMP:20260421T033654
CREATED:20231117T163832Z
LAST-MODIFIED:20231117T163832Z
UID:10001640-1700564400-1700568000@calendario.actualizandome.com
SUMMARY:Tópicos de Seguridad Social - SIROC - 2da Parte - #BarraActualizandome
DESCRIPTION:
URL:https://calendario.actualizandome.com/event/topicos-de-seguridad-social-siroc-2da-parte-barraactualizandome/
CATEGORIES:Aula Virtual
ATTACH;FMTTYPE=image/jpeg:https://calendario.actualizandome.com/wp-content/uploads/2023/11/topicos-3.jpg
END:VEVENT
BEGIN:VEVENT
DTSTART;TZID=America/Mexico_City:20231121T100000
DTEND;TZID=America/Mexico_City:20231121T110000
DTSTAMP:20260421T033654
CREATED:20231117T163628Z
LAST-MODIFIED:20231117T163628Z
UID:10001639-1700560800-1700564400@calendario.actualizandome.com
SUMMARY:Diplomado en Inversiones y Estrategias Financieras 2023 - (R) - #BarraActualizandome
DESCRIPTION:
URL:https://calendario.actualizandome.com/event/diplomado-en-inversiones-y-estrategias-financieras-2023-r-barraactualizandome/
CATEGORIES:Aula Virtual
ATTACH;FMTTYPE=image/jpeg:https://calendario.actualizandome.com/wp-content/uploads/2023/11/inversiones.jpg
END:VEVENT
BEGIN:VEVENT
DTSTART;VALUE=DATE:20231121
DTEND;VALUE=DATE:20231122
DTSTAMP:20260421T033654
CREATED:20231116T180400Z
LAST-MODIFIED:20231121T154114Z
UID:10001629-1700524800-1700611199@calendario.actualizandome.com
SUMMARY:Programación de la Barra Actualizandome
DESCRIPTION:
URL:https://calendario.actualizandome.com/event/programacion-de-la-barra-actualizandome-75/
CATEGORIES:Aula Virtual
ATTACH;FMTTYPE=image/jpeg:https://calendario.actualizandome.com/wp-content/uploads/2023/11/martes-3-scaled.jpg
END:VEVENT
END:VCALENDAR