BEGIN:VCALENDAR
VERSION:2.0
PRODID:-//ACTUALIZANDOME - ECPv6.15.16//NONSGML v1.0//EN
CALSCALE:GREGORIAN
METHOD:PUBLISH
X-ORIGINAL-URL:https://calendario.actualizandome.com
X-WR-CALDESC:Eventos para ACTUALIZANDOME
REFRESH-INTERVAL;VALUE=DURATION:PT1H
X-Robots-Tag:noindex
X-PUBLISHED-TTL:PT1H
BEGIN:VTIMEZONE
TZID:America/Mexico_City
BEGIN:DAYLIGHT
TZOFFSETFROM:-0600
TZOFFSETTO:-0500
TZNAME:CDT
DTSTART:20220403T080000
END:DAYLIGHT
BEGIN:STANDARD
TZOFFSETFROM:-0500
TZOFFSETTO:-0600
TZNAME:CST
DTSTART:20221030T070000
END:STANDARD
END:VTIMEZONE
BEGIN:VEVENT
DTSTART;TZID=America/Mexico_City:20231205T110000
DTEND;TZID=America/Mexico_City:20231205T120000
DTSTAMP:20260420T193334
CREATED:20231204T171832Z
LAST-MODIFIED:20231204T171832Z
UID:10001731-1701774000-1701777600@calendario.actualizandome.com
SUMMARY:Tópicos de Seguridad Social - Implicaciones del REPESE y SIROC - #BarraActualizandome
DESCRIPTION:
URL:https://calendario.actualizandome.com/event/topicos-de-seguridad-social-implicaciones-del-repese-y-siroc-barraactualizandome/
CATEGORIES:Aula Virtual
ATTACH;FMTTYPE=image/jpeg:https://calendario.actualizandome.com/wp-content/uploads/2023/12/seg-social.jpg
END:VEVENT
BEGIN:VEVENT
DTSTART;TZID=America/Mexico_City:20231205T100000
DTEND;TZID=America/Mexico_City:20231205T110000
DTSTAMP:20260420T193334
CREATED:20231204T172823Z
LAST-MODIFIED:20231204T172823Z
UID:10001735-1701770400-1701774000@calendario.actualizandome.com
SUMMARY:Diplomado en Inversiones y Estrategias Financieras 2023 - (R) - #BarraActualizandome
DESCRIPTION:
URL:https://calendario.actualizandome.com/event/diplomado-en-inversiones-y-estrategias-financieras-2023-r-barraactualizandome-2/
CATEGORIES:Aula Virtual
ATTACH;FMTTYPE=image/jpeg:https://calendario.actualizandome.com/wp-content/uploads/2023/12/inversiones.jpg
END:VEVENT
BEGIN:VEVENT
DTSTART;VALUE=DATE:20231205
DTEND;VALUE=DATE:20231206
DTSTAMP:20260420T193334
CREATED:20231129T223527Z
LAST-MODIFIED:20231130T214533Z
UID:10001705-1701734400-1701820799@calendario.actualizandome.com
SUMMARY:Programación de la Barra Actualizandome
DESCRIPTION:
URL:https://calendario.actualizandome.com/event/programacion-de-la-barra-actualizandome-87/
CATEGORIES:Aula Virtual
ATTACH;FMTTYPE=image/jpeg:https://calendario.actualizandome.com/wp-content/uploads/2023/11/martes-6-scaled.jpg
END:VEVENT
BEGIN:VEVENT
DTSTART;TZID=America/Mexico_City:20231204T210000
DTEND;TZID=America/Mexico_City:20231204T213000
DTSTAMP:20260420T193334
CREATED:20231109T233129Z
LAST-MODIFIED:20231202T174721Z
UID:10000819-1701723600-1701725400@calendario.actualizandome.com
SUMMARY:Club de estudio sobre Costos
DESCRIPTION:
URL:https://calendario.actualizandome.com/event/club-de-estudio-sobre-costos/2023-12-04/
CATEGORIES:academia,Cursos
ATTACH;FMTTYPE=image/png:https://calendario.actualizandome.com/wp-content/uploads/2023/11/costo-diciembre.png
END:VEVENT
BEGIN:VEVENT
DTSTART;TZID=America/Mexico_City:20231204T180000
DTEND;TZID=America/Mexico_City:20231204T190000
DTSTAMP:20260420T193334
CREATED:20231201T201836Z
LAST-MODIFIED:20231201T201836Z
UID:10001718-1701712800-1701716400@calendario.actualizandome.com
SUMMARY:ABC de lo Fiscal - Ajuste Anual por Inflación - #BarraActualizandome
DESCRIPTION:
URL:https://calendario.actualizandome.com/event/abc-de-lo-fiscal-ajuste-anual-por-inflacion-barraactualizandome-2/
CATEGORIES:Aula Virtual
ATTACH;FMTTYPE=image/jpeg:https://calendario.actualizandome.com/wp-content/uploads/2023/12/abc.jpg
END:VEVENT
BEGIN:VEVENT
DTSTART;TZID=America/Mexico_City:20231204T170000
DTEND;TZID=America/Mexico_City:20231204T180000
DTSTAMP:20260420T193334
CREATED:20231201T201707Z
LAST-MODIFIED:20231201T224344Z
UID:10001717-1701709200-1701712800@calendario.actualizandome.com
SUMMARY:Foco Financiero - (R) - #BarraActualizandome
DESCRIPTION:
URL:https://calendario.actualizandome.com/event/foco-financiero-r-barraactualizandome-7/
CATEGORIES:Aula Virtual
ATTACH;FMTTYPE=image/jpeg:https://calendario.actualizandome.com/wp-content/uploads/2023/12/foco-1.jpg
END:VEVENT
BEGIN:VEVENT
DTSTART;TZID=America/Mexico_City:20231204T140000
DTEND;TZID=America/Mexico_City:20231204T150000
DTSTAMP:20260420T193334
CREATED:20231201T200406Z
LAST-MODIFIED:20231201T200406Z
UID:10001716-1701698400-1701702000@calendario.actualizandome.com
SUMMARY:Enlazando las Profesiones - #BarraActualizandome
DESCRIPTION:
URL:https://calendario.actualizandome.com/event/enlazando-las-profesiones-barraactualizandome-7/
CATEGORIES:Aula Virtual
ATTACH;FMTTYPE=image/jpeg:https://calendario.actualizandome.com/wp-content/uploads/2023/12/enlazando.jpg
END:VEVENT
BEGIN:VEVENT
DTSTART;TZID=America/Mexico_City:20231204T130000
DTEND;TZID=America/Mexico_City:20231204T140000
DTSTAMP:20260420T193334
CREATED:20231201T200302Z
LAST-MODIFIED:20231204T161338Z
UID:10001715-1701694800-1701698400@calendario.actualizandome.com
SUMMARY:La Hora CNCP - Impuestos Estatales 10ma. Parte - #BarraActualizandome
DESCRIPTION:
URL:https://calendario.actualizandome.com/event/la-hora-cncp-barraactualizandome-8/
CATEGORIES:Aula Virtual
ATTACH;FMTTYPE=image/jpeg:https://calendario.actualizandome.com/wp-content/uploads/2023/12/cncp-1.jpg
END:VEVENT
BEGIN:VEVENT
DTSTART;TZID=America/Mexico_City:20231204T120000
DTEND;TZID=America/Mexico_City:20231204T130000
DTSTAMP:20260420T193334
CREATED:20231201T224711Z
LAST-MODIFIED:20231204T155111Z
UID:10001720-1701691200-1701694800@calendario.actualizandome.com
SUMMARY:Presentación de la Revista Digital Actualizandome Num. 142 - #BarraActualizandome
DESCRIPTION:
URL:https://calendario.actualizandome.com/event/el-derecho-y-su-circulo-de-accion-barraactualizandome-2/
CATEGORIES:Aula Virtual
ATTACH;FMTTYPE=image/jpeg:https://calendario.actualizandome.com/wp-content/uploads/2023/12/revista142.jpg
END:VEVENT
BEGIN:VEVENT
DTSTART;TZID=America/Mexico_City:20231204T110000
DTEND;TZID=America/Mexico_City:20231204T120000
DTSTAMP:20260420T193334
CREATED:20231201T200051Z
LAST-MODIFIED:20231201T200051Z
UID:10001714-1701687600-1701691200@calendario.actualizandome.com
SUMMARY:Hablemos del Código Fiscal - #BarraActualizandome
DESCRIPTION:
URL:https://calendario.actualizandome.com/event/hablemos-del-codigo-fiscal-barraactualizandome-7/
CATEGORIES:Aula Virtual
ATTACH;FMTTYPE=image/jpeg:https://calendario.actualizandome.com/wp-content/uploads/2023/12/codigo.jpg
END:VEVENT
BEGIN:VEVENT
DTSTART;TZID=America/Mexico_City:20231204T100000
DTEND;TZID=America/Mexico_City:20231204T110000
DTSTAMP:20260420T193334
CREATED:20231130T215316Z
LAST-MODIFIED:20231130T215316Z
UID:10001713-1701684000-1701687600@calendario.actualizandome.com
SUMMARY:Reflexionando Desde Israel - #BarraActualizandome
DESCRIPTION:
URL:https://calendario.actualizandome.com/event/reflexionando-desde-israel-barraactualizandome/
CATEGORIES:Aula Virtual
ATTACH;FMTTYPE=image/jpeg:https://calendario.actualizandome.com/wp-content/uploads/2023/11/reflex-2.jpg
END:VEVENT
BEGIN:VEVENT
DTSTART;VALUE=DATE:20231204
DTEND;VALUE=DATE:20231205
DTSTAMP:20260420T193334
CREATED:20231129T224144Z
LAST-MODIFIED:20231204T153631Z
UID:10001706-1701648000-1701734399@calendario.actualizandome.com
SUMMARY:Programación de la Barra Actualizandome
DESCRIPTION:
URL:https://calendario.actualizandome.com/event/programacion-de-la-barra-actualizandome-88/
CATEGORIES:Aula Virtual
ATTACH;FMTTYPE=image/jpeg:https://calendario.actualizandome.com/wp-content/uploads/2023/11/lunes-6-scaled.jpg
END:VEVENT
BEGIN:VEVENT
DTSTART;TZID=America/Mexico_City:20231202T080000
DTEND;TZID=America/Mexico_City:20231202T170000
DTSTAMP:20260420T193334
CREATED:20231202T183002Z
LAST-MODIFIED:20231202T183002Z
UID:10001730-1701504000-1701536400@calendario.actualizandome.com
SUMMARY:Ante una fiscalización intensa por el “año de Hidalgo”
DESCRIPTION:
URL:https://calendario.actualizandome.com/event/ante-una-fiscalizacion-intensa-por-el-ano-de-hidalgo/
CATEGORIES:Cursos,On line,Presencial
ATTACH;FMTTYPE=image/png:https://calendario.actualizandome.com/wp-content/uploads/2023/12/fin-dic-23.png
END:VEVENT
BEGIN:VEVENT
DTSTART;TZID=America/Mexico_City:20231201T180000
DTEND;TZID=America/Mexico_City:20231201T190000
DTSTAMP:20260420T193334
CREATED:20231128T230439Z
LAST-MODIFIED:20231128T230439Z
UID:10001698-1701453600-1701457200@calendario.actualizandome.com
SUMMARY:Asesoría de Riesgos Patrimoniales - Seguro de Hombre Clave - #BarraActualizandome
DESCRIPTION:
URL:https://calendario.actualizandome.com/event/asesoria-de-riesgos-patrimoniales-seguro-de-hombre-clave-barraactualizandome/
CATEGORIES:Aula Virtual
ATTACH;FMTTYPE=image/jpeg:https://calendario.actualizandome.com/wp-content/uploads/2023/11/riesgos-1.jpg
END:VEVENT
BEGIN:VEVENT
DTSTART;TZID=America/Mexico_City:20231201T170000
DTEND;TZID=America/Mexico_City:20231201T180000
DTSTAMP:20260420T193334
CREATED:20231130T174313Z
LAST-MODIFIED:20231130T174313Z
UID:10001711-1701450000-1701453600@calendario.actualizandome.com
SUMMARY:Frecuencia Empresarial - La Última y nos Vamos - #BarraActualizandome
DESCRIPTION:
URL:https://calendario.actualizandome.com/event/frecuencia-empresarial-la-ultima-y-nos-vamos-barraactualizandome/
CATEGORIES:Aula Virtual
ATTACH;FMTTYPE=image/jpeg:https://calendario.actualizandome.com/wp-content/uploads/2023/11/frecuencia-6.jpg
END:VEVENT
BEGIN:VEVENT
DTSTART;TZID=America/Mexico_City:20231201T130000
DTEND;TZID=America/Mexico_City:20231201T140000
DTSTAMP:20260420T193334
CREATED:20231130T174137Z
LAST-MODIFIED:20231130T175358Z
UID:10001710-1701435600-1701439200@calendario.actualizandome.com
SUMMARY:El Mundo más allá de lo Contable y Fiscal - #BarraActualizandome
DESCRIPTION:
URL:https://calendario.actualizandome.com/event/el-mundo-mas-alla-de-lo-contable-y-fiscal-barraactualizandome-5/
CATEGORIES:Aula Virtual
ATTACH;FMTTYPE=image/jpeg:https://calendario.actualizandome.com/wp-content/uploads/2023/11/contable-1.jpg
END:VEVENT
BEGIN:VEVENT
DTSTART;TZID=America/Mexico_City:20231201T120000
DTEND;TZID=America/Mexico_City:20231201T130000
DTSTAMP:20260420T193334
CREATED:20231130T174015Z
LAST-MODIFIED:20231130T174015Z
UID:10001709-1701432000-1701435600@calendario.actualizandome.com
SUMMARY:Hablemos del Dictamen Fiscal - #BarraActualizandome
DESCRIPTION:
URL:https://calendario.actualizandome.com/event/hablemos-del-dictamen-fiscal-barraactualizandome-7/
CATEGORIES:Aula Virtual
ATTACH;FMTTYPE=image/jpeg:https://calendario.actualizandome.com/wp-content/uploads/2023/11/dictamen-1.jpg
END:VEVENT
BEGIN:VEVENT
DTSTART;TZID=America/Mexico_City:20231201T110000
DTEND;TZID=America/Mexico_City:20231201T120000
DTSTAMP:20260420T193334
CREATED:20231130T173908Z
LAST-MODIFIED:20231130T173908Z
UID:10001708-1701428400-1701432000@calendario.actualizandome.com
SUMMARY:Yin Yang Fiscal - Salario Mínimo 2024 - #BarraActualizandome
DESCRIPTION:
URL:https://calendario.actualizandome.com/event/yin-yang-fiscal-salario-minimo-2024-barraactualizandome/
CATEGORIES:Aula Virtual
ATTACH;FMTTYPE=image/jpeg:https://calendario.actualizandome.com/wp-content/uploads/2023/11/yin-4.jpg
END:VEVENT
BEGIN:VEVENT
DTSTART;TZID=America/Mexico_City:20231201T100000
DTEND;TZID=America/Mexico_City:20231201T110000
DTSTAMP:20260420T193334
CREATED:20231130T173734Z
LAST-MODIFIED:20231130T173734Z
UID:10001707-1701424800-1701428400@calendario.actualizandome.com
SUMMARY:Conociendo el Mundo Fiscal - #BarraActualizandome
DESCRIPTION:
URL:https://calendario.actualizandome.com/event/conociendo-el-mundo-fiscal-barraactualizandome-9/
CATEGORIES:Aula Virtual
ATTACH;FMTTYPE=image/jpeg:https://calendario.actualizandome.com/wp-content/uploads/2023/11/mundo-3.jpg
END:VEVENT
BEGIN:VEVENT
DTSTART;VALUE=DATE:20231201
DTEND;VALUE=DATE:20231202
DTSTAMP:20260420T193334
CREATED:20231123T000538Z
LAST-MODIFIED:20231130T163353Z
UID:10001662-1701388800-1701475199@calendario.actualizandome.com
SUMMARY:Programación de la Barra Actualizandome
DESCRIPTION:
URL:https://calendario.actualizandome.com/event/programacion-de-la-barra-actualizandome-83/
CATEGORIES:Aula Virtual
ATTACH;FMTTYPE=image/jpeg:https://calendario.actualizandome.com/wp-content/uploads/2023/11/viernes-6-scaled.jpg
END:VEVENT
BEGIN:VEVENT
DTSTART;TZID=America/Mexico_City:20231130T180000
DTEND;TZID=America/Mexico_City:20231130T190000
DTSTAMP:20260420T193334
CREATED:20231128T230122Z
LAST-MODIFIED:20231128T230122Z
UID:10001697-1701367200-1701370800@calendario.actualizandome.com
SUMMARY:Updating my Intellect - (R) - #BarraActualizandome
DESCRIPTION:
URL:https://calendario.actualizandome.com/event/updating-my-intellect-r-barraactualizandome/
CATEGORIES:Aula Virtual
ATTACH;FMTTYPE=image/jpeg:https://calendario.actualizandome.com/wp-content/uploads/2023/11/updating-1.jpg
END:VEVENT
BEGIN:VEVENT
DTSTART;TZID=America/Mexico_City:20231130T170000
DTEND;TZID=America/Mexico_City:20231130T180000
DTSTAMP:20260420T193334
CREATED:20231129T193924Z
LAST-MODIFIED:20231129T193924Z
UID:10001701-1701363600-1701367200@calendario.actualizandome.com
SUMMARY:De Impuestos y Otros Demonios - #BarraActualizandome
DESCRIPTION:
URL:https://calendario.actualizandome.com/event/de-impuestos-y-otros-demonios-barraactualizandome-5/
CATEGORIES:Aula Virtual
ATTACH;FMTTYPE=image/jpeg:https://calendario.actualizandome.com/wp-content/uploads/2023/11/impuestos-4.jpg
END:VEVENT
BEGIN:VEVENT
DTSTART;TZID=America/Mexico_City:20231130T140000
DTEND;TZID=America/Mexico_City:20231130T150000
DTSTAMP:20260420T193334
CREATED:20231129T193759Z
LAST-MODIFIED:20231129T193759Z
UID:10001700-1701352800-1701356400@calendario.actualizandome.com
SUMMARY:Tecnología Práctica - #BarraActualizandome
DESCRIPTION:
URL:https://calendario.actualizandome.com/event/tecnologia-practica-barraactualizandome-9/
CATEGORIES:Aula Virtual
ATTACH;FMTTYPE=image/jpeg:https://calendario.actualizandome.com/wp-content/uploads/2023/11/tecnologia.jpg
END:VEVENT
BEGIN:VEVENT
DTSTART;TZID=America/Mexico_City:20231130T130000
DTEND;TZID=America/Mexico_City:20231130T140000
DTSTAMP:20260420T193334
CREATED:20231128T225925Z
LAST-MODIFIED:20231128T225925Z
UID:10001696-1701349200-1701352800@calendario.actualizandome.com
SUMMARY:Noticias en Actualizandome - #BarraActualizandome
DESCRIPTION:
URL:https://calendario.actualizandome.com/event/noticias-en-actualizandome-barraactualizandome-15/
CATEGORIES:Aula Virtual
ATTACH;FMTTYPE=image/jpeg:https://calendario.actualizandome.com/wp-content/uploads/2023/11/noticias-4.jpg
END:VEVENT
BEGIN:VEVENT
DTSTART;TZID=America/Mexico_City:20231130T120000
DTEND;TZID=America/Mexico_City:20231130T130000
DTSTAMP:20260420T193334
CREATED:20231128T225756Z
LAST-MODIFIED:20231128T225756Z
UID:10001695-1701345600-1701349200@calendario.actualizandome.com
SUMMARY:Los Derechos Humanos en Serio - (R) - #BarraActualizandome
DESCRIPTION:
URL:https://calendario.actualizandome.com/event/los-derechos-humanos-en-serio-r-barraactualizandome-3/
CATEGORIES:Aula Virtual
ATTACH;FMTTYPE=image/jpeg:https://calendario.actualizandome.com/wp-content/uploads/2023/11/derechos-5.jpg
END:VEVENT
BEGIN:VEVENT
DTSTART;TZID=America/Mexico_City:20231130T110000
DTEND;TZID=America/Mexico_City:20231130T120000
DTSTAMP:20260420T193334
CREATED:20231129T193641Z
LAST-MODIFIED:20231129T193641Z
UID:10001699-1701342000-1701345600@calendario.actualizandome.com
SUMMARY:Simetría Fiscal - #BarraActualizandome
DESCRIPTION:
URL:https://calendario.actualizandome.com/event/simetria-fiscal-barraactualizandome-7/
CATEGORIES:Aula Virtual
ATTACH;FMTTYPE=image/jpeg:https://calendario.actualizandome.com/wp-content/uploads/2023/11/simetria-1.jpg
END:VEVENT
BEGIN:VEVENT
DTSTART;TZID=America/Mexico_City:20231130T100000
DTEND;TZID=America/Mexico_City:20231130T110000
DTSTAMP:20260420T193334
CREATED:20231128T225521Z
LAST-MODIFIED:20231128T225521Z
UID:10001694-1701338400-1701342000@calendario.actualizandome.com
SUMMARY:Hablemos de Pensiones - (R) - #BarraActualizandome
DESCRIPTION:
URL:https://calendario.actualizandome.com/event/hablemos-de-pensiones-r-barraactualizandome-7/
CATEGORIES:Aula Virtual
ATTACH;FMTTYPE=image/jpeg:https://calendario.actualizandome.com/wp-content/uploads/2023/11/pension.jpg
END:VEVENT
BEGIN:VEVENT
DTSTART;VALUE=DATE:20231130
DTEND;VALUE=DATE:20231201
DTSTAMP:20260420T193334
CREATED:20231123T000256Z
LAST-MODIFIED:20231123T000256Z
UID:10001661-1701302400-1701388799@calendario.actualizandome.com
SUMMARY:Programación de la Barra Actualizandome
DESCRIPTION:
URL:https://calendario.actualizandome.com/event/programacion-de-la-barra-actualizandome-82/
CATEGORIES:Aula Virtual
ATTACH;FMTTYPE=image/jpeg:https://calendario.actualizandome.com/wp-content/uploads/2023/11/jueves-5-scaled.jpg
END:VEVENT
BEGIN:VEVENT
DTSTART;TZID=America/Mexico_City:20231129T210000
DTEND;TZID=America/Mexico_City:20231129T210000
DTSTAMP:20260420T193334
CREATED:20231109T233529Z
LAST-MODIFIED:20260129T002251Z
UID:10001340-1701291600-1701291600@calendario.actualizandome.com
SUMMARY:Club de estudio sobre Reglas Misceláneas 2026
DESCRIPTION:
URL:https://calendario.actualizandome.com/event/club-de-estudio-sobre-reglas-miscelaneas-2026/2023-11-29/
CATEGORIES:academia,Cursos
ATTACH;FMTTYPE=image/png:https://calendario.actualizandome.com/wp-content/uploads/2023/11/Club-de-estudio-sobre-Reglas-Miscelaneas-2024-26-1400x788-1.png
END:VEVENT
BEGIN:VEVENT
DTSTART;TZID=America/Mexico_City:20231129T180000
DTEND;TZID=America/Mexico_City:20231129T190000
DTSTAMP:20260420T193334
CREATED:20231128T222903Z
LAST-MODIFIED:20231128T222903Z
UID:10001693-1701280800-1701284400@calendario.actualizandome.com
SUMMARY:Sesión Interactiva - #BarraActualizandome
DESCRIPTION:
URL:https://calendario.actualizandome.com/event/sesion-interactiva-barraactualizandome-2/
CATEGORIES:Aula Virtual
ATTACH;FMTTYPE=image/jpeg:https://calendario.actualizandome.com/wp-content/uploads/2023/11/interactiva-2.jpg
END:VEVENT
END:VCALENDAR