BEGIN:VCALENDAR
VERSION:2.0
PRODID:-//ACTUALIZANDOME - ECPv6.15.16//NONSGML v1.0//EN
CALSCALE:GREGORIAN
METHOD:PUBLISH
X-ORIGINAL-URL:https://calendario.actualizandome.com
X-WR-CALDESC:Eventos para ACTUALIZANDOME
REFRESH-INTERVAL;VALUE=DURATION:PT1H
X-Robots-Tag:noindex
X-PUBLISHED-TTL:PT1H
BEGIN:VTIMEZONE
TZID:America/Mexico_City
BEGIN:DAYLIGHT
TZOFFSETFROM:-0600
TZOFFSETTO:-0500
TZNAME:CDT
DTSTART:20220403T080000
END:DAYLIGHT
BEGIN:STANDARD
TZOFFSETFROM:-0500
TZOFFSETTO:-0600
TZNAME:CST
DTSTART:20221030T070000
END:STANDARD
END:VTIMEZONE
BEGIN:VEVENT
DTSTART;TZID=America/Mexico_City:20231214T170000
DTEND;TZID=America/Mexico_City:20231214T180000
DTSTAMP:20260420T093313
CREATED:20231213T191057Z
LAST-MODIFIED:20231213T191057Z
UID:10005437-1702573200-1702576800@calendario.actualizandome.com
SUMMARY:De Impuestos y Otros Demonios - #BarraActualizandome
DESCRIPTION:
URL:https://calendario.actualizandome.com/event/de-impuestos-y-otros-demonios-barraactualizandome-6/
CATEGORIES:Aula Virtual
ATTACH;FMTTYPE=image/jpeg:https://calendario.actualizandome.com/wp-content/uploads/2023/12/impuestos-1.jpg
END:VEVENT
BEGIN:VEVENT
DTSTART;TZID=America/Mexico_City:20231214T140000
DTEND;TZID=America/Mexico_City:20231214T150000
DTSTAMP:20260420T093313
CREATED:20231213T190943Z
LAST-MODIFIED:20231213T190943Z
UID:10005436-1702562400-1702566000@calendario.actualizandome.com
SUMMARY:Tecnología Práctica - #BarraActualizandome
DESCRIPTION:
URL:https://calendario.actualizandome.com/event/tecnologia-practica-barraactualizandome-10/
CATEGORIES:Aula Virtual
ATTACH;FMTTYPE=image/jpeg:https://calendario.actualizandome.com/wp-content/uploads/2023/12/tecno.jpg
END:VEVENT
BEGIN:VEVENT
DTSTART;TZID=America/Mexico_City:20231214T130000
DTEND;TZID=America/Mexico_City:20231214T140000
DTSTAMP:20260420T093313
CREATED:20231213T190752Z
LAST-MODIFIED:20231213T190752Z
UID:10005435-1702558800-1702562400@calendario.actualizandome.com
SUMMARY:Noticias en Actualizandome - #BarraActualizandome
DESCRIPTION:
URL:https://calendario.actualizandome.com/event/noticias-en-actualizandome-barraactualizandome-17/
CATEGORIES:Aula Virtual
ATTACH;FMTTYPE=image/jpeg:https://calendario.actualizandome.com/wp-content/uploads/2023/12/noticias-1.jpg
END:VEVENT
BEGIN:VEVENT
DTSTART;TZID=America/Mexico_City:20231214T120000
DTEND;TZID=America/Mexico_City:20231214T130000
DTSTAMP:20260420T093313
CREATED:20231213T161545Z
LAST-MODIFIED:20231213T161545Z
UID:10005432-1702555200-1702558800@calendario.actualizandome.com
SUMMARY:Litigio Fiscal Estratégico - Reflexiones del Ejercicio Fiscal 2023 y Perspectivas 2024 - #BarraActualizandome
DESCRIPTION:
URL:https://calendario.actualizandome.com/event/litigio-fiscal-estrategico-reflexiones-del-ejercicio-fiscal-2023-y-perspectivas-2024-barraactualizandome-2/
CATEGORIES:Aula Virtual
ATTACH;FMTTYPE=image/jpeg:https://calendario.actualizandome.com/wp-content/uploads/2023/12/litigio-2.jpg
END:VEVENT
BEGIN:VEVENT
DTSTART;TZID=America/Mexico_City:20231214T110000
DTEND;TZID=America/Mexico_City:20231214T120000
DTSTAMP:20260420T093313
CREATED:20231213T190643Z
LAST-MODIFIED:20231213T190643Z
UID:10005434-1702551600-1702555200@calendario.actualizandome.com
SUMMARY:Simetría Fiscal - Puntos Claves del Cierre Anual de Sueldos y Salarios 2023 - #BarraActualizandome
DESCRIPTION:
URL:https://calendario.actualizandome.com/event/simetria-fiscal-puntos-claves-del-cierre-anual-de-sueldos-y-salarios-2023-barraactualizandome/
CATEGORIES:Aula Virtual
ATTACH;FMTTYPE=image/jpeg:https://calendario.actualizandome.com/wp-content/uploads/2023/12/simetria.jpg
END:VEVENT
BEGIN:VEVENT
DTSTART;TZID=America/Mexico_City:20231214T100000
DTEND;TZID=America/Mexico_City:20231214T150000
DTSTAMP:20260420T093313
CREATED:20231124T005000Z
LAST-MODIFIED:20231202T174917Z
UID:10001670-1702548000-1702566000@calendario.actualizandome.com
SUMMARY:Actos de fiscalización de las Autoridades fiscales. La protección del contribuyente
DESCRIPTION:
URL:https://calendario.actualizandome.com/event/actos-de-fiscalizacion-de-las-autoridades-fiscales-la-proteccion-del-contribuyente/
CATEGORIES:Cursos,On line,Presencial
ATTACH;FMTTYPE=image/png:https://calendario.actualizandome.com/wp-content/uploads/2023/11/proteccioncontribuyente-14dic.png
END:VEVENT
BEGIN:VEVENT
DTSTART;TZID=America/Mexico_City:20231214T100000
DTEND;TZID=America/Mexico_City:20231214T110000
DTSTAMP:20260420T093313
CREATED:20231213T161718Z
LAST-MODIFIED:20231213T164047Z
UID:10005433-1702548000-1702551600@calendario.actualizandome.com
SUMMARY:Hablemos de Pensiones - (R) - #BarraActualizandome
DESCRIPTION:
URL:https://calendario.actualizandome.com/event/hablemos-de-pensiones-r-barraactualizandome-8/
CATEGORIES:Aula Virtual
ATTACH;FMTTYPE=image/jpeg:https://calendario.actualizandome.com/wp-content/uploads/2023/12/pensiones-1.jpg
END:VEVENT
BEGIN:VEVENT
DTSTART;VALUE=DATE:20231214
DTEND;VALUE=DATE:20231215
DTSTAMP:20260420T093313
CREATED:20231206T174031Z
LAST-MODIFIED:20231213T164808Z
UID:10005395-1702512000-1702598399@calendario.actualizandome.com
SUMMARY:Programación de la Barra Actualizandome
DESCRIPTION:
URL:https://calendario.actualizandome.com/event/programacion-de-la-barra-actualizandome-92/
CATEGORIES:Aula Virtual
ATTACH;FMTTYPE=image/jpeg:https://calendario.actualizandome.com/wp-content/uploads/2023/12/jueves-2-scaled.jpg
END:VEVENT
BEGIN:VEVENT
DTSTART;TZID=America/Mexico_City:20231213T210000
DTEND;TZID=America/Mexico_City:20231213T210000
DTSTAMP:20260420T093313
CREATED:20231109T233529Z
LAST-MODIFIED:20260129T002251Z
UID:10001342-1702501200-1702501200@calendario.actualizandome.com
SUMMARY:Club de estudio sobre Reglas Misceláneas 2026
DESCRIPTION:
URL:https://calendario.actualizandome.com/event/club-de-estudio-sobre-reglas-miscelaneas-2026/2023-12-13/
CATEGORIES:academia,Cursos
ATTACH;FMTTYPE=image/png:https://calendario.actualizandome.com/wp-content/uploads/2023/11/Club-de-estudio-sobre-Reglas-Miscelaneas-2024-26-1400x788-1.png
END:VEVENT
BEGIN:VEVENT
DTSTART;TZID=America/Mexico_City:20231213T170000
DTEND;TZID=America/Mexico_City:20231213T190000
DTSTAMP:20260420T093313
CREATED:20231212T163417Z
LAST-MODIFIED:20231212T163633Z
UID:10005426-1702486800-1702494000@calendario.actualizandome.com
SUMMARY:Sesión Interactiva de la Revista Digital Actualizandome Edición 141 - #BarraActualizandome
DESCRIPTION:
URL:https://calendario.actualizandome.com/event/sesion-interectiva-de-la-revista-digital-actualizandome-edicion-141-barraactualizandome/
CATEGORIES:Aula Virtual
ATTACH;FMTTYPE=image/jpeg:https://calendario.actualizandome.com/wp-content/uploads/2023/12/sesion-1.jpg
END:VEVENT
BEGIN:VEVENT
DTSTART;TZID=America/Mexico_City:20231213T140000
DTEND;TZID=America/Mexico_City:20231213T150000
DTSTAMP:20260420T093313
CREATED:20231212T222954Z
LAST-MODIFIED:20231212T222954Z
UID:10005431-1702476000-1702479600@calendario.actualizandome.com
SUMMARY:Hablemos de Pensiones - #BarraActualizandome
DESCRIPTION:
URL:https://calendario.actualizandome.com/event/hablemos-de-pensiones-barraactualizandome-6/
CATEGORIES:Aula Virtual
ATTACH;FMTTYPE=image/jpeg:https://calendario.actualizandome.com/wp-content/uploads/2023/12/pensiones.jpg
END:VEVENT
BEGIN:VEVENT
DTSTART;TZID=America/Mexico_City:20231213T130000
DTEND;TZID=America/Mexico_City:20231213T140000
DTSTAMP:20260420T093313
CREATED:20231212T222830Z
LAST-MODIFIED:20231212T222830Z
UID:10005430-1702472400-1702476000@calendario.actualizandome.com
SUMMARY:Foco Financiero - #BarraActualizandome
DESCRIPTION:
URL:https://calendario.actualizandome.com/event/foco-financiero-barraactualizandome-9/
CATEGORIES:Aula Virtual
ATTACH;FMTTYPE=image/jpeg:https://calendario.actualizandome.com/wp-content/uploads/2023/12/foco-2.jpg
END:VEVENT
BEGIN:VEVENT
DTSTART;TZID=America/Mexico_City:20231213T120000
DTEND;TZID=America/Mexico_City:20231213T130000
DTSTAMP:20260420T093313
CREATED:20231212T222656Z
LAST-MODIFIED:20231212T222656Z
UID:10005429-1702468800-1702472400@calendario.actualizandome.com
SUMMARY:Estratégica - #BarraActualizandome
DESCRIPTION:
URL:https://calendario.actualizandome.com/event/estrategica-barraactualizandome-5/
CATEGORIES:Aula Virtual
ATTACH;FMTTYPE=image/jpeg:https://calendario.actualizandome.com/wp-content/uploads/2023/12/estrategica.jpg
END:VEVENT
BEGIN:VEVENT
DTSTART;TZID=America/Mexico_City:20231213T110000
DTEND;TZID=America/Mexico_City:20231213T120000
DTSTAMP:20260420T093313
CREATED:20231212T222531Z
LAST-MODIFIED:20231212T224836Z
UID:10005428-1702465200-1702468800@calendario.actualizandome.com
SUMMARY:Consultorio Conta Fiscal - Propuestas 2024 - 2da Parte - #BarraActualizandome
DESCRIPTION:
URL:https://calendario.actualizandome.com/event/consultorio-conta-fiscal-barraactualizandome-7/
CATEGORIES:Aula Virtual
ATTACH;FMTTYPE=image/jpeg:https://calendario.actualizandome.com/wp-content/uploads/2023/12/consultorio-1.jpg
END:VEVENT
BEGIN:VEVENT
DTSTART;TZID=America/Mexico_City:20231213T100000
DTEND;TZID=America/Mexico_City:20231213T110000
DTSTAMP:20260420T093313
CREATED:20231212T222419Z
LAST-MODIFIED:20231213T153207Z
UID:10005427-1702461600-1702465200@calendario.actualizandome.com
SUMMARY:Tríada Fiscal - Cierre Fiscal 2023 - #BarraActualizandome
DESCRIPTION:
URL:https://calendario.actualizandome.com/event/triada-fiscal-barraactualizandome-8/
CATEGORIES:Aula Virtual
ATTACH;FMTTYPE=image/jpeg:https://calendario.actualizandome.com/wp-content/uploads/2023/12/triada-1.jpg
END:VEVENT
BEGIN:VEVENT
DTSTART;VALUE=DATE:20231213
DTEND;VALUE=DATE:20231214
DTSTAMP:20260420T093313
CREATED:20231206T173903Z
LAST-MODIFIED:20231212T164855Z
UID:10005394-1702425600-1702511999@calendario.actualizandome.com
SUMMARY:Programación de la Barra Actualizandome
DESCRIPTION:
URL:https://calendario.actualizandome.com/event/programacion-de-la-barra-actualizandome-91/
CATEGORIES:Aula Virtual
ATTACH;FMTTYPE=image/jpeg:https://calendario.actualizandome.com/wp-content/uploads/2023/12/miercoles-scaled.jpg
END:VEVENT
BEGIN:VEVENT
DTSTART;TZID=America/Mexico_City:20231212T180000
DTEND;TZID=America/Mexico_City:20231212T190000
DTSTAMP:20260420T093313
CREATED:20231211T194128Z
LAST-MODIFIED:20231211T194128Z
UID:10005424-1702404000-1702407600@calendario.actualizandome.com
SUMMARY:CONADFIS - Llenado Régimen Simplificado de Confianza Personas Morales - #BarraActualizandome
DESCRIPTION:
URL:https://calendario.actualizandome.com/event/conadfis-llenado-regimen-simplificado-de-confianza-personas-morales-barraactualizandome-2/
CATEGORIES:Aula Virtual
ATTACH;FMTTYPE=image/jpeg:https://calendario.actualizandome.com/wp-content/uploads/2023/12/conadfis.jpg
END:VEVENT
BEGIN:VEVENT
DTSTART;TZID=America/Mexico_City:20231212T170000
DTEND;TZID=America/Mexico_City:20231212T180000
DTSTAMP:20260420T093313
CREATED:20231211T193951Z
LAST-MODIFIED:20231211T193951Z
UID:10005423-1702400400-1702404000@calendario.actualizandome.com
SUMMARY:Fiscal por la Tarde - Iniciativa de la Ley General de Mecanismos Alternativos de Solución de Controversias - #BarraActualizandome
DESCRIPTION:
URL:https://calendario.actualizandome.com/event/fiscal-por-la-tarde-iniciativa-de-la-ley-general-de-mecanismos-alternativos-de-solucion-de-controversias-barraactualizandome/
CATEGORIES:Aula Virtual
ATTACH;FMTTYPE=image/jpeg:https://calendario.actualizandome.com/wp-content/uploads/2023/12/fiscal.jpg
END:VEVENT
BEGIN:VEVENT
DTSTART;TZID=America/Mexico_City:20231212T160000
DTEND;TZID=America/Mexico_City:20231212T170000
DTSTAMP:20260420T093313
CREATED:20231211T193549Z
LAST-MODIFIED:20231211T193549Z
UID:10005422-1702396800-1702400400@calendario.actualizandome.com
SUMMARY:Compliance más allá de la Norma - #BarraActualizandome
DESCRIPTION:
URL:https://calendario.actualizandome.com/event/compliance-mas-alla-de-la-norma-barraactualizandome-8/
CATEGORIES:Aula Virtual
ATTACH;FMTTYPE=image/jpeg:https://calendario.actualizandome.com/wp-content/uploads/2023/12/compliance.jpg
END:VEVENT
BEGIN:VEVENT
DTSTART;TZID=America/Mexico_City:20231212T140000
DTEND;TZID=America/Mexico_City:20231212T150000
DTSTAMP:20260420T093313
CREATED:20231211T193431Z
LAST-MODIFIED:20231211T193431Z
UID:10005421-1702389600-1702393200@calendario.actualizandome.com
SUMMARY:El Poder de los Seguros - #BarraActualizandome
DESCRIPTION:
URL:https://calendario.actualizandome.com/event/el-poder-de-los-seguros-barraactualizandome-6/
CATEGORIES:Aula Virtual
ATTACH;FMTTYPE=image/jpeg:https://calendario.actualizandome.com/wp-content/uploads/2023/12/seguros.jpg
END:VEVENT
BEGIN:VEVENT
DTSTART;TZID=America/Mexico_City:20231212T130000
DTEND;TZID=America/Mexico_City:20231212T140000
DTSTAMP:20260420T093313
CREATED:20231211T193103Z
LAST-MODIFIED:20231212T155230Z
UID:10005420-1702386000-1702389600@calendario.actualizandome.com
SUMMARY:Litigio Fiscal Estratégico - #BarraActualizandome
DESCRIPTION:
URL:https://calendario.actualizandome.com/event/litigio-fiscal-estrategico-reflexiones-del-ejercicio-fiscal-2023-y-perspectivas-2024-barraactualizandome/
CATEGORIES:Aula Virtual
ATTACH;FMTTYPE=image/jpeg:https://calendario.actualizandome.com/wp-content/uploads/2023/12/litigio-1.jpg
END:VEVENT
BEGIN:VEVENT
DTSTART;TZID=America/Mexico_City:20231212T120000
DTEND;TZID=America/Mexico_City:20231212T130000
DTSTAMP:20260420T093313
CREATED:20231211T192925Z
LAST-MODIFIED:20231211T192925Z
UID:10005419-1702382400-1702386000@calendario.actualizandome.com
SUMMARY:Tópicos Fiscales - La Revisión de Gabinete - #BarraActualizandome
DESCRIPTION:
URL:https://calendario.actualizandome.com/event/topicos-fiscales-la-revision-de-gabinete-barraactualizandome/
CATEGORIES:Aula Virtual
ATTACH;FMTTYPE=image/jpeg:https://calendario.actualizandome.com/wp-content/uploads/2023/12/topicos.jpg
END:VEVENT
BEGIN:VEVENT
DTSTART;TZID=America/Mexico_City:20231212T110000
DTEND;TZID=America/Mexico_City:20231212T120000
DTSTAMP:20260420T093313
CREATED:20231211T192804Z
LAST-MODIFIED:20231211T192804Z
UID:10005418-1702378800-1702382400@calendario.actualizandome.com
SUMMARY:La Hora de la Prodecon - RESICO Personas Morales - #BarraActualizandome
DESCRIPTION:
URL:https://calendario.actualizandome.com/event/la-hora-de-la-prodecon-resico-personas-morales-barraactualizandome/
CATEGORIES:Aula Virtual
ATTACH;FMTTYPE=image/jpeg:https://calendario.actualizandome.com/wp-content/uploads/2023/12/prodecon.jpg
END:VEVENT
BEGIN:VEVENT
DTSTART;TZID=America/Mexico_City:20231212T100000
DTEND;TZID=America/Mexico_City:20231212T110000
DTSTAMP:20260420T093313
CREATED:20231211T192635Z
LAST-MODIFIED:20231211T192635Z
UID:10005417-1702375200-1702378800@calendario.actualizandome.com
SUMMARY:Leones Tributarios - Recomendaciones Para 2024 - BarraActualizandome
DESCRIPTION:
URL:https://calendario.actualizandome.com/event/leones-tributarios-recomendaciones-para-2024-barraactualizandome/
CATEGORIES:Aula Virtual
ATTACH;FMTTYPE=image/jpeg:https://calendario.actualizandome.com/wp-content/uploads/2023/12/leones.jpg
END:VEVENT
BEGIN:VEVENT
DTSTART;VALUE=DATE:20231212
DTEND;VALUE=DATE:20231213
DTSTAMP:20260420T093313
CREATED:20231206T173453Z
LAST-MODIFIED:20231206T173453Z
UID:10005393-1702339200-1702425599@calendario.actualizandome.com
SUMMARY:Programación de la Barra Actualizandome
DESCRIPTION:
URL:https://calendario.actualizandome.com/event/programacion-de-la-barra-actualizandome-90/
CATEGORIES:Aula Virtual
ATTACH;FMTTYPE=image/jpeg:https://calendario.actualizandome.com/wp-content/uploads/2023/12/martes-scaled.jpg
END:VEVENT
BEGIN:VEVENT
DTSTART;TZID=America/Mexico_City:20231211T210000
DTEND;TZID=America/Mexico_City:20231211T213000
DTSTAMP:20260420T093313
CREATED:20231109T233129Z
LAST-MODIFIED:20231202T174721Z
UID:10000820-1702328400-1702330200@calendario.actualizandome.com
SUMMARY:Club de estudio sobre Costos
DESCRIPTION:
URL:https://calendario.actualizandome.com/event/club-de-estudio-sobre-costos/2023-12-11/
CATEGORIES:academia,Cursos
ATTACH;FMTTYPE=image/png:https://calendario.actualizandome.com/wp-content/uploads/2023/11/costo-diciembre.png
END:VEVENT
BEGIN:VEVENT
DTSTART;TZID=America/Mexico_City:20231211T180000
DTEND;TZID=America/Mexico_City:20231211T190000
DTSTAMP:20260420T093313
CREATED:20231208T182721Z
LAST-MODIFIED:20231208T182721Z
UID:10005414-1702317600-1702321200@calendario.actualizandome.com
SUMMARY:Hora de la Asociación Sonorense de Contadores Públicos - #BarraActualizandome
DESCRIPTION:
URL:https://calendario.actualizandome.com/event/hora-de-la-asociacion-sonorense-de-contadores-publicos-barraactualizandome-4/
CATEGORIES:Aula Virtual
ATTACH;FMTTYPE=image/jpeg:https://calendario.actualizandome.com/wp-content/uploads/2023/12/ascp.jpg
END:VEVENT
BEGIN:VEVENT
DTSTART;TZID=America/Mexico_City:20231211T170000
DTEND;TZID=America/Mexico_City:20231211T180000
DTSTAMP:20260420T093313
CREATED:20231208T182438Z
LAST-MODIFIED:20231208T182438Z
UID:10005413-1702314000-1702317600@calendario.actualizandome.com
SUMMARY:Conoce las Finanzas - Gobierno Corporativo\, Código de Ética (Caso Carso) - #BarraActualizandome
DESCRIPTION:
URL:https://calendario.actualizandome.com/event/conoce-las-finanzas-gobierno-corporativo-codigo-de-etica-caso-carso-barraactualizandome/
CATEGORIES:Aula Virtual
ATTACH;FMTTYPE=image/jpeg:https://calendario.actualizandome.com/wp-content/uploads/2023/12/finanzas.jpg
END:VEVENT
BEGIN:VEVENT
DTSTART;TZID=America/Mexico_City:20231211T140000
DTEND;TZID=America/Mexico_City:20231211T150000
DTSTAMP:20260420T093313
CREATED:20231208T182254Z
LAST-MODIFIED:20231208T182254Z
UID:10005412-1702303200-1702306800@calendario.actualizandome.com
SUMMARY:De Obligaciones y de Derechos - Medidas Cautelares en el Juicio Contencioso Administrativo - #BarraActualizandome
DESCRIPTION:
URL:https://calendario.actualizandome.com/event/de-obligaciones-y-de-derechos-medidas-cautelares-en-el-juicio-contencioso-administrativo-barraactualizandome/
CATEGORIES:Aula Virtual
ATTACH;FMTTYPE=image/jpeg:https://calendario.actualizandome.com/wp-content/uploads/2023/12/obligaciones.jpg
END:VEVENT
BEGIN:VEVENT
DTSTART;TZID=America/Mexico_City:20231211T130000
DTEND;TZID=America/Mexico_City:20231211T140000
DTSTAMP:20260420T093313
CREATED:20231208T181925Z
LAST-MODIFIED:20231208T181925Z
UID:10005411-1702299600-1702303200@calendario.actualizandome.com
SUMMARY:La Hora CNCP - Impuestos Estatales 11va Parte - #BarraActualizandome
DESCRIPTION:
URL:https://calendario.actualizandome.com/event/la-hora-cncp-impuestos-estatales-11va-parte-barraactualizandome/
CATEGORIES:Aula Virtual
ATTACH;FMTTYPE=image/jpeg:https://calendario.actualizandome.com/wp-content/uploads/2023/12/cncp-2.jpg
END:VEVENT
END:VCALENDAR