BEGIN:VCALENDAR
VERSION:2.0
PRODID:-//ACTUALIZANDOME - ECPv6.15.16//NONSGML v1.0//EN
CALSCALE:GREGORIAN
METHOD:PUBLISH
X-ORIGINAL-URL:https://calendario.actualizandome.com
X-WR-CALDESC:Eventos para ACTUALIZANDOME
REFRESH-INTERVAL;VALUE=DURATION:PT1H
X-Robots-Tag:noindex
X-PUBLISHED-TTL:PT1H
BEGIN:VTIMEZONE
TZID:America/Mexico_City
BEGIN:DAYLIGHT
TZOFFSETFROM:-0600
TZOFFSETTO:-0500
TZNAME:CDT
DTSTART:20220403T080000
END:DAYLIGHT
BEGIN:STANDARD
TZOFFSETFROM:-0500
TZOFFSETTO:-0600
TZNAME:CST
DTSTART:20221030T070000
END:STANDARD
END:VTIMEZONE
BEGIN:VEVENT
DTSTART;TZID=America/Mexico_City:20240105T130000
DTEND;TZID=America/Mexico_City:20240105T140000
DTSTAMP:20260420T030800
CREATED:20240104T224005Z
LAST-MODIFIED:20240104T224005Z
UID:10005876-1704459600-1704463200@calendario.actualizandome.com
SUMMARY:Los Derechos Humanos en Serio - #BarraActualizandome
DESCRIPTION:
URL:https://calendario.actualizandome.com/event/los-derechos-humanos-en-serio-barraactualizandome-10/
CATEGORIES:Aula Virtual
ATTACH;FMTTYPE=image/jpeg:https://calendario.actualizandome.com/wp-content/uploads/2024/01/derechos.jpg
END:VEVENT
BEGIN:VEVENT
DTSTART;TZID=America/Mexico_City:20240105T120000
DTEND;TZID=America/Mexico_City:20240105T130000
DTSTAMP:20260420T030800
CREATED:20240104T222832Z
LAST-MODIFIED:20240104T222832Z
UID:10005875-1704456000-1704459600@calendario.actualizandome.com
SUMMARY:Contabilidad y Algo Más - #BarraActualizandome
DESCRIPTION:
URL:https://calendario.actualizandome.com/event/contabilidad-y-algo-mas-barraactualizandome-8/
CATEGORIES:Aula Virtual
ATTACH;FMTTYPE=image/jpeg:https://calendario.actualizandome.com/wp-content/uploads/2024/01/contab.jpg
END:VEVENT
BEGIN:VEVENT
DTSTART;TZID=America/Mexico_City:20240105T110000
DTEND;TZID=America/Mexico_City:20240105T120000
DTSTAMP:20260420T030800
CREATED:20240104T222626Z
LAST-MODIFIED:20240104T222626Z
UID:10005874-1704452400-1704456000@calendario.actualizandome.com
SUMMARY:Metamorfosis - Comenzando 2024 - #BarraActualizandome
DESCRIPTION:
URL:https://calendario.actualizandome.com/event/metamorfosis-comenzando-2024-barraactualizandome/
CATEGORIES:Aula Virtual
ATTACH;FMTTYPE=image/jpeg:https://calendario.actualizandome.com/wp-content/uploads/2024/01/meta.jpg
END:VEVENT
BEGIN:VEVENT
DTSTART;TZID=America/Mexico_City:20240105T100000
DTEND;TZID=America/Mexico_City:20240105T110000
DTSTAMP:20260420T030800
CREATED:20240104T155507Z
LAST-MODIFIED:20240104T155507Z
UID:10005484-1704448800-1704452400@calendario.actualizandome.com
SUMMARY:Sembrando el Conocimiento - ¿Los Costos son una Opción o una Obligación? - #BarraActualizandome
DESCRIPTION:
URL:https://calendario.actualizandome.com/event/sembrando-el-conocimiento-los-costos-son-una-opcion-o-una-obligacion-barraactualizandome/
CATEGORIES:Aula Virtual
ATTACH;FMTTYPE=image/jpeg:https://calendario.actualizandome.com/wp-content/uploads/2024/01/sembrando.jpg
END:VEVENT
BEGIN:VEVENT
DTSTART;VALUE=DATE:20240105
DTEND;VALUE=DATE:20240106
DTSTAMP:20260420T030800
CREATED:20231219T233459Z
LAST-MODIFIED:20240104T153319Z
UID:10005448-1704412800-1704499199@calendario.actualizandome.com
SUMMARY:Programación de la Barra Actualizandome
DESCRIPTION:
URL:https://calendario.actualizandome.com/event/programacion-de-la-barra-actualizandome-96/
CATEGORIES:Aula Virtual
ATTACH;FMTTYPE=image/jpeg:https://calendario.actualizandome.com/wp-content/uploads/2023/12/viernes-2-scaled.jpg
END:VEVENT
BEGIN:VEVENT
DTSTART;TZID=America/Mexico_City:20240104T173000
DTEND;TZID=America/Mexico_City:20240104T183000
DTSTAMP:20260420T030800
CREATED:20240103T233310Z
LAST-MODIFIED:20240104T191843Z
UID:10005473-1704389400-1704393000@calendario.actualizandome.com
SUMMARY:Presentación de la Revista Digital Actualizandome No. 144 - #BarraActualizandome
DESCRIPTION:
URL:https://calendario.actualizandome.com/event/consultoria-fiscal-empresarial-barraactualizandome-8/
CATEGORIES:Aula Virtual
ATTACH;FMTTYPE=image/jpeg:https://calendario.actualizandome.com/wp-content/uploads/2024/01/REVISTA144.jpg
END:VEVENT
BEGIN:VEVENT
DTSTART;TZID=America/Mexico_City:20240104T130000
DTEND;TZID=America/Mexico_City:20240104T140000
DTSTAMP:20260420T030800
CREATED:20240103T233202Z
LAST-MODIFIED:20240104T190653Z
UID:10005472-1704373200-1704376800@calendario.actualizandome.com
SUMMARY:Participando en Grupo - #BarraActualizandome
DESCRIPTION:
URL:https://calendario.actualizandome.com/event/participando-en-grupo-barraactualizandome-5/
CATEGORIES:Aula Virtual
ATTACH;FMTTYPE=image/jpeg:https://calendario.actualizandome.com/wp-content/uploads/2024/01/grupo.jpg
END:VEVENT
BEGIN:VEVENT
DTSTART;TZID=America/Mexico_City:20240104T120000
DTEND;TZID=America/Mexico_City:20240104T130000
DTSTAMP:20260420T030800
CREATED:20240103T233053Z
LAST-MODIFIED:20240103T233053Z
UID:10005471-1704369600-1704373200@calendario.actualizandome.com
SUMMARY:Diálogos Fiscales - #BarraActualizandome
DESCRIPTION:
URL:https://calendario.actualizandome.com/event/dialogos-fiscales-barraactualizandome-5/
CATEGORIES:Aula Virtual
ATTACH;FMTTYPE=image/jpeg:https://calendario.actualizandome.com/wp-content/uploads/2024/01/dialogos.jpg
END:VEVENT
BEGIN:VEVENT
DTSTART;TZID=America/Mexico_City:20240104T110000
DTEND;TZID=America/Mexico_City:20240104T120000
DTSTAMP:20260420T030800
CREATED:20240103T232938Z
LAST-MODIFIED:20240103T232938Z
UID:10005470-1704366000-1704369600@calendario.actualizandome.com
SUMMARY:JB El Fiscal - #BarraActualizandome
DESCRIPTION:
URL:https://calendario.actualizandome.com/event/jb-el-fiscal-barraactualizandome-6/
CATEGORIES:Aula Virtual
ATTACH;FMTTYPE=image/jpeg:https://calendario.actualizandome.com/wp-content/uploads/2024/01/jb.jpg
END:VEVENT
BEGIN:VEVENT
DTSTART;TZID=America/Mexico_City:20240104T100000
DTEND;TZID=America/Mexico_City:20240104T110000
DTSTAMP:20260420T030800
CREATED:20240103T232820Z
LAST-MODIFIED:20240103T232820Z
UID:10005469-1704362400-1704366000@calendario.actualizandome.com
SUMMARY:En Sintonía Fiscal - #BarraActualizandome
DESCRIPTION:
URL:https://calendario.actualizandome.com/event/en-sintonia-fiscal-barraactualizandome-7/
CATEGORIES:Aula Virtual
ATTACH;FMTTYPE=image/jpeg:https://calendario.actualizandome.com/wp-content/uploads/2024/01/sintonia.jpg
END:VEVENT
BEGIN:VEVENT
DTSTART;VALUE=DATE:20240104
DTEND;VALUE=DATE:20240105
DTSTAMP:20260420T030800
CREATED:20231219T233253Z
LAST-MODIFIED:20240104T153020Z
UID:10005447-1704326400-1704412799@calendario.actualizandome.com
SUMMARY:Programación de la Barra Actualizandome
DESCRIPTION:
URL:https://calendario.actualizandome.com/event/programacion-de-la-barra-actualizandome-95/
CATEGORIES:Aula Virtual
ATTACH;FMTTYPE=image/jpeg:https://calendario.actualizandome.com/wp-content/uploads/2023/12/jueves-5-scaled.jpg
END:VEVENT
BEGIN:VEVENT
DTSTART;TZID=America/Mexico_City:20240103T210000
DTEND;TZID=America/Mexico_City:20240103T210000
DTSTAMP:20260420T030800
CREATED:20231109T233529Z
LAST-MODIFIED:20260129T002251Z
UID:10001345-1704315600-1704315600@calendario.actualizandome.com
SUMMARY:Club de estudio sobre Reglas Misceláneas 2026
DESCRIPTION:
URL:https://calendario.actualizandome.com/event/club-de-estudio-sobre-reglas-miscelaneas-2026/2024-01-03/
CATEGORIES:academia,Cursos
ATTACH;FMTTYPE=image/png:https://calendario.actualizandome.com/wp-content/uploads/2023/11/Club-de-estudio-sobre-Reglas-Miscelaneas-2024-26-1400x788-1.png
END:VEVENT
BEGIN:VEVENT
DTSTART;TZID=America/Mexico_City:20240103T180000
DTEND;TZID=America/Mexico_City:20240103T190000
DTSTAMP:20260420T030800
CREATED:20231220T190944Z
LAST-MODIFIED:20231220T190944Z
UID:10005465-1704304800-1704308400@calendario.actualizandome.com
SUMMARY:Mitos y Realidades Tributarias - #BarraActualizandome
DESCRIPTION:
URL:https://calendario.actualizandome.com/event/mitos-y-realidades-tributarias-barraactualizandome-9/
CATEGORIES:Aula Virtual
ATTACH;FMTTYPE=image/jpeg:https://calendario.actualizandome.com/wp-content/uploads/2023/12/mitos.jpg
END:VEVENT
BEGIN:VEVENT
DTSTART;TZID=America/Mexico_City:20240103T170000
DTEND;TZID=America/Mexico_City:20240103T180000
DTSTAMP:20260420T030800
CREATED:20231220T190704Z
LAST-MODIFIED:20231220T190704Z
UID:10005464-1704301200-1704304800@calendario.actualizandome.com
SUMMARY:Defensa Fiscal a la Medida - #BarraActualizandome
DESCRIPTION:
URL:https://calendario.actualizandome.com/event/defensa-fiscal-a-la-medida-barraactualizandome-3/
CATEGORIES:Aula Virtual
ATTACH;FMTTYPE=image/jpeg:https://calendario.actualizandome.com/wp-content/uploads/2023/12/defensa-1.jpg
END:VEVENT
BEGIN:VEVENT
DTSTART;TZID=America/Mexico_City:20240103T140000
DTEND;TZID=America/Mexico_City:20240103T150000
DTSTAMP:20260420T030800
CREATED:20231220T190542Z
LAST-MODIFIED:20231220T190542Z
UID:10005463-1704290400-1704294000@calendario.actualizandome.com
SUMMARY:La Hora AMCPMX - #BarraActualizandome
DESCRIPTION:
URL:https://calendario.actualizandome.com/event/la-hora-amcpmx-barraactualizandome-2/
CATEGORIES:Aula Virtual
ATTACH;FMTTYPE=image/jpeg:https://calendario.actualizandome.com/wp-content/uploads/2023/12/amcp-1.jpg
END:VEVENT
BEGIN:VEVENT
DTSTART;TZID=America/Mexico_City:20240103T130000
DTEND;TZID=America/Mexico_City:20240103T140000
DTSTAMP:20260420T030800
CREATED:20231220T190430Z
LAST-MODIFIED:20240103T164444Z
UID:10005462-1704286800-1704290400@calendario.actualizandome.com
SUMMARY:Sinergia Laboral InfonavImss - Inicio de Nóminas 2024 - #BarraActualizandome
DESCRIPTION:
URL:https://calendario.actualizandome.com/event/mezcal-contable-barraactualizandome-2/
CATEGORIES:Aula Virtual
ATTACH;FMTTYPE=image/jpeg:https://calendario.actualizandome.com/wp-content/uploads/2023/12/sinergia.jpg
END:VEVENT
BEGIN:VEVENT
DTSTART;TZID=America/Mexico_City:20240103T120000
DTEND;TZID=America/Mexico_City:20240103T130000
DTSTAMP:20260420T030800
CREATED:20231220T190313Z
LAST-MODIFIED:20231220T190313Z
UID:10005461-1704283200-1704286800@calendario.actualizandome.com
SUMMARY:Quadrando la Info - #BarraActualizandome
DESCRIPTION:
URL:https://calendario.actualizandome.com/event/quadrando-la-info-barraactualizandome-7/
CATEGORIES:Aula Virtual
ATTACH;FMTTYPE=image/jpeg:https://calendario.actualizandome.com/wp-content/uploads/2023/12/quadra-2.jpg
END:VEVENT
BEGIN:VEVENT
DTSTART;TZID=America/Mexico_City:20240103T110000
DTEND;TZID=America/Mexico_City:20240103T120000
DTSTAMP:20260420T030800
CREATED:20231220T190204Z
LAST-MODIFIED:20231220T190204Z
UID:10005460-1704279600-1704283200@calendario.actualizandome.com
SUMMARY:Foro Fiscal - #BarraActualizandome
DESCRIPTION:
URL:https://calendario.actualizandome.com/event/foro-fiscal-barraactualizandome-7/
CATEGORIES:Aula Virtual
ATTACH;FMTTYPE=image/jpeg:https://calendario.actualizandome.com/wp-content/uploads/2023/12/foro-2.jpg
END:VEVENT
BEGIN:VEVENT
DTSTART;TZID=America/Mexico_City:20240103T100000
DTEND;TZID=America/Mexico_City:20240103T110000
DTSTAMP:20260420T030800
CREATED:20231220T190054Z
LAST-MODIFIED:20240103T160408Z
UID:10005459-1704276000-1704279600@calendario.actualizandome.com
SUMMARY:Inttegra Sistemas - Configuración Ideal de NOI\, Para Inicio de Ejercicio - #BarraActualizandome
DESCRIPTION:
URL:https://calendario.actualizandome.com/event/inttegra-sistemas-barraactualizandome-3/
CATEGORIES:Aula Virtual
ATTACH;FMTTYPE=image/jpeg:https://calendario.actualizandome.com/wp-content/uploads/2023/12/inttegra-2.jpg
END:VEVENT
BEGIN:VEVENT
DTSTART;VALUE=DATE:20240103
DTEND;VALUE=DATE:20240104
DTSTAMP:20260420T030800
CREATED:20231219T233152Z
LAST-MODIFIED:20231219T233152Z
UID:10005446-1704240000-1704326399@calendario.actualizandome.com
SUMMARY:Programación de la Barra Actualizandome
DESCRIPTION:
URL:https://calendario.actualizandome.com/event/programacion-de-la-barra-actualizandome-94/
CATEGORIES:Aula Virtual
ATTACH;FMTTYPE=image/jpeg:https://calendario.actualizandome.com/wp-content/uploads/2023/12/miercoles-1-scaled.jpg
END:VEVENT
BEGIN:VEVENT
DTSTART;VALUE=DATE:20240102
DTEND;VALUE=DATE:20240103
DTSTAMP:20260420T030800
CREATED:20231219T234932Z
LAST-MODIFIED:20231219T234932Z
UID:10005458-1704153600-1704239999@calendario.actualizandome.com
SUMMARY:FELIZ NAVIDAD Y PRÓSPERO AÑO NUEVO 2024
DESCRIPTION:
URL:https://calendario.actualizandome.com/event/feliz-navidad-y-prospero-ano-nuevo-2024-10/
CATEGORIES:Aula Virtual
ATTACH;FMTTYPE=image/png:https://calendario.actualizandome.com/wp-content/uploads/2023/12/feliz-navidad.png
END:VEVENT
BEGIN:VEVENT
DTSTART;TZID=America/Mexico_City:20240101T210000
DTEND;TZID=America/Mexico_City:20240101T213000
DTSTAMP:20260420T030800
CREATED:20231109T233129Z
LAST-MODIFIED:20231202T174721Z
UID:10000823-1704142800-1704144600@calendario.actualizandome.com
SUMMARY:Club de estudio sobre Costos
DESCRIPTION:
URL:https://calendario.actualizandome.com/event/club-de-estudio-sobre-costos/2024-01-01/
CATEGORIES:academia,Cursos
ATTACH;FMTTYPE=image/png:https://calendario.actualizandome.com/wp-content/uploads/2023/11/costo-diciembre.png
END:VEVENT
BEGIN:VEVENT
DTSTART;VALUE=DATE:20240101
DTEND;VALUE=DATE:20240102
DTSTAMP:20260420T030800
CREATED:20231219T234847Z
LAST-MODIFIED:20231219T234847Z
UID:10005457-1704067200-1704153599@calendario.actualizandome.com
SUMMARY:FELIZ NAVIDAD Y PRÓSPERO AÑO NUEVO 2024
DESCRIPTION:
URL:https://calendario.actualizandome.com/event/feliz-navidad-y-prospero-ano-nuevo-2024-9/
CATEGORIES:Aula Virtual
ATTACH;FMTTYPE=image/png:https://calendario.actualizandome.com/wp-content/uploads/2023/12/feliz-navidad.png
END:VEVENT
BEGIN:VEVENT
DTSTART;VALUE=DATE:20231229
DTEND;VALUE=DATE:20231230
DTSTAMP:20260420T030800
CREATED:20231219T234728Z
LAST-MODIFIED:20231219T234728Z
UID:10005456-1703808000-1703894399@calendario.actualizandome.com
SUMMARY:FELIZ NAVIDAD Y PRÓSPERO AÑO NUEVO 2024
DESCRIPTION:
URL:https://calendario.actualizandome.com/event/feliz-navidad-y-prospero-ano-nuevo-2024-8/
CATEGORIES:Aula Virtual
ATTACH;FMTTYPE=image/png:https://calendario.actualizandome.com/wp-content/uploads/2023/12/feliz-navidad.png
END:VEVENT
BEGIN:VEVENT
DTSTART;VALUE=DATE:20231228
DTEND;VALUE=DATE:20231229
DTSTAMP:20260420T030800
CREATED:20231219T234639Z
LAST-MODIFIED:20231219T234639Z
UID:10005455-1703721600-1703807999@calendario.actualizandome.com
SUMMARY:FELIZ NAVIDAD Y PRÓSPERO AÑO NUEVO 2024
DESCRIPTION:
URL:https://calendario.actualizandome.com/event/feliz-navidad-y-prospero-ano-nuevo-2024-7/
CATEGORIES:Aula Virtual
ATTACH;FMTTYPE=image/png:https://calendario.actualizandome.com/wp-content/uploads/2023/12/feliz-navidad.png
END:VEVENT
BEGIN:VEVENT
DTSTART;TZID=America/Mexico_City:20231227T210000
DTEND;TZID=America/Mexico_City:20231227T210000
DTSTAMP:20260420T030800
CREATED:20231109T233529Z
LAST-MODIFIED:20260129T002251Z
UID:10001344-1703710800-1703710800@calendario.actualizandome.com
SUMMARY:Club de estudio sobre Reglas Misceláneas 2026
DESCRIPTION:
URL:https://calendario.actualizandome.com/event/club-de-estudio-sobre-reglas-miscelaneas-2026/2023-12-27/
CATEGORIES:academia,Cursos
ATTACH;FMTTYPE=image/png:https://calendario.actualizandome.com/wp-content/uploads/2023/11/Club-de-estudio-sobre-Reglas-Miscelaneas-2024-26-1400x788-1.png
END:VEVENT
BEGIN:VEVENT
DTSTART;VALUE=DATE:20231227
DTEND;VALUE=DATE:20231228
DTSTAMP:20260420T030800
CREATED:20231219T234558Z
LAST-MODIFIED:20231219T234558Z
UID:10005454-1703635200-1703721599@calendario.actualizandome.com
SUMMARY:FELIZ NAVIDAD Y PRÓSPERO AÑO NUEVO 2024
DESCRIPTION:
URL:https://calendario.actualizandome.com/event/feliz-navidad-y-prospero-ano-nuevo-2024-6/
CATEGORIES:Aula Virtual
ATTACH;FMTTYPE=image/png:https://calendario.actualizandome.com/wp-content/uploads/2023/12/feliz-navidad.png
END:VEVENT
BEGIN:VEVENT
DTSTART;VALUE=DATE:20231226
DTEND;VALUE=DATE:20231227
DTSTAMP:20260420T030800
CREATED:20231219T234146Z
LAST-MODIFIED:20231219T234450Z
UID:10005453-1703548800-1703635199@calendario.actualizandome.com
SUMMARY:FELIZ NAVIDAD Y PRÓSPERO AÑO NUEVO 2024
DESCRIPTION:
URL:https://calendario.actualizandome.com/event/feliz-navidad-y-prospero-ano-nuevo-2024-5/
CATEGORIES:Aula Virtual
ATTACH;FMTTYPE=image/png:https://calendario.actualizandome.com/wp-content/uploads/2023/12/feliz-navidad.png
END:VEVENT
BEGIN:VEVENT
DTSTART;TZID=America/Mexico_City:20231225T210000
DTEND;TZID=America/Mexico_City:20231225T213000
DTSTAMP:20260420T030800
CREATED:20231109T233129Z
LAST-MODIFIED:20231202T174721Z
UID:10000822-1703538000-1703539800@calendario.actualizandome.com
SUMMARY:Club de estudio sobre Costos
DESCRIPTION:
URL:https://calendario.actualizandome.com/event/club-de-estudio-sobre-costos/2023-12-25/
CATEGORIES:academia,Cursos
ATTACH;FMTTYPE=image/png:https://calendario.actualizandome.com/wp-content/uploads/2023/11/costo-diciembre.png
END:VEVENT
BEGIN:VEVENT
DTSTART;VALUE=DATE:20231225
DTEND;VALUE=DATE:20231226
DTSTAMP:20260420T030800
CREATED:20231219T234105Z
LAST-MODIFIED:20231219T234105Z
UID:10005452-1703462400-1703548799@calendario.actualizandome.com
SUMMARY:FELIZ NAVIDAD Y PRÓSPERO AÑO NUEVO 2024
DESCRIPTION:
URL:https://calendario.actualizandome.com/event/feliz-navidad-y-prospero-ano-nuevo-2024-4/
CATEGORIES:Aula Virtual
ATTACH;FMTTYPE=image/png:https://calendario.actualizandome.com/wp-content/uploads/2023/12/feliz-navidad.png
END:VEVENT
END:VCALENDAR