BEGIN:VCALENDAR
VERSION:2.0
PRODID:-//ACTUALIZANDOME - ECPv6.15.16//NONSGML v1.0//EN
CALSCALE:GREGORIAN
METHOD:PUBLISH
X-ORIGINAL-URL:https://calendario.actualizandome.com
X-WR-CALDESC:Eventos para ACTUALIZANDOME
REFRESH-INTERVAL;VALUE=DURATION:PT1H
X-Robots-Tag:noindex
X-PUBLISHED-TTL:PT1H
BEGIN:VTIMEZONE
TZID:America/Mexico_City
BEGIN:STANDARD
TZOFFSETFROM:-0600
TZOFFSETTO:-0600
TZNAME:CST
DTSTART:20230101T000000
END:STANDARD
END:VTIMEZONE
BEGIN:VEVENT
DTSTART;TZID=America/Mexico_City:20240110T100000
DTEND;TZID=America/Mexico_City:20240110T110000
DTSTAMP:20260419T233723
CREATED:20240109T215128Z
LAST-MODIFIED:20240109T215128Z
UID:10005907-1704880800-1704884400@calendario.actualizandome.com
SUMMARY:Tópicos Empresariales - La Visión del Contador del Futuro - #BarraActualizandome
DESCRIPTION:
URL:https://calendario.actualizandome.com/event/topicos-empresariales-la-vision-del-contador-del-futuro-barraactualizandome/
CATEGORIES:Aula Virtual
ATTACH;FMTTYPE=image/jpeg:https://calendario.actualizandome.com/wp-content/uploads/2024/01/topicos-1.jpg
END:VEVENT
BEGIN:VEVENT
DTSTART;VALUE=DATE:20240110
DTEND;VALUE=DATE:20240111
DTSTAMP:20260419T233723
CREATED:20240105T184143Z
LAST-MODIFIED:20240109T222310Z
UID:10005882-1704844800-1704931199@calendario.actualizandome.com
SUMMARY:Programación de la Barra Actualizandome
DESCRIPTION:
URL:https://calendario.actualizandome.com/event/programacion-de-la-barra-actualizandome-99/
CATEGORIES:Aula Virtual
ATTACH;FMTTYPE=image/jpeg:https://calendario.actualizandome.com/wp-content/uploads/2024/01/miercoles-3-scaled.jpg
END:VEVENT
BEGIN:VEVENT
DTSTART;TZID=America/Mexico_City:20240109T190000
DTEND;TZID=America/Mexico_City:20240109T200000
DTSTAMP:20260419T233723
CREATED:20240109T010157Z
LAST-MODIFIED:20240109T011021Z
UID:10005906-1704826800-1704830400@calendario.actualizandome.com
SUMMARY:Sesión Interactiva de la Revista Digital Actualizandome Edición 143 - 1ra Parte
DESCRIPTION:
URL:https://calendario.actualizandome.com/event/sesion-interactiva-de-la-revista-digital-actualizandome-edicion-143-1ra-parte/
CATEGORIES:Aula Virtual
ATTACH;FMTTYPE=image/jpeg:https://calendario.actualizandome.com/wp-content/uploads/2024/01/int-143-1-scaled.jpg
END:VEVENT
BEGIN:VEVENT
DTSTART;TZID=America/Mexico_City:20240109T180000
DTEND;TZID=America/Mexico_City:20240109T190000
DTSTAMP:20260419T233723
CREATED:20240108T223915Z
LAST-MODIFIED:20240108T223915Z
UID:10005902-1704823200-1704826800@calendario.actualizandome.com
SUMMARY:CONADFIS - Llenado Anual 2024 - #BarraActualizandome
DESCRIPTION:
URL:https://calendario.actualizandome.com/event/conadfis-llenado-anual-2024-barraactualizandome/
CATEGORIES:Aula Virtual
ATTACH;FMTTYPE=image/jpeg:https://calendario.actualizandome.com/wp-content/uploads/2024/01/conadfis.jpg
END:VEVENT
BEGIN:VEVENT
DTSTART;TZID=America/Mexico_City:20240109T170000
DTEND;TZID=America/Mexico_City:20240109T180000
DTSTAMP:20260419T233723
CREATED:20240108T223759Z
LAST-MODIFIED:20240109T223323Z
UID:10005901-1704819600-1704823200@calendario.actualizandome.com
SUMMARY:Fiscal por la Tarde - Nuevos Criterios Judiciales en Materia de Subcontratación Laboral - #BarraActualizandome
DESCRIPTION:
URL:https://calendario.actualizandome.com/event/fiscal-por-la-tarde-barraactualizandome-7/
CATEGORIES:Aula Virtual
ATTACH;FMTTYPE=image/jpeg:https://calendario.actualizandome.com/wp-content/uploads/2024/01/fiscal-1.jpg
END:VEVENT
BEGIN:VEVENT
DTSTART;TZID=America/Mexico_City:20240109T140000
DTEND;TZID=America/Mexico_City:20240109T150000
DTSTAMP:20260419T233723
CREATED:20240108T223528Z
LAST-MODIFIED:20240108T223528Z
UID:10005899-1704808800-1704812400@calendario.actualizandome.com
SUMMARY:El Poder de los Seguros - #BarraActualizandome
DESCRIPTION:
URL:https://calendario.actualizandome.com/event/el-poder-de-los-seguros-barraactualizandome-7/
CATEGORIES:Aula Virtual
ATTACH;FMTTYPE=image/jpeg:https://calendario.actualizandome.com/wp-content/uploads/2024/01/seguros.jpg
END:VEVENT
BEGIN:VEVENT
DTSTART;TZID=America/Mexico_City:20240109T130000
DTEND;TZID=America/Mexico_City:20240109T140000
DTSTAMP:20260419T233723
CREATED:20240108T191536Z
LAST-MODIFIED:20240108T191536Z
UID:10005895-1704805200-1704808800@calendario.actualizandome.com
SUMMARY:Sesión Especial Ante el 6to. Aniversario de la Revista Actualizandome.com - #BarraActualizandome
DESCRIPTION:
URL:https://calendario.actualizandome.com/event/sesion-especial-ante-el-6to-aniversario-de-la-revista-actualizandome-com-barraactualizandome/
CATEGORIES:Aula Virtual
ATTACH;FMTTYPE=image/jpeg:https://calendario.actualizandome.com/wp-content/uploads/2024/01/sesion-especial.jpg
END:VEVENT
BEGIN:VEVENT
DTSTART;TZID=America/Mexico_City:20240109T120000
DTEND;TZID=America/Mexico_City:20240109T130000
DTSTAMP:20260419T233723
CREATED:20240108T223243Z
LAST-MODIFIED:20240108T223243Z
UID:10005898-1704801600-1704805200@calendario.actualizandome.com
SUMMARY:Tópicos Fiscales - Revisiones Electrónicas - #BarraActualizandome
DESCRIPTION:
URL:https://calendario.actualizandome.com/event/topicos-fiscales-revisiones-electronicas-barraactualizandome/
CATEGORIES:Aula Virtual
ATTACH;FMTTYPE=image/jpeg:https://calendario.actualizandome.com/wp-content/uploads/2024/01/topicos.jpg
END:VEVENT
BEGIN:VEVENT
DTSTART;TZID=America/Mexico_City:20240109T110000
DTEND;TZID=America/Mexico_City:20240109T120000
DTSTAMP:20260419T233723
CREATED:20240108T222958Z
LAST-MODIFIED:20240108T222958Z
UID:10005897-1704798000-1704801600@calendario.actualizandome.com
SUMMARY:La Hora de la Prodecon - #BarraActualizandome
DESCRIPTION:
URL:https://calendario.actualizandome.com/event/la-hora-de-la-prodecon-barraactualizandome/
CATEGORIES:Aula Virtual
ATTACH;FMTTYPE=image/jpeg:https://calendario.actualizandome.com/wp-content/uploads/2024/01/prodecon.jpg
END:VEVENT
BEGIN:VEVENT
DTSTART;TZID=America/Mexico_City:20240109T110000
DTEND;TZID=America/Mexico_City:20240109T120000
DTSTAMP:20260419T233723
CREATED:20240104T160410Z
LAST-MODIFIED:20240104T161154Z
UID:10001086-1704798000-1704801600@calendario.actualizandome.com
SUMMARY:CLUB DE ESTUDIO SECTOR PRIMARIO ACTUALIZACIÓN 2024
DESCRIPTION:
URL:https://calendario.actualizandome.com/event/club-de-estudio-sector-primario-actualizacion-2024-2/2024-01-09/
CATEGORIES:academia,Cursos
ATTACH;FMTTYPE=image/png:https://calendario.actualizandome.com/wp-content/uploads/2023/11/sector-primario-dic.png
END:VEVENT
BEGIN:VEVENT
DTSTART;TZID=America/Mexico_City:20240109T100000
DTEND;TZID=America/Mexico_City:20240109T110000
DTSTAMP:20260419T233723
CREATED:20240108T222713Z
LAST-MODIFIED:20240109T001655Z
UID:10005896-1704794400-1704798000@calendario.actualizandome.com
SUMMARY:Leones Tributarios - Recaudación 2024 - #BarraActualizandome
DESCRIPTION:
URL:https://calendario.actualizandome.com/event/leones-tributarios-reacaudacion-2024-barraactualizandome/
CATEGORIES:Aula Virtual
ATTACH;FMTTYPE=image/jpeg:https://calendario.actualizandome.com/wp-content/uploads/2024/01/leones.jpg
END:VEVENT
BEGIN:VEVENT
DTSTART;VALUE=DATE:20240109
DTEND;VALUE=DATE:20240110
DTSTAMP:20260419T233723
CREATED:20240105T183959Z
LAST-MODIFIED:20240108T230822Z
UID:10005881-1704758400-1704844799@calendario.actualizandome.com
SUMMARY:Programación de la Barra Actualizandome
DESCRIPTION:
URL:https://calendario.actualizandome.com/event/programacion-de-la-barra-actualizandome-98/
CATEGORIES:Aula Virtual
ATTACH;FMTTYPE=image/jpeg:https://calendario.actualizandome.com/wp-content/uploads/2024/01/martes-2-scaled.jpg
END:VEVENT
BEGIN:VEVENT
DTSTART;TZID=America/Mexico_City:20240108T180000
DTEND;TZID=America/Mexico_City:20240108T190000
DTSTAMP:20260419T233723
CREATED:20240105T205757Z
LAST-MODIFIED:20240105T205757Z
UID:10005891-1704736800-1704740400@calendario.actualizandome.com
SUMMARY:Hora de la Asociación Sonorense de Contadores Públicos - #BarraActualizandome
DESCRIPTION:
URL:https://calendario.actualizandome.com/event/hora-de-la-asociacion-sonorense-de-contadores-publicos-barraactualizandome-5/
CATEGORIES:Aula Virtual
ATTACH;FMTTYPE=image/jpeg:https://calendario.actualizandome.com/wp-content/uploads/2024/01/ASCP.jpg
END:VEVENT
BEGIN:VEVENT
DTSTART;TZID=America/Mexico_City:20240108T170000
DTEND;TZID=America/Mexico_City:20240108T180000
DTSTAMP:20260419T233723
CREATED:20240105T205632Z
LAST-MODIFIED:20240105T205632Z
UID:10005890-1704733200-1704736800@calendario.actualizandome.com
SUMMARY:Conoce las Finanzas - #BarraActualizandome
DESCRIPTION:
URL:https://calendario.actualizandome.com/event/conoce-las-finanzas-barraactualizandome-6/
CATEGORIES:Aula Virtual
ATTACH;FMTTYPE=image/jpeg:https://calendario.actualizandome.com/wp-content/uploads/2024/01/finanzas.jpg
END:VEVENT
BEGIN:VEVENT
DTSTART;TZID=America/Mexico_City:20240108T140000
DTEND;TZID=America/Mexico_City:20240108T150000
DTSTAMP:20260419T233723
CREATED:20240105T205144Z
LAST-MODIFIED:20240105T205452Z
UID:10005889-1704722400-1704726000@calendario.actualizandome.com
SUMMARY:De Obligaciones y de Derechos - #BarraActualizandome
DESCRIPTION:
URL:https://calendario.actualizandome.com/event/de-obligaciones-y-de-derechos-barraactualizandome/
CATEGORIES:Aula Virtual
ATTACH;FMTTYPE=image/jpeg:https://calendario.actualizandome.com/wp-content/uploads/2024/01/oblig.jpg
END:VEVENT
BEGIN:VEVENT
DTSTART;TZID=America/Mexico_City:20240108T130000
DTEND;TZID=America/Mexico_City:20240108T140000
DTSTAMP:20260419T233723
CREATED:20240105T205022Z
LAST-MODIFIED:20240108T190105Z
UID:10005888-1704718800-1704722400@calendario.actualizandome.com
SUMMARY:La Hora CNCP - Repasando lo Último del 2023 - #BarraActualizandome
DESCRIPTION:
URL:https://calendario.actualizandome.com/event/la-hora-cncp-barraactualizandome-9/
CATEGORIES:Aula Virtual
ATTACH;FMTTYPE=image/jpeg:https://calendario.actualizandome.com/wp-content/uploads/2024/01/cncp-1.jpg
END:VEVENT
BEGIN:VEVENT
DTSTART;TZID=America/Mexico_City:20240108T120000
DTEND;TZID=America/Mexico_City:20240108T130000
DTSTAMP:20260419T233723
CREATED:20240105T204908Z
LAST-MODIFIED:20240105T204908Z
UID:10005887-1704715200-1704718800@calendario.actualizandome.com
SUMMARY:Panorama Empresarial - #BarraActualizandome
DESCRIPTION:
URL:https://calendario.actualizandome.com/event/panorama-empresarial-barraactualizandome-10/
CATEGORIES:Aula Virtual
ATTACH;FMTTYPE=image/jpeg:https://calendario.actualizandome.com/wp-content/uploads/2024/01/panorama.jpg
END:VEVENT
BEGIN:VEVENT
DTSTART;TZID=America/Mexico_City:20240108T110000
DTEND;TZID=America/Mexico_City:20240108T120000
DTSTAMP:20260419T233723
CREATED:20240105T204747Z
LAST-MODIFIED:20240105T204747Z
UID:10005886-1704711600-1704715200@calendario.actualizandome.com
SUMMARY:Expresión Fiscal - #BarraActualizandome
DESCRIPTION:
URL:https://calendario.actualizandome.com/event/expresion-fiscal-barraactualizandome-7/
CATEGORIES:Aula Virtual
ATTACH;FMTTYPE=image/jpeg:https://calendario.actualizandome.com/wp-content/uploads/2024/01/expresion-1.jpg
END:VEVENT
BEGIN:VEVENT
DTSTART;TZID=America/Mexico_City:20240108T100000
DTEND;TZID=America/Mexico_City:20240108T110000
DTSTAMP:20260419T233723
CREATED:20240105T204213Z
LAST-MODIFIED:20240105T204213Z
UID:10005885-1704708000-1704711600@calendario.actualizandome.com
SUMMARY:Conociendo Actualizandome - #BarraActualizandome
DESCRIPTION:
URL:https://calendario.actualizandome.com/event/conociendo-actualizandome-barraactualizandome-9/
CATEGORIES:Aula Virtual
ATTACH;FMTTYPE=image/jpeg:https://calendario.actualizandome.com/wp-content/uploads/2024/01/actual.jpg
END:VEVENT
BEGIN:VEVENT
DTSTART;VALUE=DATE:20240108
DTEND;VALUE=DATE:20240109
DTSTAMP:20260419T233723
CREATED:20240105T183859Z
LAST-MODIFIED:20240105T183859Z
UID:10005880-1704672000-1704758399@calendario.actualizandome.com
SUMMARY:Programación de la Barra Actualizandome
DESCRIPTION:
URL:https://calendario.actualizandome.com/event/programacion-de-la-barra-actualizandome-97/
CATEGORIES:Aula Virtual
ATTACH;FMTTYPE=image/jpeg:https://calendario.actualizandome.com/wp-content/uploads/2024/01/lunes-scaled.jpg
END:VEVENT
BEGIN:VEVENT
DTSTART;TZID=America/Mexico_City:20240106T103000
DTEND;TZID=America/Mexico_City:20240106T143000
DTSTAMP:20260419T233723
CREATED:20240102T200007Z
LAST-MODIFIED:20240102T205028Z
UID:10005468-1704537000-1704551400@calendario.actualizandome.com
SUMMARY:Aspectos Relevantes de la Resolución Miscelánea 2024
DESCRIPTION:
URL:https://calendario.actualizandome.com/event/aspectos-relevantes-de-la-resolucion-miscelanea-2024/
CATEGORIES:Cursos,On line,Videoconferencia
ATTACH;FMTTYPE=image/jpeg:https://calendario.actualizandome.com/wp-content/uploads/2024/01/promo-evento-rm2024.jpg
END:VEVENT
BEGIN:VEVENT
DTSTART;TZID=America/Mexico_City:20240105T180000
DTEND;TZID=America/Mexico_City:20240105T190000
DTSTAMP:20260419T233723
CREATED:20240104T224320Z
LAST-MODIFIED:20240104T224320Z
UID:10005878-1704477600-1704481200@calendario.actualizandome.com
SUMMARY:Tres a las Seis - #BarraActualizandome
DESCRIPTION:
URL:https://calendario.actualizandome.com/event/tres-a-las-seis-barraactualizandome-7/
CATEGORIES:Aula Virtual
ATTACH;FMTTYPE=image/jpeg:https://calendario.actualizandome.com/wp-content/uploads/2024/01/tres.jpg
END:VEVENT
BEGIN:VEVENT
DTSTART;TZID=America/Mexico_City:20240105T170000
DTEND;TZID=America/Mexico_City:20240105T180000
DTSTAMP:20260419T233723
CREATED:20240104T224205Z
LAST-MODIFIED:20240104T224205Z
UID:10005877-1704474000-1704477600@calendario.actualizandome.com
SUMMARY:Está Bien No Estar Bien - Los Reyes Magos y los Límites - #BarraActualizandome
DESCRIPTION:
URL:https://calendario.actualizandome.com/event/esta-bien-no-estar-bien-los-reyes-magos-y-los-limites-barraactualizandome/
CATEGORIES:Aula Virtual
ATTACH;FMTTYPE=image/jpeg:https://calendario.actualizandome.com/wp-content/uploads/2024/01/bien.jpg
END:VEVENT
BEGIN:VEVENT
DTSTART;TZID=America/Mexico_City:20240105T160000
DTEND;TZID=America/Mexico_City:20240105T170000
DTSTAMP:20260419T233723
CREATED:20240104T230208Z
LAST-MODIFIED:20240104T230643Z
UID:10005879-1704470400-1704474000@calendario.actualizandome.com
SUMMARY:Actualizandome.com Universitario - Año Nuevo\, Nuevos Propósitos - #BarraActualizandome
DESCRIPTION:
URL:https://calendario.actualizandome.com/event/actualizandome-com-universitario-ano-nuevo-nuevos-propositos-barraactualizandome/
CATEGORIES:Aula Virtual
ATTACH;FMTTYPE=image/jpeg:https://calendario.actualizandome.com/wp-content/uploads/2024/01/univ.jpg
END:VEVENT
BEGIN:VEVENT
DTSTART;TZID=America/Mexico_City:20240105T130000
DTEND;TZID=America/Mexico_City:20240105T140000
DTSTAMP:20260419T233723
CREATED:20240104T224005Z
LAST-MODIFIED:20240104T224005Z
UID:10005876-1704459600-1704463200@calendario.actualizandome.com
SUMMARY:Los Derechos Humanos en Serio - #BarraActualizandome
DESCRIPTION:
URL:https://calendario.actualizandome.com/event/los-derechos-humanos-en-serio-barraactualizandome-10/
CATEGORIES:Aula Virtual
ATTACH;FMTTYPE=image/jpeg:https://calendario.actualizandome.com/wp-content/uploads/2024/01/derechos.jpg
END:VEVENT
BEGIN:VEVENT
DTSTART;TZID=America/Mexico_City:20240105T120000
DTEND;TZID=America/Mexico_City:20240105T130000
DTSTAMP:20260419T233723
CREATED:20240104T222832Z
LAST-MODIFIED:20240104T222832Z
UID:10005875-1704456000-1704459600@calendario.actualizandome.com
SUMMARY:Contabilidad y Algo Más - #BarraActualizandome
DESCRIPTION:
URL:https://calendario.actualizandome.com/event/contabilidad-y-algo-mas-barraactualizandome-8/
CATEGORIES:Aula Virtual
ATTACH;FMTTYPE=image/jpeg:https://calendario.actualizandome.com/wp-content/uploads/2024/01/contab.jpg
END:VEVENT
BEGIN:VEVENT
DTSTART;TZID=America/Mexico_City:20240105T110000
DTEND;TZID=America/Mexico_City:20240105T120000
DTSTAMP:20260419T233723
CREATED:20240104T222626Z
LAST-MODIFIED:20240104T222626Z
UID:10005874-1704452400-1704456000@calendario.actualizandome.com
SUMMARY:Metamorfosis - Comenzando 2024 - #BarraActualizandome
DESCRIPTION:
URL:https://calendario.actualizandome.com/event/metamorfosis-comenzando-2024-barraactualizandome/
CATEGORIES:Aula Virtual
ATTACH;FMTTYPE=image/jpeg:https://calendario.actualizandome.com/wp-content/uploads/2024/01/meta.jpg
END:VEVENT
BEGIN:VEVENT
DTSTART;TZID=America/Mexico_City:20240105T100000
DTEND;TZID=America/Mexico_City:20240105T110000
DTSTAMP:20260419T233723
CREATED:20240104T155507Z
LAST-MODIFIED:20240104T155507Z
UID:10005484-1704448800-1704452400@calendario.actualizandome.com
SUMMARY:Sembrando el Conocimiento - ¿Los Costos son una Opción o una Obligación? - #BarraActualizandome
DESCRIPTION:
URL:https://calendario.actualizandome.com/event/sembrando-el-conocimiento-los-costos-son-una-opcion-o-una-obligacion-barraactualizandome/
CATEGORIES:Aula Virtual
ATTACH;FMTTYPE=image/jpeg:https://calendario.actualizandome.com/wp-content/uploads/2024/01/sembrando.jpg
END:VEVENT
BEGIN:VEVENT
DTSTART;VALUE=DATE:20240105
DTEND;VALUE=DATE:20240106
DTSTAMP:20260419T233723
CREATED:20231219T233459Z
LAST-MODIFIED:20240104T153319Z
UID:10005448-1704412800-1704499199@calendario.actualizandome.com
SUMMARY:Programación de la Barra Actualizandome
DESCRIPTION:
URL:https://calendario.actualizandome.com/event/programacion-de-la-barra-actualizandome-96/
CATEGORIES:Aula Virtual
ATTACH;FMTTYPE=image/jpeg:https://calendario.actualizandome.com/wp-content/uploads/2023/12/viernes-2-scaled.jpg
END:VEVENT
BEGIN:VEVENT
DTSTART;TZID=America/Mexico_City:20240104T173000
DTEND;TZID=America/Mexico_City:20240104T183000
DTSTAMP:20260419T233723
CREATED:20240103T233310Z
LAST-MODIFIED:20240104T191843Z
UID:10005473-1704389400-1704393000@calendario.actualizandome.com
SUMMARY:Presentación de la Revista Digital Actualizandome No. 144 - #BarraActualizandome
DESCRIPTION:
URL:https://calendario.actualizandome.com/event/consultoria-fiscal-empresarial-barraactualizandome-8/
CATEGORIES:Aula Virtual
ATTACH;FMTTYPE=image/jpeg:https://calendario.actualizandome.com/wp-content/uploads/2024/01/REVISTA144.jpg
END:VEVENT
END:VCALENDAR