BEGIN:VCALENDAR
VERSION:2.0
PRODID:-//ACTUALIZANDOME - ECPv6.15.16//NONSGML v1.0//EN
CALSCALE:GREGORIAN
METHOD:PUBLISH
X-WR-CALNAME:ACTUALIZANDOME
X-ORIGINAL-URL:https://calendario.actualizandome.com
X-WR-CALDESC:Eventos para ACTUALIZANDOME
REFRESH-INTERVAL;VALUE=DURATION:PT1H
X-Robots-Tag:noindex
X-PUBLISHED-TTL:PT1H
BEGIN:VTIMEZONE
TZID:America/Mexico_City
BEGIN:STANDARD
TZOFFSETFROM:-0600
TZOFFSETTO:-0600
TZNAME:CST
DTSTART:20230101T000000
END:STANDARD
END:VTIMEZONE
BEGIN:VEVENT
DTSTART;TZID=America/Mexico_City:20240112T180000
DTEND;TZID=America/Mexico_City:20240112T190000
DTSTAMP:20260419T201740
CREATED:20240111T182718Z
LAST-MODIFIED:20240111T182718Z
UID:10005927-1705082400-1705086000@calendario.actualizandome.com
SUMMARY:Asesoría de Riesgos Patrimoniales - #BarraActualizandome
DESCRIPTION:
URL:https://calendario.actualizandome.com/event/asesoria-de-riesgos-patrimoniales-barraactualizandome-2/
CATEGORIES:Aula Virtual
ATTACH;FMTTYPE=image/jpeg:https://calendario.actualizandome.com/wp-content/uploads/2024/01/riesgos.jpg
END:VEVENT
BEGIN:VEVENT
DTSTART;TZID=America/Mexico_City:20240112T170000
DTEND;TZID=America/Mexico_City:20240112T180000
DTSTAMP:20260419T201740
CREATED:20240111T182607Z
LAST-MODIFIED:20240111T182607Z
UID:10005926-1705078800-1705082400@calendario.actualizandome.com
SUMMARY:Frecuencia Empresarial - Importancia de las PYMES en México - #BarraActualizandome
DESCRIPTION:
URL:https://calendario.actualizandome.com/event/frecuencia-empresarial-importancia-de-las-pymes-en-mexico-barraactualizandome/
CATEGORIES:Aula Virtual
ATTACH;FMTTYPE=image/jpeg:https://calendario.actualizandome.com/wp-content/uploads/2024/01/frecuencia.jpg
END:VEVENT
BEGIN:VEVENT
DTSTART;TZID=America/Mexico_City:20240112T130000
DTEND;TZID=America/Mexico_City:20240112T140000
DTSTAMP:20260419T201740
CREATED:20240110T223014Z
LAST-MODIFIED:20240110T223014Z
UID:10005921-1705064400-1705068000@calendario.actualizandome.com
SUMMARY:Compilación Fiscal - Sociedad por Acciones Simplificada - #BarraActualizandome
DESCRIPTION:
URL:https://calendario.actualizandome.com/event/compilacion-fiscal-sociedad-por-acciones-simplificada-barraactualizandome/
CATEGORIES:Aula Virtual
ATTACH;FMTTYPE=image/jpeg:https://calendario.actualizandome.com/wp-content/uploads/2024/01/compilacion.jpg
END:VEVENT
BEGIN:VEVENT
DTSTART;TZID=America/Mexico_City:20240112T120000
DTEND;TZID=America/Mexico_City:20240112T130000
DTSTAMP:20260419T201740
CREATED:20240111T182256Z
LAST-MODIFIED:20240111T182256Z
UID:10005925-1705060800-1705064400@calendario.actualizandome.com
SUMMARY:Hablemos del Dictamen Fiscal - #BarraActualizandome
DESCRIPTION:
URL:https://calendario.actualizandome.com/event/hablemos-del-dictamen-fiscal-barraactualizandome-9/
CATEGORIES:Aula Virtual
ATTACH;FMTTYPE=image/jpeg:https://calendario.actualizandome.com/wp-content/uploads/2024/01/dictamen.jpg
END:VEVENT
BEGIN:VEVENT
DTSTART;TZID=America/Mexico_City:20240112T110000
DTEND;TZID=America/Mexico_City:20240112T120000
DTSTAMP:20260419T201740
CREATED:20240111T182039Z
LAST-MODIFIED:20240111T223610Z
UID:10005924-1705057200-1705060800@calendario.actualizandome.com
SUMMARY:Yin Yang Fiscal - Fiscalización 2024 - #BarraActualizandome
DESCRIPTION:
URL:https://calendario.actualizandome.com/event/yin-yang-fiscal-barraactualizandome-9/
CATEGORIES:Aula Virtual
ATTACH;FMTTYPE=image/jpeg:https://calendario.actualizandome.com/wp-content/uploads/2024/01/yin-1.jpg
END:VEVENT
BEGIN:VEVENT
DTSTART;TZID=America/Mexico_City:20240112T100000
DTEND;TZID=America/Mexico_City:20240112T110000
DTSTAMP:20260419T201740
CREATED:20240111T181854Z
LAST-MODIFIED:20240112T154122Z
UID:10005923-1705053600-1705057200@calendario.actualizandome.com
SUMMARY:Conociendo el Mundo Fiscal - Que nos dejó la RMF24 - #BarraActualizandome
DESCRIPTION:
URL:https://calendario.actualizandome.com/event/conociendo-el-mundo-fiscal-barraactualizandome-11/
CATEGORIES:Aula Virtual
ATTACH;FMTTYPE=image/jpeg:https://calendario.actualizandome.com/wp-content/uploads/2024/01/mundo-1.jpg
END:VEVENT
BEGIN:VEVENT
DTSTART;VALUE=DATE:20240112
DTEND;VALUE=DATE:20240113
DTSTAMP:20260419T201740
CREATED:20240105T184353Z
LAST-MODIFIED:20240105T184353Z
UID:10005884-1705017600-1705103999@calendario.actualizandome.com
SUMMARY:Programación de la Barra Actualizandome
DESCRIPTION:
URL:https://calendario.actualizandome.com/event/programacion-de-la-barra-actualizandome-101/
CATEGORIES:Aula Virtual
ATTACH;FMTTYPE=image/jpeg:https://calendario.actualizandome.com/wp-content/uploads/2024/01/viernes-scaled.jpg
END:VEVENT
BEGIN:VEVENT
DTSTART;TZID=America/Mexico_City:20240111T190000
DTEND;TZID=America/Mexico_City:20240111T200000
DTSTAMP:20260419T201740
CREATED:20240111T001616Z
LAST-MODIFIED:20240111T001616Z
UID:10005922-1704999600-1705003200@calendario.actualizandome.com
SUMMARY:Sesión Interactiva de la Revista Digital Actualizandome Edición 143 - 2da Parte
DESCRIPTION:
URL:https://calendario.actualizandome.com/event/sesion-interactiva-de-la-revista-digital-actualizandome-edicion-143-2da-parte/
CATEGORIES:Aula Virtual
ATTACH;FMTTYPE=image/jpeg:https://calendario.actualizandome.com/wp-content/uploads/2024/01/interactiva.jpg
END:VEVENT
BEGIN:VEVENT
DTSTART;TZID=America/Mexico_City:20240111T180000
DTEND;TZID=America/Mexico_City:20240111T190000
DTSTAMP:20260419T201740
CREATED:20240108T232510Z
LAST-MODIFIED:20240108T232510Z
UID:10005904-1704996000-1704999600@calendario.actualizandome.com
SUMMARY:Updating My Intellect - how to be a digital accountant (Como Ser un Contador Digital ) - #BarraActualizandome
DESCRIPTION:
URL:https://calendario.actualizandome.com/event/updating-my-intellect-how-to-be-a-digital-accountant-como-ser-un-contador-digital-barraactualizandome/
CATEGORIES:Aula Virtual
ATTACH;FMTTYPE=image/jpeg:https://calendario.actualizandome.com/wp-content/uploads/2024/01/intellect.jpg
END:VEVENT
BEGIN:VEVENT
DTSTART;TZID=America/Mexico_City:20240111T170000
DTEND;TZID=America/Mexico_City:20240111T180000
DTSTAMP:20260419T201740
CREATED:20240110T220418Z
LAST-MODIFIED:20240110T220418Z
UID:10005919-1704992400-1704996000@calendario.actualizandome.com
SUMMARY:De Impuestos y Otros Demonios - #BarraActualizandome
DESCRIPTION:
URL:https://calendario.actualizandome.com/event/de-impuestos-y-otros-demonios-barraactualizandome-7/
CATEGORIES:Aula Virtual
ATTACH;FMTTYPE=image/jpeg:https://calendario.actualizandome.com/wp-content/uploads/2024/01/impuestos.jpg
END:VEVENT
BEGIN:VEVENT
DTSTART;TZID=America/Mexico_City:20240111T140000
DTEND;TZID=America/Mexico_City:20240111T150000
DTSTAMP:20260419T201740
CREATED:20240110T220141Z
LAST-MODIFIED:20240110T220141Z
UID:10005918-1704981600-1704985200@calendario.actualizandome.com
SUMMARY:Tecnología Práctica - #BarraActualizandome
DESCRIPTION:
URL:https://calendario.actualizandome.com/event/tecnologia-practica-barraactualizandome-11/
CATEGORIES:Aula Virtual
ATTACH;FMTTYPE=image/jpeg:https://calendario.actualizandome.com/wp-content/uploads/2024/01/tecnologia.jpg
END:VEVENT
BEGIN:VEVENT
DTSTART;TZID=America/Mexico_City:20240111T130000
DTEND;TZID=America/Mexico_City:20240111T140000
DTSTAMP:20260419T201740
CREATED:20240110T215809Z
LAST-MODIFIED:20240110T215809Z
UID:10005917-1704978000-1704981600@calendario.actualizandome.com
SUMMARY:Noticias en Actualizandome - #BarraActualizandome
DESCRIPTION:
URL:https://calendario.actualizandome.com/event/noticias-en-actualizandome-barraactualizandome-18/
CATEGORIES:Aula Virtual
ATTACH;FMTTYPE=image/jpeg:https://calendario.actualizandome.com/wp-content/uploads/2024/01/noticias.jpg
END:VEVENT
BEGIN:VEVENT
DTSTART;TZID=America/Mexico_City:20240111T120000
DTEND;TZID=America/Mexico_City:20240111T130000
DTSTAMP:20260419T201740
CREATED:20240110T215643Z
LAST-MODIFIED:20240110T215643Z
UID:10005916-1704974400-1704978000@calendario.actualizandome.com
SUMMARY:Los Derechos Humanos en Serio - (R) - #BarraActualizandome
DESCRIPTION:
URL:https://calendario.actualizandome.com/event/los-derechos-humanos-en-serio-r-barraactualizandome-4/
CATEGORIES:Aula Virtual
ATTACH;FMTTYPE=image/jpeg:https://calendario.actualizandome.com/wp-content/uploads/2024/01/derechos-1.jpg
END:VEVENT
BEGIN:VEVENT
DTSTART;TZID=America/Mexico_City:20240111T110000
DTEND;TZID=America/Mexico_City:20240111T120000
DTSTAMP:20260419T201740
CREATED:20240110T215510Z
LAST-MODIFIED:20240110T215510Z
UID:10005915-1704970800-1704974400@calendario.actualizandome.com
SUMMARY:Simetría Fiscal - #BarraActualizandome
DESCRIPTION:
URL:https://calendario.actualizandome.com/event/simetria-fiscal-barraactualizandome-8/
CATEGORIES:Aula Virtual
ATTACH;FMTTYPE=image/jpeg:https://calendario.actualizandome.com/wp-content/uploads/2024/01/simetria.jpg
END:VEVENT
BEGIN:VEVENT
DTSTART;TZID=America/Mexico_City:20240111T100000
DTEND;TZID=America/Mexico_City:20240111T110000
DTSTAMP:20260419T201740
CREATED:20240110T214643Z
LAST-MODIFIED:20240110T215906Z
UID:10005914-1704967200-1704970800@calendario.actualizandome.com
SUMMARY:Hablemos de Pensiones - (R) - #BarraActualizandome
DESCRIPTION:
URL:https://calendario.actualizandome.com/event/hablemos-de-pensiones-barraactualizandome-7/
CATEGORIES:Aula Virtual
ATTACH;FMTTYPE=image/jpeg:https://calendario.actualizandome.com/wp-content/uploads/2024/01/pensiones-1.jpg
END:VEVENT
BEGIN:VEVENT
DTSTART;VALUE=DATE:20240111
DTEND;VALUE=DATE:20240112
DTSTAMP:20260419T201740
CREATED:20240105T184251Z
LAST-MODIFIED:20240110T223826Z
UID:10005883-1704931200-1705017599@calendario.actualizandome.com
SUMMARY:Programación de la Barra Actualizandome
DESCRIPTION:
URL:https://calendario.actualizandome.com/event/programacion-de-la-barra-actualizandome-100/
CATEGORIES:Aula Virtual
ATTACH;FMTTYPE=image/jpeg:https://calendario.actualizandome.com/wp-content/uploads/2024/01/jueves-1-scaled.jpg
END:VEVENT
BEGIN:VEVENT
DTSTART;TZID=America/Mexico_City:20240110T210000
DTEND;TZID=America/Mexico_City:20240110T210000
DTSTAMP:20260419T201740
CREATED:20231109T233529Z
LAST-MODIFIED:20260129T002251Z
UID:10001346-1704920400-1704920400@calendario.actualizandome.com
SUMMARY:Club de estudio sobre Reglas Misceláneas 2026
DESCRIPTION:
URL:https://calendario.actualizandome.com/event/club-de-estudio-sobre-reglas-miscelaneas-2026/2024-01-10/
CATEGORIES:academia,Cursos
ATTACH;FMTTYPE=image/png:https://calendario.actualizandome.com/wp-content/uploads/2023/11/Club-de-estudio-sobre-Reglas-Miscelaneas-2024-26-1400x788-1.png
END:VEVENT
BEGIN:VEVENT
DTSTART;TZID=America/Mexico_City:20240110T200000
DTEND;TZID=America/Mexico_City:20240110T213000
DTSTAMP:20260419T201740
CREATED:20240110T222025Z
LAST-MODIFIED:20240110T225140Z
UID:10005920-1704916800-1704922200@calendario.actualizandome.com
SUMMARY:Club de Coaching Para Contadores - Estableciendo Metas Para el Éxito
DESCRIPTION:
URL:https://calendario.actualizandome.com/event/estableciendo-metas-para-el-exito/
CATEGORIES:academia,Cursos,Videoconferencia
ATTACH;FMTTYPE=image/jpeg:https://calendario.actualizandome.com/wp-content/uploads/2024/01/WhatsApp-Image-2024-01-10-at-2.46.41-PM.jpeg
END:VEVENT
BEGIN:VEVENT
DTSTART;TZID=America/Mexico_City:20240110T180000
DTEND;TZID=America/Mexico_City:20240110T190000
DTSTAMP:20260419T201740
CREATED:20240108T233410Z
LAST-MODIFIED:20240109T192150Z
UID:10005905-1704909600-1704913200@calendario.actualizandome.com
SUMMARY:Defensa Fiscal a la Medida - Puntos Fiscales a Considerar Para Iniciar un Año Exitoso - #BarraActualizandome
DESCRIPTION:
URL:https://calendario.actualizandome.com/event/defensa-fiscal-a-la-medida-casos-de-exito-barraactualizandome-3/
CATEGORIES:Aula Virtual
ATTACH;FMTTYPE=image/jpeg:https://calendario.actualizandome.com/wp-content/uploads/2024/01/defensa-2.jpg
END:VEVENT
BEGIN:VEVENT
DTSTART;TZID=America/Mexico_City:20240110T170000
DTEND;TZID=America/Mexico_City:20240110T180000
DTSTAMP:20260419T201740
CREATED:20240109T215954Z
LAST-MODIFIED:20240110T153302Z
UID:10005911-1704906000-1704909600@calendario.actualizandome.com
SUMMARY:Compliance Más Allá de la Norma - ¿Qué es un Sistema de Gestión de Compliance? - #BarraActualizandome
DESCRIPTION:
URL:https://calendario.actualizandome.com/event/compliance-mas-alla-de-la-norma-barraactualizandome-9/
CATEGORIES:Aula Virtual
ATTACH;FMTTYPE=image/jpeg:https://calendario.actualizandome.com/wp-content/uploads/2024/01/compliance-2.jpg
END:VEVENT
BEGIN:VEVENT
DTSTART;TZID=America/Mexico_City:20240110T140000
DTEND;TZID=America/Mexico_City:20240110T150000
DTSTAMP:20260419T201740
CREATED:20240108T224059Z
LAST-MODIFIED:20240108T224059Z
UID:10005903-1704895200-1704898800@calendario.actualizandome.com
SUMMARY:Hablemos de Pensiones - Incremento de tu Pensión Para 2024 - #BarraActualizandome
DESCRIPTION:
URL:https://calendario.actualizandome.com/event/hablemos-de-pensiones-incremento-de-tu-pension-para-2024-barraactualizandome/
CATEGORIES:Aula Virtual
ATTACH;FMTTYPE=image/jpeg:https://calendario.actualizandome.com/wp-content/uploads/2024/01/pensiones.jpg
END:VEVENT
BEGIN:VEVENT
DTSTART;TZID=America/Mexico_City:20240110T130000
DTEND;TZID=America/Mexico_City:20240110T140000
DTSTAMP:20260419T201740
CREATED:20240109T215621Z
LAST-MODIFIED:20240109T215621Z
UID:10005910-1704891600-1704895200@calendario.actualizandome.com
SUMMARY:Foco Financiero - Fraudes Financieros. El Caso YOX - #BarraActualizandome
DESCRIPTION:
URL:https://calendario.actualizandome.com/event/foco-financiero-fraudes-financieros-el-caso-yox-barraactualizandome/
CATEGORIES:Aula Virtual
ATTACH;FMTTYPE=image/jpeg:https://calendario.actualizandome.com/wp-content/uploads/2024/01/foco.jpg
END:VEVENT
BEGIN:VEVENT
DTSTART;TZID=America/Mexico_City:20240110T120000
DTEND;TZID=America/Mexico_City:20240110T130000
DTSTAMP:20260419T201740
CREATED:20240109T215459Z
LAST-MODIFIED:20240109T215459Z
UID:10005909-1704888000-1704891600@calendario.actualizandome.com
SUMMARY:Estratégica - #BarraActualizandome
DESCRIPTION:
URL:https://calendario.actualizandome.com/event/estrategica-barraactualizandome-6/
CATEGORIES:Aula Virtual
ATTACH;FMTTYPE=image/jpeg:https://calendario.actualizandome.com/wp-content/uploads/2024/01/estrategica.jpg
END:VEVENT
BEGIN:VEVENT
DTSTART;TZID=America/Mexico_City:20240110T110000
DTEND;TZID=America/Mexico_City:20240110T120000
DTSTAMP:20260419T201740
CREATED:20240109T215354Z
LAST-MODIFIED:20240110T163026Z
UID:10005908-1704884400-1704888000@calendario.actualizandome.com
SUMMARY:Consultorio Conta Fiscal - Integración de Salarios - #BarraActualizandome
DESCRIPTION:
URL:https://calendario.actualizandome.com/event/concultorio-conta-fiscal-integracion-de-salarios-barraactualizandome/
CATEGORIES:Aula Virtual
ATTACH;FMTTYPE=image/jpeg:https://calendario.actualizandome.com/wp-content/uploads/2024/01/consultoriio.jpg
END:VEVENT
BEGIN:VEVENT
DTSTART;TZID=America/Mexico_City:20240110T100000
DTEND;TZID=America/Mexico_City:20240110T110000
DTSTAMP:20260419T201740
CREATED:20240109T215128Z
LAST-MODIFIED:20240109T215128Z
UID:10005907-1704880800-1704884400@calendario.actualizandome.com
SUMMARY:Tópicos Empresariales - La Visión del Contador del Futuro - #BarraActualizandome
DESCRIPTION:
URL:https://calendario.actualizandome.com/event/topicos-empresariales-la-vision-del-contador-del-futuro-barraactualizandome/
CATEGORIES:Aula Virtual
ATTACH;FMTTYPE=image/jpeg:https://calendario.actualizandome.com/wp-content/uploads/2024/01/topicos-1.jpg
END:VEVENT
BEGIN:VEVENT
DTSTART;VALUE=DATE:20240110
DTEND;VALUE=DATE:20240111
DTSTAMP:20260419T201740
CREATED:20240105T184143Z
LAST-MODIFIED:20240109T222310Z
UID:10005882-1704844800-1704931199@calendario.actualizandome.com
SUMMARY:Programación de la Barra Actualizandome
DESCRIPTION:
URL:https://calendario.actualizandome.com/event/programacion-de-la-barra-actualizandome-99/
CATEGORIES:Aula Virtual
ATTACH;FMTTYPE=image/jpeg:https://calendario.actualizandome.com/wp-content/uploads/2024/01/miercoles-3-scaled.jpg
END:VEVENT
BEGIN:VEVENT
DTSTART;TZID=America/Mexico_City:20240109T190000
DTEND;TZID=America/Mexico_City:20240109T200000
DTSTAMP:20260419T201740
CREATED:20240109T010157Z
LAST-MODIFIED:20240109T011021Z
UID:10005906-1704826800-1704830400@calendario.actualizandome.com
SUMMARY:Sesión Interactiva de la Revista Digital Actualizandome Edición 143 - 1ra Parte
DESCRIPTION:
URL:https://calendario.actualizandome.com/event/sesion-interactiva-de-la-revista-digital-actualizandome-edicion-143-1ra-parte/
CATEGORIES:Aula Virtual
ATTACH;FMTTYPE=image/jpeg:https://calendario.actualizandome.com/wp-content/uploads/2024/01/int-143-1-scaled.jpg
END:VEVENT
BEGIN:VEVENT
DTSTART;TZID=America/Mexico_City:20240109T180000
DTEND;TZID=America/Mexico_City:20240109T190000
DTSTAMP:20260419T201740
CREATED:20240108T223915Z
LAST-MODIFIED:20240108T223915Z
UID:10005902-1704823200-1704826800@calendario.actualizandome.com
SUMMARY:CONADFIS - Llenado Anual 2024 - #BarraActualizandome
DESCRIPTION:
URL:https://calendario.actualizandome.com/event/conadfis-llenado-anual-2024-barraactualizandome/
CATEGORIES:Aula Virtual
ATTACH;FMTTYPE=image/jpeg:https://calendario.actualizandome.com/wp-content/uploads/2024/01/conadfis.jpg
END:VEVENT
BEGIN:VEVENT
DTSTART;TZID=America/Mexico_City:20240109T170000
DTEND;TZID=America/Mexico_City:20240109T180000
DTSTAMP:20260419T201740
CREATED:20240108T223759Z
LAST-MODIFIED:20240109T223323Z
UID:10005901-1704819600-1704823200@calendario.actualizandome.com
SUMMARY:Fiscal por la Tarde - Nuevos Criterios Judiciales en Materia de Subcontratación Laboral - #BarraActualizandome
DESCRIPTION:
URL:https://calendario.actualizandome.com/event/fiscal-por-la-tarde-barraactualizandome-7/
CATEGORIES:Aula Virtual
ATTACH;FMTTYPE=image/jpeg:https://calendario.actualizandome.com/wp-content/uploads/2024/01/fiscal-1.jpg
END:VEVENT
BEGIN:VEVENT
DTSTART;TZID=America/Mexico_City:20240109T140000
DTEND;TZID=America/Mexico_City:20240109T150000
DTSTAMP:20260419T201740
CREATED:20240108T223528Z
LAST-MODIFIED:20240108T223528Z
UID:10005899-1704808800-1704812400@calendario.actualizandome.com
SUMMARY:El Poder de los Seguros - #BarraActualizandome
DESCRIPTION:
URL:https://calendario.actualizandome.com/event/el-poder-de-los-seguros-barraactualizandome-7/
CATEGORIES:Aula Virtual
ATTACH;FMTTYPE=image/jpeg:https://calendario.actualizandome.com/wp-content/uploads/2024/01/seguros.jpg
END:VEVENT
END:VCALENDAR