BEGIN:VCALENDAR
VERSION:2.0
PRODID:-//ACTUALIZANDOME - ECPv6.15.16//NONSGML v1.0//EN
CALSCALE:GREGORIAN
METHOD:PUBLISH
X-ORIGINAL-URL:https://calendario.actualizandome.com
X-WR-CALDESC:Eventos para ACTUALIZANDOME
REFRESH-INTERVAL;VALUE=DURATION:PT1H
X-Robots-Tag:noindex
X-PUBLISHED-TTL:PT1H
BEGIN:VTIMEZONE
TZID:America/Mexico_City
BEGIN:STANDARD
TZOFFSETFROM:-0600
TZOFFSETTO:-0600
TZNAME:CST
DTSTART:20230101T000000
END:STANDARD
END:VTIMEZONE
BEGIN:VEVENT
DTSTART;TZID=America/Mexico_City:20240117T140000
DTEND;TZID=America/Mexico_City:20240117T150000
DTSTAMP:20260419T164754
CREATED:20240116T213032Z
LAST-MODIFIED:20240116T213032Z
UID:10005953-1705500000-1705503600@calendario.actualizandome.com
SUMMARY:La Hora AMCPMX - #BarraActualizandome
DESCRIPTION:
URL:https://calendario.actualizandome.com/event/la-hora-amcpmx-barraactualizandome-3/
CATEGORIES:Aula Virtual
ATTACH;FMTTYPE=image/jpeg:https://calendario.actualizandome.com/wp-content/uploads/2024/01/amcp.jpg
END:VEVENT
BEGIN:VEVENT
DTSTART;TZID=America/Mexico_City:20240117T130000
DTEND;TZID=America/Mexico_City:20240117T140000
DTSTAMP:20260419T164754
CREATED:20240116T212835Z
LAST-MODIFIED:20240116T212835Z
UID:10005952-1705496400-1705500000@calendario.actualizandome.com
SUMMARY:Mezcal Contable - Exención de IEPS al Mezcal. Iniciativas de Reforma - #BarraActualizandome
DESCRIPTION:
URL:https://calendario.actualizandome.com/event/mezcal-contable-exencion-de-ieps-al-mezcal-iniciativas-de-reforma-barraactualizandome/
CATEGORIES:Aula Virtual
ATTACH;FMTTYPE=image/jpeg:https://calendario.actualizandome.com/wp-content/uploads/2024/01/mezcal.jpg
END:VEVENT
BEGIN:VEVENT
DTSTART;TZID=America/Mexico_City:20240117T120000
DTEND;TZID=America/Mexico_City:20240117T130000
DTSTAMP:20260419T164754
CREATED:20240116T212619Z
LAST-MODIFIED:20240116T212619Z
UID:10005951-1705492800-1705496400@calendario.actualizandome.com
SUMMARY:Quadrando la Info - Planes del SAT Para 2024 - #BarraActualizandome
DESCRIPTION:
URL:https://calendario.actualizandome.com/event/quadrando-la-info-planes-del-sat-para-2024-barraactualizandome/
CATEGORIES:Aula Virtual
ATTACH;FMTTYPE=image/jpeg:https://calendario.actualizandome.com/wp-content/uploads/2024/01/quadra.jpg
END:VEVENT
BEGIN:VEVENT
DTSTART;TZID=America/Mexico_City:20240117T110000
DTEND;TZID=America/Mexico_City:20240117T120000
DTSTAMP:20260419T164754
CREATED:20240116T212452Z
LAST-MODIFIED:20240116T212452Z
UID:10005950-1705489200-1705492800@calendario.actualizandome.com
SUMMARY:Foro Fiscal - #BarraActualizandome
DESCRIPTION:
URL:https://calendario.actualizandome.com/event/foro-fiscal-barraactualizandome-8/
CATEGORIES:Aula Virtual
ATTACH;FMTTYPE=image/jpeg:https://calendario.actualizandome.com/wp-content/uploads/2024/01/foro.jpg
END:VEVENT
BEGIN:VEVENT
DTSTART;TZID=America/Mexico_City:20240117T100000
DTEND;TZID=America/Mexico_City:20240117T150000
DTSTAMP:20260419T164754
CREATED:20240106T010544Z
LAST-MODIFIED:20240106T010544Z
UID:10005892-1705485600-1705503600@calendario.actualizandome.com
SUMMARY:Entorno fiscal 2024 y Puntos a revisar  de la Resolución Miscelánea 2024
DESCRIPTION:
URL:https://calendario.actualizandome.com/event/entorno-fiscal-2024-y-puntos-a-revisar-de-la-resolucion-miscelanea-2024/
CATEGORIES:Cursos,On line,Presencial
ATTACH;FMTTYPE=image/png:https://calendario.actualizandome.com/wp-content/uploads/2024/01/rm2024-enro.png
END:VEVENT
BEGIN:VEVENT
DTSTART;TZID=America/Mexico_City:20240117T100000
DTEND;TZID=America/Mexico_City:20240117T120000
DTSTAMP:20260419T164754
CREATED:20240104T155950Z
LAST-MODIFIED:20240123T232011Z
UID:10000824-1705485600-1705492800@calendario.actualizandome.com
SUMMARY:Sesión del Club de estudio sobre Costos
DESCRIPTION:
URL:https://calendario.actualizandome.com/event/club-de-estudio-sobre-costos-2/2024-01-17/
CATEGORIES:academia,Cursos
ATTACH;FMTTYPE=image/png:https://calendario.actualizandome.com/wp-content/uploads/2024/01/relanzamiento-costos-enero-2024-sesiones.png
END:VEVENT
BEGIN:VEVENT
DTSTART;TZID=America/Mexico_City:20240117T100000
DTEND;TZID=America/Mexico_City:20240117T110000
DTSTAMP:20260419T164754
CREATED:20240116T212347Z
LAST-MODIFIED:20240116T212347Z
UID:10005949-1705485600-1705489200@calendario.actualizandome.com
SUMMARY:Inttegra Sistemas - Conociendo el DAC de los Sistemas ASPEL y Algunos Tips de Operación - #BarraActualizandome
DESCRIPTION:
URL:https://calendario.actualizandome.com/event/inttegra-sistemas-conociendo-el-dac-de-los-sistemas-aspel-y-algunos-tips-de-operacion-barraactualizandome/
CATEGORIES:Aula Virtual
ATTACH;FMTTYPE=image/jpeg:https://calendario.actualizandome.com/wp-content/uploads/2024/01/inttegra.jpg
END:VEVENT
BEGIN:VEVENT
DTSTART;VALUE=DATE:20240117
DTEND;VALUE=DATE:20240118
DTSTAMP:20260419T164754
CREATED:20240111T223151Z
LAST-MODIFIED:20240111T223151Z
UID:10005932-1705449600-1705535999@calendario.actualizandome.com
SUMMARY:Programación de la Barra Actualizandome
DESCRIPTION:
URL:https://calendario.actualizandome.com/event/programacion-de-la-barra-actualizandome-106/
CATEGORIES:Aula Virtual
ATTACH;FMTTYPE=image/jpeg:https://calendario.actualizandome.com/wp-content/uploads/2024/01/miercoles-4-scaled.jpg
END:VEVENT
BEGIN:VEVENT
DTSTART;TZID=America/Mexico_City:20240116T180000
DTEND;TZID=America/Mexico_City:20240116T190000
DTSTAMP:20260419T164754
CREATED:20240115T222812Z
LAST-MODIFIED:20240116T201134Z
UID:10005947-1705428000-1705431600@calendario.actualizandome.com
SUMMARY:Presentación de la Revista Digital Actualizandome No. 145 - #BarraActualizandome
DESCRIPTION:
URL:https://calendario.actualizandome.com/event/defensores-barraactualizandome-5/
CATEGORIES:Aula Virtual
ATTACH;FMTTYPE=image/jpeg:https://calendario.actualizandome.com/wp-content/uploads/2024/01/revista-145-1.jpg
END:VEVENT
BEGIN:VEVENT
DTSTART;TZID=America/Mexico_City:20240116T170000
DTEND;TZID=America/Mexico_City:20240116T180000
DTSTAMP:20260419T164754
CREATED:20240115T222645Z
LAST-MODIFIED:20240115T222645Z
UID:10005946-1705424400-1705428000@calendario.actualizandome.com
SUMMARY:Sinergia Laboral InfonavImss - (R) - #BarraActualizandome
DESCRIPTION:
URL:https://calendario.actualizandome.com/event/sinergia-laboral-infonavimss-r-barraactualizandome-6/
CATEGORIES:Aula Virtual
ATTACH;FMTTYPE=image/jpeg:https://calendario.actualizandome.com/wp-content/uploads/2024/01/sinergia.jpg
END:VEVENT
BEGIN:VEVENT
DTSTART;TZID=America/Mexico_City:20240116T130000
DTEND;TZID=America/Mexico_City:20240116T140000
DTSTAMP:20260419T164754
CREATED:20240115T222518Z
LAST-MODIFIED:20240116T161855Z
UID:10005945-1705410000-1705413600@calendario.actualizandome.com
SUMMARY:Contabilidad y Operatividad - Cómo Hacer el Cierre Contable Paso a Paso - #BarraActualizandome
DESCRIPTION:
URL:https://calendario.actualizandome.com/event/contabilidad-y-operatividad-barraactualizandome-9/
CATEGORIES:Aula Virtual
ATTACH;FMTTYPE=image/jpeg:https://calendario.actualizandome.com/wp-content/uploads/2024/01/contab-2.jpg
END:VEVENT
BEGIN:VEVENT
DTSTART;TZID=America/Mexico_City:20240116T120000
DTEND;TZID=America/Mexico_City:20240116T130000
DTSTAMP:20260419T164754
CREATED:20240115T222334Z
LAST-MODIFIED:20240115T222334Z
UID:10005944-1705406400-1705410000@calendario.actualizandome.com
SUMMARY:Noticias en Actualizandome - #BarraActualizandome
DESCRIPTION:
URL:https://calendario.actualizandome.com/event/noticias-en-actualizandome-barraactualizandome-19/
CATEGORIES:Aula Virtual
ATTACH;FMTTYPE=image/jpeg:https://calendario.actualizandome.com/wp-content/uploads/2024/01/noticias-1.jpg
END:VEVENT
BEGIN:VEVENT
DTSTART;TZID=America/Mexico_City:20240116T110000
DTEND;TZID=America/Mexico_City:20240116T120000
DTSTAMP:20260419T164754
CREATED:20240115T222208Z
LAST-MODIFIED:20240115T222208Z
UID:10005943-1705402800-1705406400@calendario.actualizandome.com
SUMMARY:Tópicos de Seguridad Social - Implicaciones del REPSE y SIROC - #BarraActualizandome
DESCRIPTION:
URL:https://calendario.actualizandome.com/event/topicos-de-seguridad-social-implicaciones-del-repse-y-siroc-barraactualizandome/
CATEGORIES:Aula Virtual
ATTACH;FMTTYPE=image/jpeg:https://calendario.actualizandome.com/wp-content/uploads/2024/01/seguridad.jpg
END:VEVENT
BEGIN:VEVENT
DTSTART;TZID=America/Mexico_City:20240116T110000
DTEND;TZID=America/Mexico_City:20240116T120000
DTSTAMP:20260419T164754
CREATED:20240104T160410Z
LAST-MODIFIED:20240104T161154Z
UID:10005614-1705402800-1705406400@calendario.actualizandome.com
SUMMARY:CLUB DE ESTUDIO SECTOR PRIMARIO ACTUALIZACIÓN 2024
DESCRIPTION:
URL:https://calendario.actualizandome.com/event/club-de-estudio-sector-primario-actualizacion-2024-2/2024-01-16/
CATEGORIES:academia,Cursos
ATTACH;FMTTYPE=image/png:https://calendario.actualizandome.com/wp-content/uploads/2023/11/sector-primario-dic.png
END:VEVENT
BEGIN:VEVENT
DTSTART;TZID=America/Mexico_City:20240116T100000
DTEND;TZID=America/Mexico_City:20240116T110000
DTSTAMP:20260419T164754
CREATED:20240115T222005Z
LAST-MODIFIED:20240115T222005Z
UID:10005942-1705399200-1705402800@calendario.actualizandome.com
SUMMARY:Diplomado en Inversiones y Estrategias Financieras 2023 - (R) - #BarraActualizandome
DESCRIPTION:
URL:https://calendario.actualizandome.com/event/diplomado-en-inversiones-y-estrategias-financieras-2023-r-barraactualizandome-3/
CATEGORIES:Aula Virtual
ATTACH;FMTTYPE=image/jpeg:https://calendario.actualizandome.com/wp-content/uploads/2024/01/inversiones.jpg
END:VEVENT
BEGIN:VEVENT
DTSTART;VALUE=DATE:20240116
DTEND;VALUE=DATE:20240117
DTSTAMP:20260419T164754
CREATED:20240111T222112Z
LAST-MODIFIED:20240116T201023Z
UID:10005929-1705363200-1705449599@calendario.actualizandome.com
SUMMARY:Programación de la Barra Actualizandome
DESCRIPTION:
URL:https://calendario.actualizandome.com/event/programacion-de-la-barra-actualizandome-103/
CATEGORIES:Aula Virtual
ATTACH;FMTTYPE=image/jpeg:https://calendario.actualizandome.com/wp-content/uploads/2024/01/martes-4-scaled.jpg
END:VEVENT
BEGIN:VEVENT
DTSTART;TZID=America/Mexico_City:20240115T180000
DTEND;TZID=America/Mexico_City:20240115T190000
DTSTAMP:20260419T164754
CREATED:20240112T164618Z
LAST-MODIFIED:20240115T235807Z
UID:10005939-1705341600-1705345200@calendario.actualizandome.com
SUMMARY:ABC de lo Fiscal - Temas de Actualización Fiscal 2024 - #BarraActualizandome
DESCRIPTION:
URL:https://calendario.actualizandome.com/event/abc-de-lo-fiscal-barraactualizandome-4/
CATEGORIES:Aula Virtual
ATTACH;FMTTYPE=image/jpeg:https://calendario.actualizandome.com/wp-content/uploads/2024/01/abc-1.jpg
END:VEVENT
BEGIN:VEVENT
DTSTART;TZID=America/Mexico_City:20240115T170000
DTEND;TZID=America/Mexico_City:20240115T180000
DTSTAMP:20260419T164754
CREATED:20240112T164518Z
LAST-MODIFIED:20240112T164518Z
UID:10005938-1705338000-1705341600@calendario.actualizandome.com
SUMMARY:El Derecho y su Círculo de Acción - El Divorcio Incausado - #BarraActualizandome
DESCRIPTION:
URL:https://calendario.actualizandome.com/event/el-derecho-y-su-circulo-de-accion-el-divorcio-incausado-barraactualizandome/
CATEGORIES:Aula Virtual
ATTACH;FMTTYPE=image/jpeg:https://calendario.actualizandome.com/wp-content/uploads/2024/01/derecho.jpg
END:VEVENT
BEGIN:VEVENT
DTSTART;TZID=America/Mexico_City:20240115T140000
DTEND;TZID=America/Mexico_City:20240115T150000
DTSTAMP:20260419T164754
CREATED:20240112T164334Z
LAST-MODIFIED:20240112T164334Z
UID:10005937-1705327200-1705330800@calendario.actualizandome.com
SUMMARY:Enlazando las Profesiones - #BarraActualizandome
DESCRIPTION:
URL:https://calendario.actualizandome.com/event/enlazando-las-profesiones-barraactualizandome-8/
CATEGORIES:Aula Virtual
ATTACH;FMTTYPE=image/jpeg:https://calendario.actualizandome.com/wp-content/uploads/2024/01/enlazando.jpg
END:VEVENT
BEGIN:VEVENT
DTSTART;TZID=America/Mexico_City:20240115T130000
DTEND;TZID=America/Mexico_City:20240115T140000
DTSTAMP:20260419T164754
CREATED:20240111T224450Z
LAST-MODIFIED:20240111T224450Z
UID:10005933-1705323600-1705327200@calendario.actualizandome.com
SUMMARY:La Hora CNCP - Problemáticas Contables Fiscales del Sector Cañero - #BarraActualizandome
DESCRIPTION:
URL:https://calendario.actualizandome.com/event/la-hora-cncp-problematicas-contables-fiscales-del-sector-canero-barraactualizandome/
CATEGORIES:Aula Virtual
ATTACH;FMTTYPE=image/jpeg:https://calendario.actualizandome.com/wp-content/uploads/2024/01/cncp-2.jpg
END:VEVENT
BEGIN:VEVENT
DTSTART;TZID=America/Mexico_City:20240115T120000
DTEND;TZID=America/Mexico_City:20240115T130000
DTSTAMP:20260419T164754
CREATED:20240112T164216Z
LAST-MODIFIED:20240112T164216Z
UID:10005936-1705320000-1705323600@calendario.actualizandome.com
SUMMARY:Foco Financiero (R) - #BarraActualizandome
DESCRIPTION:
URL:https://calendario.actualizandome.com/event/foco-financiero-r-barraactualizandome-8/
CATEGORIES:Aula Virtual
ATTACH;FMTTYPE=image/jpeg:https://calendario.actualizandome.com/wp-content/uploads/2024/01/foco-1.jpg
END:VEVENT
BEGIN:VEVENT
DTSTART;TZID=America/Mexico_City:20240115T110000
DTEND;TZID=America/Mexico_City:20240115T120000
DTSTAMP:20260419T164754
CREATED:20240112T164056Z
LAST-MODIFIED:20240112T164056Z
UID:10005935-1705316400-1705320000@calendario.actualizandome.com
SUMMARY:Hablemos del Código Fiscal - #BarraActualizandome
DESCRIPTION:
URL:https://calendario.actualizandome.com/event/hablemos-del-codigo-fiscal-barraactualizandome-8/
CATEGORIES:Aula Virtual
ATTACH;FMTTYPE=image/jpeg:https://calendario.actualizandome.com/wp-content/uploads/2024/01/codigo.jpg
END:VEVENT
BEGIN:VEVENT
DTSTART;TZID=America/Mexico_City:20240115T100000
DTEND;TZID=America/Mexico_City:20240115T110000
DTSTAMP:20260419T164754
CREATED:20240112T163913Z
LAST-MODIFIED:20240112T205229Z
UID:10005934-1705312800-1705316400@calendario.actualizandome.com
SUMMARY:Reflexionando Desde Israel - Qué nos dejó el 2023 y que nos espera en el 2024 - #BarraActualizandome
DESCRIPTION:
URL:https://calendario.actualizandome.com/event/reflexionando-desde-israel-barraactualizandome-2/
CATEGORIES:Aula Virtual
ATTACH;FMTTYPE=image/jpeg:https://calendario.actualizandome.com/wp-content/uploads/2024/01/reflex-1.jpg
END:VEVENT
BEGIN:VEVENT
DTSTART;VALUE=DATE:20240115
DTEND;VALUE=DATE:20240116
DTSTAMP:20260419T164754
CREATED:20240111T222006Z
LAST-MODIFIED:20240111T222006Z
UID:10005928-1705276800-1705363199@calendario.actualizandome.com
SUMMARY:Programación de la Barra Actualizandome
DESCRIPTION:
URL:https://calendario.actualizandome.com/event/programacion-de-la-barra-actualizandome-102/
CATEGORIES:Aula Virtual
ATTACH;FMTTYPE=image/jpeg:https://calendario.actualizandome.com/wp-content/uploads/2024/01/lunes-1-scaled.jpg
END:VEVENT
BEGIN:VEVENT
DTSTART;TZID=America/Mexico_City:20240112T180000
DTEND;TZID=America/Mexico_City:20240112T190000
DTSTAMP:20260419T164754
CREATED:20240111T182718Z
LAST-MODIFIED:20240111T182718Z
UID:10005927-1705082400-1705086000@calendario.actualizandome.com
SUMMARY:Asesoría de Riesgos Patrimoniales - #BarraActualizandome
DESCRIPTION:
URL:https://calendario.actualizandome.com/event/asesoria-de-riesgos-patrimoniales-barraactualizandome-2/
CATEGORIES:Aula Virtual
ATTACH;FMTTYPE=image/jpeg:https://calendario.actualizandome.com/wp-content/uploads/2024/01/riesgos.jpg
END:VEVENT
BEGIN:VEVENT
DTSTART;TZID=America/Mexico_City:20240112T170000
DTEND;TZID=America/Mexico_City:20240112T180000
DTSTAMP:20260419T164754
CREATED:20240111T182607Z
LAST-MODIFIED:20240111T182607Z
UID:10005926-1705078800-1705082400@calendario.actualizandome.com
SUMMARY:Frecuencia Empresarial - Importancia de las PYMES en México - #BarraActualizandome
DESCRIPTION:
URL:https://calendario.actualizandome.com/event/frecuencia-empresarial-importancia-de-las-pymes-en-mexico-barraactualizandome/
CATEGORIES:Aula Virtual
ATTACH;FMTTYPE=image/jpeg:https://calendario.actualizandome.com/wp-content/uploads/2024/01/frecuencia.jpg
END:VEVENT
BEGIN:VEVENT
DTSTART;TZID=America/Mexico_City:20240112T130000
DTEND;TZID=America/Mexico_City:20240112T140000
DTSTAMP:20260419T164754
CREATED:20240110T223014Z
LAST-MODIFIED:20240110T223014Z
UID:10005921-1705064400-1705068000@calendario.actualizandome.com
SUMMARY:Compilación Fiscal - Sociedad por Acciones Simplificada - #BarraActualizandome
DESCRIPTION:
URL:https://calendario.actualizandome.com/event/compilacion-fiscal-sociedad-por-acciones-simplificada-barraactualizandome/
CATEGORIES:Aula Virtual
ATTACH;FMTTYPE=image/jpeg:https://calendario.actualizandome.com/wp-content/uploads/2024/01/compilacion.jpg
END:VEVENT
BEGIN:VEVENT
DTSTART;TZID=America/Mexico_City:20240112T120000
DTEND;TZID=America/Mexico_City:20240112T130000
DTSTAMP:20260419T164754
CREATED:20240111T182256Z
LAST-MODIFIED:20240111T182256Z
UID:10005925-1705060800-1705064400@calendario.actualizandome.com
SUMMARY:Hablemos del Dictamen Fiscal - #BarraActualizandome
DESCRIPTION:
URL:https://calendario.actualizandome.com/event/hablemos-del-dictamen-fiscal-barraactualizandome-9/
CATEGORIES:Aula Virtual
ATTACH;FMTTYPE=image/jpeg:https://calendario.actualizandome.com/wp-content/uploads/2024/01/dictamen.jpg
END:VEVENT
BEGIN:VEVENT
DTSTART;TZID=America/Mexico_City:20240112T110000
DTEND;TZID=America/Mexico_City:20240112T120000
DTSTAMP:20260419T164754
CREATED:20240111T182039Z
LAST-MODIFIED:20240111T223610Z
UID:10005924-1705057200-1705060800@calendario.actualizandome.com
SUMMARY:Yin Yang Fiscal - Fiscalización 2024 - #BarraActualizandome
DESCRIPTION:
URL:https://calendario.actualizandome.com/event/yin-yang-fiscal-barraactualizandome-9/
CATEGORIES:Aula Virtual
ATTACH;FMTTYPE=image/jpeg:https://calendario.actualizandome.com/wp-content/uploads/2024/01/yin-1.jpg
END:VEVENT
BEGIN:VEVENT
DTSTART;TZID=America/Mexico_City:20240112T100000
DTEND;TZID=America/Mexico_City:20240112T110000
DTSTAMP:20260419T164754
CREATED:20240111T181854Z
LAST-MODIFIED:20240112T154122Z
UID:10005923-1705053600-1705057200@calendario.actualizandome.com
SUMMARY:Conociendo el Mundo Fiscal - Que nos dejó la RMF24 - #BarraActualizandome
DESCRIPTION:
URL:https://calendario.actualizandome.com/event/conociendo-el-mundo-fiscal-barraactualizandome-11/
CATEGORIES:Aula Virtual
ATTACH;FMTTYPE=image/jpeg:https://calendario.actualizandome.com/wp-content/uploads/2024/01/mundo-1.jpg
END:VEVENT
END:VCALENDAR