BEGIN:VCALENDAR
VERSION:2.0
PRODID:-//ACTUALIZANDOME - ECPv6.15.16//NONSGML v1.0//EN
CALSCALE:GREGORIAN
METHOD:PUBLISH
X-ORIGINAL-URL:https://calendario.actualizandome.com
X-WR-CALDESC:Eventos para ACTUALIZANDOME
REFRESH-INTERVAL;VALUE=DURATION:PT1H
X-Robots-Tag:noindex
X-PUBLISHED-TTL:PT1H
BEGIN:VTIMEZONE
TZID:America/Mexico_City
BEGIN:STANDARD
TZOFFSETFROM:-0600
TZOFFSETTO:-0600
TZNAME:CST
DTSTART:20230101T000000
END:STANDARD
END:VTIMEZONE
BEGIN:VEVENT
DTSTART;TZID=America/Mexico_City:20240122T110000
DTEND;TZID=America/Mexico_City:20240122T120000
DTSTAMP:20260419T133215
CREATED:20240119T202335Z
LAST-MODIFIED:20240119T202335Z
UID:10005976-1705921200-1705924800@calendario.actualizandome.com
SUMMARY:Expresión Fiscal - Personas Físicas Expulsadas de RESICO - #BarraActualizandome
DESCRIPTION:
URL:https://calendario.actualizandome.com/event/expresion-fiscal-personas-fisicas-expulsadas-de-resico-barraactualizandome/
CATEGORIES:Aula Virtual
ATTACH;FMTTYPE=image/jpeg:https://calendario.actualizandome.com/wp-content/uploads/2024/01/expresion-2.jpg
END:VEVENT
BEGIN:VEVENT
DTSTART;TZID=America/Mexico_City:20240122T100000
DTEND;TZID=America/Mexico_City:20240122T110000
DTSTAMP:20260419T133215
CREATED:20240119T202142Z
LAST-MODIFIED:20240119T202142Z
UID:10005975-1705917600-1705921200@calendario.actualizandome.com
SUMMARY:Conociendo Actualizandome - #BarraActualizandome
DESCRIPTION:
URL:https://calendario.actualizandome.com/event/conociendo-actualizandome-barraactualizandome-10/
CATEGORIES:Aula Virtual
ATTACH;FMTTYPE=image/jpeg:https://calendario.actualizandome.com/wp-content/uploads/2024/01/actual-1.jpg
END:VEVENT
BEGIN:VEVENT
DTSTART;VALUE=DATE:20240122
DTEND;VALUE=DATE:20240123
DTSTAMP:20260419T133215
CREATED:20240117T232059Z
LAST-MODIFIED:20240117T232059Z
UID:10005962-1705881600-1705967999@calendario.actualizandome.com
SUMMARY:Programación de la Barra Actualizandome
DESCRIPTION:
URL:https://calendario.actualizandome.com/event/programacion-de-la-barra-actualizandome-107/
CATEGORIES:Aula Virtual
ATTACH;FMTTYPE=image/jpeg:https://calendario.actualizandome.com/wp-content/uploads/2024/01/lunes-2-scaled.jpg
END:VEVENT
BEGIN:VEVENT
DTSTART;TZID=America/Mexico_City:20240119T180000
DTEND;TZID=America/Mexico_City:20240119T190000
DTSTAMP:20260419T133215
CREATED:20240118T184129Z
LAST-MODIFIED:20240118T184129Z
UID:10005973-1705687200-1705690800@calendario.actualizandome.com
SUMMARY:Tres a las Seis - Régimen de Incorporación Fiscal - #BarraActualizandome
DESCRIPTION:
URL:https://calendario.actualizandome.com/event/tres-a-las-seis-regimen-de-incorporacion-fiscal-barraactualizandome/
CATEGORIES:Aula Virtual
ATTACH;FMTTYPE=image/jpeg:https://calendario.actualizandome.com/wp-content/uploads/2024/01/tres-1.jpg
END:VEVENT
BEGIN:VEVENT
DTSTART;TZID=America/Mexico_City:20240119T170000
DTEND;TZID=America/Mexico_City:20240119T180000
DTSTAMP:20260419T133215
CREATED:20240118T184005Z
LAST-MODIFIED:20240118T184005Z
UID:10005972-1705683600-1705687200@calendario.actualizandome.com
SUMMARY:Está Bien No Estar Bien - #BarraActualizandome
DESCRIPTION:
URL:https://calendario.actualizandome.com/event/esta-bien-no-estar-bien-barraactualizandome-7/
CATEGORIES:Aula Virtual
ATTACH;FMTTYPE=image/jpeg:https://calendario.actualizandome.com/wp-content/uploads/2024/01/bien-1.jpg
END:VEVENT
BEGIN:VEVENT
DTSTART;TZID=America/Mexico_City:20240119T160000
DTEND;TZID=America/Mexico_City:20240119T170000
DTSTAMP:20260419T133215
CREATED:20240118T184925Z
LAST-MODIFIED:20240118T184925Z
UID:10005974-1705680000-1705683600@calendario.actualizandome.com
SUMMARY:Actualizandome.com Universitario - ¿Qué es la Administración? - #BarraActualizandome
DESCRIPTION:
URL:https://calendario.actualizandome.com/event/actualizandome-com-universitario-que-es-la-administracion-barraactualizandome/
CATEGORIES:Aula Virtual
ATTACH;FMTTYPE=image/jpeg:https://calendario.actualizandome.com/wp-content/uploads/2024/01/univ-1.jpg
END:VEVENT
BEGIN:VEVENT
DTSTART;TZID=America/Mexico_City:20240119T140000
DTEND;TZID=America/Mexico_City:20240119T150000
DTSTAMP:20260419T133215
CREATED:20240118T154810Z
LAST-MODIFIED:20240118T154810Z
UID:10005967-1705672800-1705676400@calendario.actualizandome.com
SUMMARY:La Hora AMCPMX - La Sociedad en Nombre Colectivo - #BarraActualizandome
DESCRIPTION:
URL:https://calendario.actualizandome.com/event/la-hora-amcpmx-la-sociedad-en-nombre-colectivo-barraactualizandome/
CATEGORIES:Aula Virtual
ATTACH;FMTTYPE=image/jpeg:https://calendario.actualizandome.com/wp-content/uploads/2024/01/amcp-1.jpg
END:VEVENT
BEGIN:VEVENT
DTSTART;TZID=America/Mexico_City:20240119T130000
DTEND;TZID=America/Mexico_City:20240119T140000
DTSTAMP:20260419T133215
CREATED:20240118T183829Z
LAST-MODIFIED:20240118T183829Z
UID:10005971-1705669200-1705672800@calendario.actualizandome.com
SUMMARY:Los Derechos Humanos en Serio - #BarraActualizandome
DESCRIPTION:
URL:https://calendario.actualizandome.com/event/los-derechos-humanos-en-serio-barraactualizandome-11/
CATEGORIES:Aula Virtual
ATTACH;FMTTYPE=image/jpeg:https://calendario.actualizandome.com/wp-content/uploads/2024/01/derecho-1.jpg
END:VEVENT
BEGIN:VEVENT
DTSTART;TZID=America/Mexico_City:20240119T120000
DTEND;TZID=America/Mexico_City:20240119T130000
DTSTAMP:20260419T133215
CREATED:20240118T183637Z
LAST-MODIFIED:20240118T183637Z
UID:10005970-1705665600-1705669200@calendario.actualizandome.com
SUMMARY:Contabilidad y Algo Más - #BarraActualizandome
DESCRIPTION:
URL:https://calendario.actualizandome.com/event/contabilidad-y-algo-mas-barraactualizandome-9/
CATEGORIES:Aula Virtual
ATTACH;FMTTYPE=image/jpeg:https://calendario.actualizandome.com/wp-content/uploads/2024/01/contab-3.jpg
END:VEVENT
BEGIN:VEVENT
DTSTART;TZID=America/Mexico_City:20240119T110000
DTEND;TZID=America/Mexico_City:20240119T120000
DTSTAMP:20260419T133215
CREATED:20240118T183456Z
LAST-MODIFIED:20240118T183456Z
UID:10005969-1705662000-1705665600@calendario.actualizandome.com
SUMMARY:Metamorfosis - #BarraActualizandome
DESCRIPTION:
URL:https://calendario.actualizandome.com/event/metamorfosis-barraactualizandome-6/
CATEGORIES:Aula Virtual
ATTACH;FMTTYPE=image/jpeg:https://calendario.actualizandome.com/wp-content/uploads/2024/01/meta-2.jpg
END:VEVENT
BEGIN:VEVENT
DTSTART;TZID=America/Mexico_City:20240119T100000
DTEND;TZID=America/Mexico_City:20240119T110000
DTSTAMP:20260419T133215
CREATED:20240118T183012Z
LAST-MODIFIED:20240118T183012Z
UID:10005968-1705658400-1705662000@calendario.actualizandome.com
SUMMARY:Sembrando el Conocimiento - #BarraActualizandome
DESCRIPTION:
URL:https://calendario.actualizandome.com/event/sembrando-el-conocimiento-barraactualizandome-5/
CATEGORIES:Aula Virtual
ATTACH;FMTTYPE=image/jpeg:https://calendario.actualizandome.com/wp-content/uploads/2024/01/sembrando-1.jpg
END:VEVENT
BEGIN:VEVENT
DTSTART;TZID=America/Mexico_City:20240119T090000
DTEND;TZID=America/Mexico_City:20240119T090000
DTSTAMP:20260419T133215
CREATED:20240104T154744Z
LAST-MODIFIED:20240104T154744Z
UID:10005475-1705654800-1705654800@calendario.actualizandome.com
SUMMARY:Entornos Fiscales 2024
DESCRIPTION:
URL:https://calendario.actualizandome.com/event/entornos-fiscales-2024/
CATEGORIES:Presencial
ATTACH;FMTTYPE=image/jpeg:https://calendario.actualizandome.com/wp-content/uploads/2024/01/WhatsApp-Image-2024-01-03-at-2.03.13-PM.jpeg
END:VEVENT
BEGIN:VEVENT
DTSTART;VALUE=DATE:20240119
DTEND;VALUE=DATE:20240120
DTSTAMP:20260419T133215
CREATED:20240111T222345Z
LAST-MODIFIED:20240118T190443Z
UID:10005931-1705622400-1705708799@calendario.actualizandome.com
SUMMARY:Programación de la Barra Actualizandome
DESCRIPTION:
URL:https://calendario.actualizandome.com/event/programacion-de-la-barra-actualizandome-105/
CATEGORIES:Aula Virtual
ATTACH;FMTTYPE=image/jpeg:https://calendario.actualizandome.com/wp-content/uploads/2024/01/viernes-3-scaled.jpg
END:VEVENT
BEGIN:VEVENT
DTSTART;TZID=America/Mexico_City:20240118T180000
DTEND;TZID=America/Mexico_City:20240118T190000
DTSTAMP:20260419T133215
CREATED:20240117T225408Z
LAST-MODIFIED:20240117T225408Z
UID:10005961-1705600800-1705604400@calendario.actualizandome.com
SUMMARY:DEfensa Fiscal Práctica - #BarraActualizandome
DESCRIPTION:
URL:https://calendario.actualizandome.com/event/defensa-fiscal-practica-barraactualizandome-8/
CATEGORIES:Aula Virtual
ATTACH;FMTTYPE=image/jpeg:https://calendario.actualizandome.com/wp-content/uploads/2024/01/defensa-5.jpg
END:VEVENT
BEGIN:VEVENT
DTSTART;TZID=America/Mexico_City:20240118T170000
DTEND;TZID=America/Mexico_City:20240118T180000
DTSTAMP:20260419T133215
CREATED:20240117T225240Z
LAST-MODIFIED:20240118T192244Z
UID:10005960-1705597200-1705600800@calendario.actualizandome.com
SUMMARY:Consultoría Fiscal Empresarial - Sociedad Anónima Promotora de Inversión (SAPI) - #BarraActualizandome
DESCRIPTION:
URL:https://calendario.actualizandome.com/event/consultoria-fiscal-empresarial-barraactualizandome-9/
CATEGORIES:Aula Virtual
ATTACH;FMTTYPE=image/jpeg:https://calendario.actualizandome.com/wp-content/uploads/2024/01/consultoria-2.jpg
END:VEVENT
BEGIN:VEVENT
DTSTART;TZID=America/Mexico_City:20240118T140000
DTEND;TZID=America/Mexico_City:20240118T150000
DTSTAMP:20260419T133215
CREATED:20240117T225128Z
LAST-MODIFIED:20240118T182730Z
UID:10005959-1705586400-1705590000@calendario.actualizandome.com
SUMMARY:Conquista los Impuestos - Viáticos y Gastos de Viaje - #BarraActualizandome
DESCRIPTION:
URL:https://calendario.actualizandome.com/event/conquista-los-impuestos-barraactualizandome-9/
CATEGORIES:Aula Virtual
ATTACH;FMTTYPE=image/jpeg:https://calendario.actualizandome.com/wp-content/uploads/2024/01/impuestos-2.jpg
END:VEVENT
BEGIN:VEVENT
DTSTART;TZID=America/Mexico_City:20240118T130000
DTEND;TZID=America/Mexico_City:20240118T140000
DTSTAMP:20260419T133215
CREATED:20240117T225015Z
LAST-MODIFIED:20240118T154624Z
UID:10005958-1705582800-1705586400@calendario.actualizandome.com
SUMMARY:Participando en Grupo - Estudio de las NIF - #BarraActualizandome
DESCRIPTION:
URL:https://calendario.actualizandome.com/event/participando-en-grupo-barraactualizandome-6/
CATEGORIES:Aula Virtual
ATTACH;FMTTYPE=image/jpeg:https://calendario.actualizandome.com/wp-content/uploads/2024/01/grupo-2.jpg
END:VEVENT
BEGIN:VEVENT
DTSTART;TZID=America/Mexico_City:20240118T120000
DTEND;TZID=America/Mexico_City:20240118T130000
DTSTAMP:20260419T133215
CREATED:20240115T221834Z
LAST-MODIFIED:20240115T221834Z
UID:10005941-1705579200-1705582800@calendario.actualizandome.com
SUMMARY:Diálogos Fiscales - Defensa Fiscal Contra la Expulsión del RESICO - #BarraActualizandome
DESCRIPTION:
URL:https://calendario.actualizandome.com/event/dialogos-fiscales-defensa-fiscal-contra-la-expulsion-del-resico-barraactualizandome/
CATEGORIES:Aula Virtual
ATTACH;FMTTYPE=image/jpeg:https://calendario.actualizandome.com/wp-content/uploads/2024/01/dialogos-1.jpg
END:VEVENT
BEGIN:VEVENT
DTSTART;TZID=America/Mexico_City:20240118T110000
DTEND;TZID=America/Mexico_City:20240118T120000
DTSTAMP:20260419T133215
CREATED:20240117T224858Z
LAST-MODIFIED:20240118T154450Z
UID:10005957-1705575600-1705579200@calendario.actualizandome.com
SUMMARY:JB El Fiscal - Ingresos que Pueden Tener los AGAPES 2024 - #BarraActualizandome
DESCRIPTION:
URL:https://calendario.actualizandome.com/event/jb-el-fiscal-barraactualizandome-7/
CATEGORIES:Aula Virtual
ATTACH;FMTTYPE=image/jpeg:https://calendario.actualizandome.com/wp-content/uploads/2024/01/jb-2.jpg
END:VEVENT
BEGIN:VEVENT
DTSTART;TZID=America/Mexico_City:20240118T100000
DTEND;TZID=America/Mexico_City:20240118T110000
DTSTAMP:20260419T133215
CREATED:20240117T224731Z
LAST-MODIFIED:20240118T155324Z
UID:10005956-1705572000-1705575600@calendario.actualizandome.com
SUMMARY:En Sintonía Fiscal - Herramientas Tecnológicas - #BarraActualizandome
DESCRIPTION:
URL:https://calendario.actualizandome.com/event/en-sintonia-fiscal-barraactualizandome-8/
CATEGORIES:Aula Virtual
ATTACH;FMTTYPE=image/jpeg:https://calendario.actualizandome.com/wp-content/uploads/2024/01/sintonia-2.jpg
END:VEVENT
BEGIN:VEVENT
DTSTART;VALUE=DATE:20240118
DTEND;VALUE=DATE:20240119
DTSTAMP:20260419T133215
CREATED:20240111T222230Z
LAST-MODIFIED:20240111T222230Z
UID:10005930-1705536000-1705622399@calendario.actualizandome.com
SUMMARY:Programación de la Barra Actualizandome
DESCRIPTION:
URL:https://calendario.actualizandome.com/event/programacion-de-la-barra-actualizandome-104/
CATEGORIES:Aula Virtual
ATTACH;FMTTYPE=image/jpeg:https://calendario.actualizandome.com/wp-content/uploads/2024/01/jueves-2-scaled.jpg
END:VEVENT
BEGIN:VEVENT
DTSTART;TZID=America/Mexico_City:20240117T210000
DTEND;TZID=America/Mexico_City:20240117T210000
DTSTAMP:20260419T133215
CREATED:20231109T233529Z
LAST-MODIFIED:20260129T002251Z
UID:10001347-1705525200-1705525200@calendario.actualizandome.com
SUMMARY:Club de estudio sobre Reglas Misceláneas 2026
DESCRIPTION:
URL:https://calendario.actualizandome.com/event/club-de-estudio-sobre-reglas-miscelaneas-2026/2024-01-17/
CATEGORIES:academia,Cursos
ATTACH;FMTTYPE=image/png:https://calendario.actualizandome.com/wp-content/uploads/2023/11/Club-de-estudio-sobre-Reglas-Miscelaneas-2024-26-1400x788-1.png
END:VEVENT
BEGIN:VEVENT
DTSTART;TZID=America/Mexico_City:20240117T180000
DTEND;TZID=America/Mexico_City:20240117T190000
DTSTAMP:20260419T133215
CREATED:20240116T213249Z
LAST-MODIFIED:20240116T213249Z
UID:10005955-1705514400-1705518000@calendario.actualizandome.com
SUMMARY:Mitos y Realidades Tributarias - #BarraActualizandome
DESCRIPTION:
URL:https://calendario.actualizandome.com/event/mitos-y-realidades-tributarias-barraactualizandome-10/
CATEGORIES:Aula Virtual
ATTACH;FMTTYPE=image/jpeg:https://calendario.actualizandome.com/wp-content/uploads/2024/01/mitos.jpg
END:VEVENT
BEGIN:VEVENT
DTSTART;TZID=America/Mexico_City:20240117T170000
DTEND;TZID=America/Mexico_City:20240117T180000
DTSTAMP:20260419T133215
CREATED:20240116T213144Z
LAST-MODIFIED:20240116T213144Z
UID:10005954-1705510800-1705514400@calendario.actualizandome.com
SUMMARY:Defensa Fiscal a la Medida - (R) - #BarraActualizandome
DESCRIPTION:
URL:https://calendario.actualizandome.com/event/defensa-fiscal-a-la-medida-r-barraactualizandome/
CATEGORIES:Aula Virtual
ATTACH;FMTTYPE=image/jpeg:https://calendario.actualizandome.com/wp-content/uploads/2024/01/defensa-4.jpg
END:VEVENT
BEGIN:VEVENT
DTSTART;TZID=America/Mexico_City:20240117T140000
DTEND;TZID=America/Mexico_City:20240117T150000
DTSTAMP:20260419T133215
CREATED:20240116T213032Z
LAST-MODIFIED:20240116T213032Z
UID:10005953-1705500000-1705503600@calendario.actualizandome.com
SUMMARY:La Hora AMCPMX - #BarraActualizandome
DESCRIPTION:
URL:https://calendario.actualizandome.com/event/la-hora-amcpmx-barraactualizandome-3/
CATEGORIES:Aula Virtual
ATTACH;FMTTYPE=image/jpeg:https://calendario.actualizandome.com/wp-content/uploads/2024/01/amcp.jpg
END:VEVENT
BEGIN:VEVENT
DTSTART;TZID=America/Mexico_City:20240117T130000
DTEND;TZID=America/Mexico_City:20240117T140000
DTSTAMP:20260419T133215
CREATED:20240116T212835Z
LAST-MODIFIED:20240116T212835Z
UID:10005952-1705496400-1705500000@calendario.actualizandome.com
SUMMARY:Mezcal Contable - Exención de IEPS al Mezcal. Iniciativas de Reforma - #BarraActualizandome
DESCRIPTION:
URL:https://calendario.actualizandome.com/event/mezcal-contable-exencion-de-ieps-al-mezcal-iniciativas-de-reforma-barraactualizandome/
CATEGORIES:Aula Virtual
ATTACH;FMTTYPE=image/jpeg:https://calendario.actualizandome.com/wp-content/uploads/2024/01/mezcal.jpg
END:VEVENT
BEGIN:VEVENT
DTSTART;TZID=America/Mexico_City:20240117T120000
DTEND;TZID=America/Mexico_City:20240117T130000
DTSTAMP:20260419T133215
CREATED:20240116T212619Z
LAST-MODIFIED:20240116T212619Z
UID:10005951-1705492800-1705496400@calendario.actualizandome.com
SUMMARY:Quadrando la Info - Planes del SAT Para 2024 - #BarraActualizandome
DESCRIPTION:
URL:https://calendario.actualizandome.com/event/quadrando-la-info-planes-del-sat-para-2024-barraactualizandome/
CATEGORIES:Aula Virtual
ATTACH;FMTTYPE=image/jpeg:https://calendario.actualizandome.com/wp-content/uploads/2024/01/quadra.jpg
END:VEVENT
BEGIN:VEVENT
DTSTART;TZID=America/Mexico_City:20240117T110000
DTEND;TZID=America/Mexico_City:20240117T120000
DTSTAMP:20260419T133215
CREATED:20240116T212452Z
LAST-MODIFIED:20240116T212452Z
UID:10005950-1705489200-1705492800@calendario.actualizandome.com
SUMMARY:Foro Fiscal - #BarraActualizandome
DESCRIPTION:
URL:https://calendario.actualizandome.com/event/foro-fiscal-barraactualizandome-8/
CATEGORIES:Aula Virtual
ATTACH;FMTTYPE=image/jpeg:https://calendario.actualizandome.com/wp-content/uploads/2024/01/foro.jpg
END:VEVENT
BEGIN:VEVENT
DTSTART;TZID=America/Mexico_City:20240117T100000
DTEND;TZID=America/Mexico_City:20240117T150000
DTSTAMP:20260419T133215
CREATED:20240106T010544Z
LAST-MODIFIED:20240106T010544Z
UID:10005892-1705485600-1705503600@calendario.actualizandome.com
SUMMARY:Entorno fiscal 2024 y Puntos a revisar  de la Resolución Miscelánea 2024
DESCRIPTION:
URL:https://calendario.actualizandome.com/event/entorno-fiscal-2024-y-puntos-a-revisar-de-la-resolucion-miscelanea-2024/
CATEGORIES:Cursos,On line,Presencial
ATTACH;FMTTYPE=image/png:https://calendario.actualizandome.com/wp-content/uploads/2024/01/rm2024-enro.png
END:VEVENT
BEGIN:VEVENT
DTSTART;TZID=America/Mexico_City:20240117T100000
DTEND;TZID=America/Mexico_City:20240117T120000
DTSTAMP:20260419T133215
CREATED:20240104T155950Z
LAST-MODIFIED:20240123T232011Z
UID:10000824-1705485600-1705492800@calendario.actualizandome.com
SUMMARY:Sesión del Club de estudio sobre Costos
DESCRIPTION:
URL:https://calendario.actualizandome.com/event/club-de-estudio-sobre-costos-2/2024-01-17/
CATEGORIES:academia,Cursos
ATTACH;FMTTYPE=image/png:https://calendario.actualizandome.com/wp-content/uploads/2024/01/relanzamiento-costos-enero-2024-sesiones.png
END:VEVENT
END:VCALENDAR