BEGIN:VCALENDAR
VERSION:2.0
PRODID:-//ACTUALIZANDOME - ECPv6.15.16//NONSGML v1.0//EN
CALSCALE:GREGORIAN
METHOD:PUBLISH
X-ORIGINAL-URL:https://calendario.actualizandome.com
X-WR-CALDESC:Eventos para ACTUALIZANDOME
REFRESH-INTERVAL;VALUE=DURATION:PT1H
X-Robots-Tag:noindex
X-PUBLISHED-TTL:PT1H
BEGIN:VTIMEZONE
TZID:America/Mexico_City
BEGIN:STANDARD
TZOFFSETFROM:-0600
TZOFFSETTO:-0600
TZNAME:CST
DTSTART:20230101T000000
END:STANDARD
END:VTIMEZONE
BEGIN:VEVENT
DTSTART;TZID=America/Mexico_City:20240129T130000
DTEND;TZID=America/Mexico_City:20240129T140000
DTSTAMP:20260419T072815
CREATED:20240126T193057Z
LAST-MODIFIED:20240126T193057Z
UID:10006155-1706533200-1706536800@calendario.actualizandome.com
SUMMARY:La Hora CNCP - #BarraActualizandome
DESCRIPTION:
URL:https://calendario.actualizandome.com/event/la-hora-cncp-barraactualizandome-11/
CATEGORIES:Aula Virtual
ATTACH;FMTTYPE=image/jpeg:https://calendario.actualizandome.com/wp-content/uploads/2024/01/cncp-5.jpg
END:VEVENT
BEGIN:VEVENT
DTSTART;TZID=America/Mexico_City:20240129T120000
DTEND;TZID=America/Mexico_City:20240129T130000
DTSTAMP:20260419T072815
CREATED:20240126T192917Z
LAST-MODIFIED:20240126T192917Z
UID:10006154-1706529600-1706533200@calendario.actualizandome.com
SUMMARY:Foco Financiero - (R)- #BarraActualizandome
DESCRIPTION:
URL:https://calendario.actualizandome.com/event/foco-financiero-r-barraactualizandome-9/
CATEGORIES:Aula Virtual
ATTACH;FMTTYPE=image/jpeg:https://calendario.actualizandome.com/wp-content/uploads/2024/01/foco-3.jpg
END:VEVENT
BEGIN:VEVENT
DTSTART;TZID=America/Mexico_City:20240129T110000
DTEND;TZID=America/Mexico_City:20240129T120000
DTSTAMP:20260419T072815
CREATED:20240126T192738Z
LAST-MODIFIED:20240126T192738Z
UID:10006153-1706526000-1706529600@calendario.actualizandome.com
SUMMARY:Hablemos del Código Fiscal - #BarraActualizandome
DESCRIPTION:
URL:https://calendario.actualizandome.com/event/hablemos-del-codigo-fiscal-barraactualizandome-9/
CATEGORIES:Aula Virtual
ATTACH;FMTTYPE=image/jpeg:https://calendario.actualizandome.com/wp-content/uploads/2024/01/cff.jpg
END:VEVENT
BEGIN:VEVENT
DTSTART;TZID=America/Mexico_City:20240129T100000
DTEND;TZID=America/Mexico_City:20240129T110000
DTSTAMP:20260419T072815
CREATED:20240126T192305Z
LAST-MODIFIED:20240126T192305Z
UID:10006152-1706522400-1706526000@calendario.actualizandome.com
SUMMARY:Reflexionando Desde Israel - #BarraActualizandome
DESCRIPTION:
URL:https://calendario.actualizandome.com/event/reflexionando-desde-israel-barraactualizandome-3/
CATEGORIES:Aula Virtual
ATTACH;FMTTYPE=image/jpeg:https://calendario.actualizandome.com/wp-content/uploads/2024/01/reflex-2.jpg
END:VEVENT
BEGIN:VEVENT
DTSTART;VALUE=DATE:20240129
DTEND;VALUE=DATE:20240130
DTSTAMP:20260419T072815
CREATED:20240124T181152Z
LAST-MODIFIED:20240124T181152Z
UID:10006133-1706486400-1706572799@calendario.actualizandome.com
SUMMARY:Programación de la Barra Actualizandome
DESCRIPTION:
URL:https://calendario.actualizandome.com/event/programacion-de-la-barra-actualizandome-112/
CATEGORIES:Aula Virtual
ATTACH;FMTTYPE=image/jpeg:https://calendario.actualizandome.com/wp-content/uploads/2024/01/lunes-3-scaled.jpg
END:VEVENT
BEGIN:VEVENT
DTSTART;TZID=America/Mexico_City:20240127T090000
DTEND;TZID=America/Mexico_City:20240127T130000
DTSTAMP:20260419T072815
CREATED:20240108T182656Z
LAST-MODIFIED:20240108T182656Z
UID:10005894-1706346000-1706360400@calendario.actualizandome.com
SUMMARY:Perspectiva 2024: Impuestos\, Economía y Finanzas en año Electoral
DESCRIPTION:
URL:https://calendario.actualizandome.com/event/perspectiva-2024-impuestos-economia-y-finanzas-en-ano-electoral/
CATEGORIES:Cursos,Presencial
ATTACH;FMTTYPE=image/jpeg:https://calendario.actualizandome.com/wp-content/uploads/2024/01/promo.jpeg
END:VEVENT
BEGIN:VEVENT
DTSTART;TZID=America/Mexico_City:20240126T180000
DTEND;TZID=America/Mexico_City:20240126T190000
DTSTAMP:20260419T072815
CREATED:20240125T215607Z
LAST-MODIFIED:20240125T234503Z
UID:10006150-1706292000-1706295600@calendario.actualizandome.com
SUMMARY:Asesoría de Riesgos Patrimoniales - Seguro de Gastos Médicos Mayores - #BarraActualizandome
DESCRIPTION:
URL:https://calendario.actualizandome.com/event/asesoria-de-riesgos-patrimoniales-barraactualizandome-3/
CATEGORIES:Aula Virtual
ATTACH;FMTTYPE=image/jpeg:https://calendario.actualizandome.com/wp-content/uploads/2024/01/riesgos-1.jpg
END:VEVENT
BEGIN:VEVENT
DTSTART;TZID=America/Mexico_City:20240126T170000
DTEND;TZID=America/Mexico_City:20240126T180000
DTSTAMP:20260419T072815
CREATED:20240125T215403Z
LAST-MODIFIED:20240125T215403Z
UID:10006149-1706288400-1706292000@calendario.actualizandome.com
SUMMARY:Frecuencia Empresarial - (R) - #BarraActualizandome
DESCRIPTION:
URL:https://calendario.actualizandome.com/event/frecuencia-empresarial-r-barraactualizandome/
CATEGORIES:Aula Virtual
ATTACH;FMTTYPE=image/jpeg:https://calendario.actualizandome.com/wp-content/uploads/2024/01/frecuencia-3.jpg
END:VEVENT
BEGIN:VEVENT
DTSTART;TZID=America/Mexico_City:20240126T130000
DTEND;TZID=America/Mexico_City:20240126T140000
DTSTAMP:20260419T072815
CREATED:20240125T215031Z
LAST-MODIFIED:20240125T215222Z
UID:10006148-1706274000-1706277600@calendario.actualizandome.com
SUMMARY:Compilación Fiscal - (R) - #BarraActualizandome
DESCRIPTION:
URL:https://calendario.actualizandome.com/event/compilacion-fiscal-barraactualizandome-9/
CATEGORIES:Aula Virtual
ATTACH;FMTTYPE=image/jpeg:https://calendario.actualizandome.com/wp-content/uploads/2024/01/compil.jpg
END:VEVENT
BEGIN:VEVENT
DTSTART;TZID=America/Mexico_City:20240126T120000
DTEND;TZID=America/Mexico_City:20240126T130000
DTSTAMP:20260419T072815
CREATED:20240125T214840Z
LAST-MODIFIED:20240125T214840Z
UID:10006147-1706270400-1706274000@calendario.actualizandome.com
SUMMARY:Hablemos del Dictamen Fiscal - #BarraActualizandome
DESCRIPTION:
URL:https://calendario.actualizandome.com/event/hablemos-del-dictamen-fiscal-barraactualizandome-10/
CATEGORIES:Aula Virtual
ATTACH;FMTTYPE=image/jpeg:https://calendario.actualizandome.com/wp-content/uploads/2024/01/dictamen-1.jpg
END:VEVENT
BEGIN:VEVENT
DTSTART;TZID=America/Mexico_City:20240126T110000
DTEND;TZID=America/Mexico_City:20240126T120000
DTSTAMP:20260419T072815
CREATED:20240125T214726Z
LAST-MODIFIED:20240125T214726Z
UID:10006146-1706266800-1706270400@calendario.actualizandome.com
SUMMARY:Yin Yang Fiscal - #BarraActualizandome
DESCRIPTION:
URL:https://calendario.actualizandome.com/event/yin-yang-fiscal-barraactualizandome-10/
CATEGORIES:Aula Virtual
ATTACH;FMTTYPE=image/jpeg:https://calendario.actualizandome.com/wp-content/uploads/2024/01/yin-2.jpg
END:VEVENT
BEGIN:VEVENT
DTSTART;TZID=America/Mexico_City:20240126T110000
DTEND;TZID=America/Mexico_City:20240126T120000
DTSTAMP:20260419T072815
CREATED:20240123T152840Z
LAST-MODIFIED:20240124T170443Z
UID:10005989-1706266800-1706270400@calendario.actualizandome.com
SUMMARY:Club del Sector Primario 2024 3ra Sesión
DESCRIPTION:
URL:https://calendario.actualizandome.com/event/club-del-sector-primario-2024-3ra-sesion/
CATEGORIES:academia,Cursos
ATTACH;FMTTYPE=image/jpeg:https://calendario.actualizandome.com/wp-content/uploads/2024/01/Club-SP-2024-1-scaled.jpg
END:VEVENT
BEGIN:VEVENT
DTSTART;TZID=America/Mexico_City:20240126T100000
DTEND;TZID=America/Mexico_City:20240126T110000
DTSTAMP:20260419T072815
CREATED:20240125T214542Z
LAST-MODIFIED:20240125T214542Z
UID:10006145-1706263200-1706266800@calendario.actualizandome.com
SUMMARY:Conociendo el Mundo Fiscal - Que nos dejó la RMF24 - #BarraActualizandome
DESCRIPTION:
URL:https://calendario.actualizandome.com/event/conociendo-el-mundo-fiscal-que-nos-dejo-la-rmf24-barraactualizandome/
CATEGORIES:Aula Virtual
ATTACH;FMTTYPE=image/jpeg:https://calendario.actualizandome.com/wp-content/uploads/2024/01/mundo-2.jpg
END:VEVENT
BEGIN:VEVENT
DTSTART;VALUE=DATE:20240126
DTEND;VALUE=DATE:20240127
DTSTAMP:20260419T072815
CREATED:20240117T232453Z
LAST-MODIFIED:20240117T232453Z
UID:10005966-1706227200-1706313599@calendario.actualizandome.com
SUMMARY:Programación de la Barra Actualizandome
DESCRIPTION:
URL:https://calendario.actualizandome.com/event/programacion-de-la-barra-actualizandome-111/
CATEGORIES:Aula Virtual
ATTACH;FMTTYPE=image/jpeg:https://calendario.actualizandome.com/wp-content/uploads/2024/01/viernes-2-scaled.jpg
END:VEVENT
BEGIN:VEVENT
DTSTART;TZID=America/Mexico_City:20240125T180000
DTEND;TZID=America/Mexico_City:20240125T190000
DTSTAMP:20260419T072815
CREATED:20240124T184515Z
LAST-MODIFIED:20240124T184515Z
UID:10006144-1706205600-1706209200@calendario.actualizandome.com
SUMMARY:Updating My Intellect - #BarraActualizandome
DESCRIPTION:
URL:https://calendario.actualizandome.com/event/updating-my-intellect-barraactualizandome/
CATEGORIES:Aula Virtual
ATTACH;FMTTYPE=image/jpeg:https://calendario.actualizandome.com/wp-content/uploads/2024/01/upd.jpg
END:VEVENT
BEGIN:VEVENT
DTSTART;TZID=America/Mexico_City:20240125T170000
DTEND;TZID=America/Mexico_City:20240125T180000
DTSTAMP:20260419T072815
CREATED:20240124T184357Z
LAST-MODIFIED:20240124T184357Z
UID:10006143-1706202000-1706205600@calendario.actualizandome.com
SUMMARY:De Impuestos y Otros Demonios - #BarraActualizandome
DESCRIPTION:
URL:https://calendario.actualizandome.com/event/de-impuestos-y-otros-demonios-barraactualizandome-8/
CATEGORIES:Aula Virtual
ATTACH;FMTTYPE=image/jpeg:https://calendario.actualizandome.com/wp-content/uploads/2024/01/impuestos-3.jpg
END:VEVENT
BEGIN:VEVENT
DTSTART;TZID=America/Mexico_City:20240125T140000
DTEND;TZID=America/Mexico_City:20240125T150000
DTSTAMP:20260419T072815
CREATED:20240124T184204Z
LAST-MODIFIED:20240124T184204Z
UID:10006142-1706191200-1706194800@calendario.actualizandome.com
SUMMARY:Tecnología Práctica - #BarraActualizandome
DESCRIPTION:
URL:https://calendario.actualizandome.com/event/tecnologia-practica-barraactualizandome-12/
CATEGORIES:Aula Virtual
ATTACH;FMTTYPE=image/jpeg:https://calendario.actualizandome.com/wp-content/uploads/2024/01/tecnologia-1.jpg
END:VEVENT
BEGIN:VEVENT
DTSTART;TZID=America/Mexico_City:20240125T130000
DTEND;TZID=America/Mexico_City:20240125T140000
DTSTAMP:20260419T072815
CREATED:20240124T184019Z
LAST-MODIFIED:20240124T184019Z
UID:10006141-1706187600-1706191200@calendario.actualizandome.com
SUMMARY:Noticias en Actualizandome - #BarraActualizandome
DESCRIPTION:
URL:https://calendario.actualizandome.com/event/noticias-en-actualizandome-barraactualizandome-20/
CATEGORIES:Aula Virtual
ATTACH;FMTTYPE=image/jpeg:https://calendario.actualizandome.com/wp-content/uploads/2024/01/noti.jpg
END:VEVENT
BEGIN:VEVENT
DTSTART;TZID=America/Mexico_City:20240125T120000
DTEND;TZID=America/Mexico_City:20240125T130000
DTSTAMP:20260419T072815
CREATED:20240124T183901Z
LAST-MODIFIED:20240124T183901Z
UID:10006140-1706184000-1706187600@calendario.actualizandome.com
SUMMARY:Los Derechos Humanos en Serio - #BarraActualizandome
DESCRIPTION:
URL:https://calendario.actualizandome.com/event/los-derechos-humanos-en-serio-barraactualizandome-12/
CATEGORIES:Aula Virtual
ATTACH;FMTTYPE=image/jpeg:https://calendario.actualizandome.com/wp-content/uploads/2024/01/derechos-2.jpg
END:VEVENT
BEGIN:VEVENT
DTSTART;TZID=America/Mexico_City:20240125T110000
DTEND;TZID=America/Mexico_City:20240125T120000
DTSTAMP:20260419T072815
CREATED:20240124T183303Z
LAST-MODIFIED:20240124T183303Z
UID:10006139-1706180400-1706184000@calendario.actualizandome.com
SUMMARY:Simetría Fiscal - #BarraActualizandome
DESCRIPTION:
URL:https://calendario.actualizandome.com/event/simetria-fiscal-barraactualizandome-9/
CATEGORIES:Aula Virtual
ATTACH;FMTTYPE=image/jpeg:https://calendario.actualizandome.com/wp-content/uploads/2024/01/simetria-1.jpg
END:VEVENT
BEGIN:VEVENT
DTSTART;TZID=America/Mexico_City:20240125T100000
DTEND;TZID=America/Mexico_City:20240125T150000
DTSTAMP:20260419T072815
CREATED:20240106T011107Z
LAST-MODIFIED:20240106T011107Z
UID:10005893-1706176800-1706194800@calendario.actualizandome.com
SUMMARY:Videoconferencia Planeaciones\, criterios y riesgos fiscales
DESCRIPTION:
URL:https://calendario.actualizandome.com/event/videoconferencia-planeaciones-criterios-y-riesgos-fiscales/
CATEGORIES:Cursos,Videoconferencia
ATTACH;FMTTYPE=image/png:https://calendario.actualizandome.com/wp-content/uploads/2024/01/ramon-2024.png
END:VEVENT
BEGIN:VEVENT
DTSTART;TZID=America/Mexico_City:20240125T100000
DTEND;TZID=America/Mexico_City:20240125T110000
DTSTAMP:20260419T072815
CREATED:20240124T183144Z
LAST-MODIFIED:20240124T183144Z
UID:10006138-1706176800-1706180400@calendario.actualizandome.com
SUMMARY:Hablemos de Pensiones - (R) - #BarraActualizandome
DESCRIPTION:
URL:https://calendario.actualizandome.com/event/hablemos-de-pensiones-r-barraactualizandome-9/
CATEGORIES:Aula Virtual
ATTACH;FMTTYPE=image/jpeg:https://calendario.actualizandome.com/wp-content/uploads/2024/01/pensiones-2.jpg
END:VEVENT
BEGIN:VEVENT
DTSTART;VALUE=DATE:20240125
DTEND;VALUE=DATE:20240126
DTSTAMP:20260419T072815
CREATED:20240117T232359Z
LAST-MODIFIED:20240117T232359Z
UID:10005965-1706140800-1706227199@calendario.actualizandome.com
SUMMARY:Programación de la Barra Actualizandome
DESCRIPTION:
URL:https://calendario.actualizandome.com/event/programacion-de-la-barra-actualizandome-110/
CATEGORIES:Aula Virtual
ATTACH;FMTTYPE=image/jpeg:https://calendario.actualizandome.com/wp-content/uploads/2024/01/jueves-3-scaled.jpg
END:VEVENT
BEGIN:VEVENT
DTSTART;TZID=America/Mexico_City:20240124T210000
DTEND;TZID=America/Mexico_City:20240124T210000
DTSTAMP:20260419T072815
CREATED:20231109T233529Z
LAST-MODIFIED:20260129T002251Z
UID:10001348-1706130000-1706130000@calendario.actualizandome.com
SUMMARY:Club de estudio sobre Reglas Misceláneas 2026
DESCRIPTION:
URL:https://calendario.actualizandome.com/event/club-de-estudio-sobre-reglas-miscelaneas-2026/2024-01-24/
CATEGORIES:academia,Cursos
ATTACH;FMTTYPE=image/png:https://calendario.actualizandome.com/wp-content/uploads/2023/11/Club-de-estudio-sobre-Reglas-Miscelaneas-2024-26-1400x788-1.png
END:VEVENT
BEGIN:VEVENT
DTSTART;TZID=America/Mexico_City:20240124T200000
DTEND;TZID=America/Mexico_City:20240124T213000
DTSTAMP:20260419T072815
CREATED:20240115T185051Z
LAST-MODIFIED:20240115T185051Z
UID:10005940-1706126400-1706131800@calendario.actualizandome.com
SUMMARY:Sesión del Club de Coaching para Contadores: Organización para Potenciar la Productividad
DESCRIPTION:
URL:https://calendario.actualizandome.com/event/sesion-del-club-de-coaching-para-contadores-organizacion-para-potenciar-la-productividad/
CATEGORIES:academia,Cursos
ATTACH;FMTTYPE=image/jpeg:https://calendario.actualizandome.com/wp-content/uploads/2024/01/WhatsApp-Image-2024-01-15-at-12.35.27.jpeg
END:VEVENT
BEGIN:VEVENT
DTSTART;TZID=America/Mexico_City:20240124T180000
DTEND;TZID=America/Mexico_City:20240124T190000
DTSTAMP:20260419T072815
CREATED:20240123T223854Z
LAST-MODIFIED:20240123T223854Z
UID:10005999-1706119200-1706122800@calendario.actualizandome.com
SUMMARY:Sesión Interactiva - (R) - #BarraActualizandome
DESCRIPTION:
URL:https://calendario.actualizandome.com/event/sesion-interactiva-r-barraactualizandome-6/
CATEGORIES:Aula Virtual
ATTACH;FMTTYPE=image/jpeg:https://calendario.actualizandome.com/wp-content/uploads/2024/01/INTERAC.jpg
END:VEVENT
BEGIN:VEVENT
DTSTART;TZID=America/Mexico_City:20240124T170000
DTEND;TZID=America/Mexico_City:20240124T180000
DTSTAMP:20260419T072815
CREATED:20240123T223713Z
LAST-MODIFIED:20240124T224504Z
UID:10005998-1706115600-1706119200@calendario.actualizandome.com
SUMMARY:Frecuencia Empresarial - Importancia de las PYMES en México - #BarraActualizandome
DESCRIPTION:
URL:https://calendario.actualizandome.com/event/frecuencia-empresarial-barraactualizandome-7/
CATEGORIES:Aula Virtual
ATTACH;FMTTYPE=image/jpeg:https://calendario.actualizandome.com/wp-content/uploads/2024/01/frecuencia-2.jpg
END:VEVENT
BEGIN:VEVENT
DTSTART;TZID=America/Mexico_City:20240124T140000
DTEND;TZID=America/Mexico_City:20240124T150000
DTSTAMP:20260419T072815
CREATED:20240123T232607Z
LAST-MODIFIED:20240124T174343Z
UID:10006132-1706104800-1706108400@calendario.actualizandome.com
SUMMARY:Sesión Interactiva de la Revista Digital Actualizandome Edición 144 – 2da Parte
DESCRIPTION:
URL:https://calendario.actualizandome.com/event/sesion-interactiva-de-la-revista-digital-actualizandome-edicion-144-2da-parte/
CATEGORIES:Aula Virtual
ATTACH;FMTTYPE=image/jpeg:https://calendario.actualizandome.com/wp-content/uploads/2024/01/sesion-interactiva-scaled.jpg
END:VEVENT
BEGIN:VEVENT
DTSTART;TZID=America/Mexico_City:20240124T130000
DTEND;TZID=America/Mexico_City:20240124T140000
DTSTAMP:20260419T072815
CREATED:20240123T223610Z
LAST-MODIFIED:20240123T223610Z
UID:10005997-1706101200-1706104800@calendario.actualizandome.com
SUMMARY:Foco Financiero - #BarraActualizandome
DESCRIPTION:
URL:https://calendario.actualizandome.com/event/foco-financiero-barraactualizandome-10/
CATEGORIES:Aula Virtual
ATTACH;FMTTYPE=image/jpeg:https://calendario.actualizandome.com/wp-content/uploads/2024/01/foco-2.jpg
END:VEVENT
BEGIN:VEVENT
DTSTART;TZID=America/Mexico_City:20240124T120000
DTEND;TZID=America/Mexico_City:20240124T130000
DTSTAMP:20260419T072815
CREATED:20240123T223459Z
LAST-MODIFIED:20240123T223459Z
UID:10005996-1706097600-1706101200@calendario.actualizandome.com
SUMMARY:Estratégica - BarraActualizandome
DESCRIPTION:
URL:https://calendario.actualizandome.com/event/estrategica-barraactualizandome-7/
CATEGORIES:Aula Virtual
ATTACH;FMTTYPE=image/jpeg:https://calendario.actualizandome.com/wp-content/uploads/2024/01/estra.jpg
END:VEVENT
END:VCALENDAR