BEGIN:VCALENDAR
VERSION:2.0
PRODID:-//ACTUALIZANDOME - ECPv6.15.16//NONSGML v1.0//EN
CALSCALE:GREGORIAN
METHOD:PUBLISH
X-ORIGINAL-URL:https://calendario.actualizandome.com
X-WR-CALDESC:Eventos para ACTUALIZANDOME
REFRESH-INTERVAL;VALUE=DURATION:PT1H
X-Robots-Tag:noindex
X-PUBLISHED-TTL:PT1H
BEGIN:VTIMEZONE
TZID:America/Mexico_City
BEGIN:STANDARD
TZOFFSETFROM:-0600
TZOFFSETTO:-0600
TZNAME:CST
DTSTART:20250101T000000
END:STANDARD
END:VTIMEZONE
BEGIN:VEVENT
DTSTART;VALUE=DATE:20260323
DTEND;VALUE=DATE:20260324
DTSTAMP:20260420T124939
CREATED:20260320T205257Z
LAST-MODIFIED:20260320T205257Z
UID:10012005-1774224000-1774310399@calendario.actualizandome.com
SUMMARY:Programación de la Barra Actualizandome
DESCRIPTION:
URL:https://calendario.actualizandome.com/event/programacion-de-la-barra-actualizandome-645/
CATEGORIES:Aula Virtual
ATTACH;FMTTYPE=image/png:https://calendario.actualizandome.com/wp-content/uploads/2026/03/lunes-2.png
END:VEVENT
BEGIN:VEVENT
DTSTART;TZID=America/Mexico_City:20260323T100000
DTEND;TZID=America/Mexico_City:20260323T110000
DTSTAMP:20260420T124939
CREATED:20260320T220322Z
LAST-MODIFIED:20260320T220322Z
UID:10012012-1774260000-1774263600@calendario.actualizandome.com
SUMMARY:Reflexionando Desde Israel (R) - #BarraActualizandome
DESCRIPTION:
URL:https://calendario.actualizandome.com/event/reflexionando-desde-israel-r-barraactualizandome-2/
CATEGORIES:Aula Virtual
ATTACH;FMTTYPE=image/png:https://calendario.actualizandome.com/wp-content/uploads/2026/03/reflex-1.png
END:VEVENT
BEGIN:VEVENT
DTSTART;TZID=America/Mexico_City:20260323T110000
DTEND;TZID=America/Mexico_City:20260323T120000
DTSTAMP:20260420T124939
CREATED:20260320T220450Z
LAST-MODIFIED:20260320T220450Z
UID:10012013-1774263600-1774267200@calendario.actualizandome.com
SUMMARY:Conociendo Actualizandome - #BarraActualizandome
DESCRIPTION:
URL:https://calendario.actualizandome.com/event/conociendo-actualizandome-barraactualizandome-104/
CATEGORIES:Aula Virtual
ATTACH;FMTTYPE=image/png:https://calendario.actualizandome.com/wp-content/uploads/2026/03/actual.png
END:VEVENT
BEGIN:VEVENT
DTSTART;TZID=America/Mexico_City:20260323T120000
DTEND;TZID=America/Mexico_City:20260323T130000
DTSTAMP:20260420T124939
CREATED:20260320T220608Z
LAST-MODIFIED:20260320T220608Z
UID:10012014-1774267200-1774270800@calendario.actualizandome.com
SUMMARY:Curso Básico de Impuestos (R) - #BarraActualizandome
DESCRIPTION:
URL:https://calendario.actualizandome.com/event/curso-basico-de-impuestos-r-barraactualizandome-12/
CATEGORIES:Aula Virtual
ATTACH;FMTTYPE=image/png:https://calendario.actualizandome.com/wp-content/uploads/2026/03/basico-1.png
END:VEVENT
BEGIN:VEVENT
DTSTART;TZID=America/Mexico_City:20260323T130000
DTEND;TZID=America/Mexico_City:20260323T140000
DTSTAMP:20260420T124939
CREATED:20260320T220744Z
LAST-MODIFIED:20260320T220744Z
UID:10012015-1774270800-1774274400@calendario.actualizandome.com
SUMMARY:La Hora AMCPMX - Ajustes Fiscales 2026 - #BarraActualizandome
DESCRIPTION:
URL:https://calendario.actualizandome.com/event/la-hora-amcpmx-ajustes-fiscales-2026-barraactualizandome/
CATEGORIES:Aula Virtual
ATTACH;FMTTYPE=image/png:https://calendario.actualizandome.com/wp-content/uploads/2026/03/amcpmx-1.png
END:VEVENT
BEGIN:VEVENT
DTSTART;TZID=America/Mexico_City:20260323T140000
DTEND;TZID=America/Mexico_City:20260323T150000
DTSTAMP:20260420T124939
CREATED:20260320T220907Z
LAST-MODIFIED:20260320T220907Z
UID:10012016-1774274400-1774278000@calendario.actualizandome.com
SUMMARY:Consultoría Fiscal Empresarial - #BarraActualizandome
DESCRIPTION:
URL:https://calendario.actualizandome.com/event/consultoria-fiscal-empresarial-barraactualizandome-58/
CATEGORIES:Aula Virtual
ATTACH;FMTTYPE=image/png:https://calendario.actualizandome.com/wp-content/uploads/2026/03/consult-1.png
END:VEVENT
BEGIN:VEVENT
DTSTART;TZID=America/Mexico_City:20260323T170000
DTEND;TZID=America/Mexico_City:20260323T180000
DTSTAMP:20260420T124939
CREATED:20260320T221130Z
LAST-MODIFIED:20260320T221130Z
UID:10012017-1774285200-1774288800@calendario.actualizandome.com
SUMMARY:El Derecho y su Círculo de Acción - Globalización y Ciudadanía - #BarraActualizandome
DESCRIPTION:
URL:https://calendario.actualizandome.com/event/el-derecho-y-su-circulo-de-accion-globalizacion-y-ciudadania-barraactualizandome/
CATEGORIES:Aula Virtual
ATTACH;FMTTYPE=image/png:https://calendario.actualizandome.com/wp-content/uploads/2026/03/derecho-1.png
END:VEVENT
BEGIN:VEVENT
DTSTART;TZID=America/Mexico_City:20260323T180000
DTEND;TZID=America/Mexico_City:20260323T190000
DTSTAMP:20260420T124939
CREATED:20260320T221422Z
LAST-MODIFIED:20260320T221949Z
UID:10012018-1774288800-1774292400@calendario.actualizandome.com
SUMMARY:ABC de lo Fiscal - #BarraActualizandome
DESCRIPTION:
URL:https://calendario.actualizandome.com/event/abc-de-lo-fiscal-barraactualizandome-56/
CATEGORIES:Aula Virtual
ATTACH;FMTTYPE=image/png:https://calendario.actualizandome.com/wp-content/uploads/2026/03/abc-1.png
END:VEVENT
BEGIN:VEVENT
DTSTART;VALUE=DATE:20260324
DTEND;VALUE=DATE:20260325
DTSTAMP:20260420T124939
CREATED:20260320T205356Z
LAST-MODIFIED:20260320T205356Z
UID:10012006-1774310400-1774396799@calendario.actualizandome.com
SUMMARY:Programación de la Barra Actualizandome
DESCRIPTION:
URL:https://calendario.actualizandome.com/event/programacion-de-la-barra-actualizandome-646/
CATEGORIES:Aula Virtual
ATTACH;FMTTYPE=image/png:https://calendario.actualizandome.com/wp-content/uploads/2026/03/martes-2.png
END:VEVENT
BEGIN:VEVENT
DTSTART;TZID=America/Mexico_City:20260324T100000
DTEND;TZID=America/Mexico_City:20260324T110000
DTSTAMP:20260420T124939
CREATED:20260323T234616Z
LAST-MODIFIED:20260323T234616Z
UID:10012020-1774346400-1774350000@calendario.actualizandome.com
SUMMARY:El Poder de los Seguros - Mitos y Realidades de los Seguros - #BarraActualizandome
DESCRIPTION:
URL:https://calendario.actualizandome.com/event/el-poder-de-los-seguros-mitos-y-realidades-de-los-seguros-barraactualizandome/
CATEGORIES:Aula Virtual
ATTACH;FMTTYPE=image/png:https://calendario.actualizandome.com/wp-content/uploads/2026/03/poder-1.png
END:VEVENT
BEGIN:VEVENT
DTSTART;TZID=America/Mexico_City:20260324T100000
DTEND;TZID=America/Mexico_City:20260324T113000
DTSTAMP:20260420T124939
CREATED:20260302T194425Z
LAST-MODIFIED:20260302T194425Z
UID:10011542-1774346400-1774351800@calendario.actualizandome.com
SUMMARY:Sesión Club de Estudio Contable Fiscal de las Abarroteras
DESCRIPTION:
URL:https://calendario.actualizandome.com/event/sesion-club-de-estudio-contable-fiscal-de-las-abarroteras-4/
CATEGORIES:academia,Videoconferencia
ATTACH;FMTTYPE=image/png:https://calendario.actualizandome.com/wp-content/uploads/2026/03/4.png
END:VEVENT
BEGIN:VEVENT
DTSTART;TZID=America/Mexico_City:20260324T110000
DTEND;TZID=America/Mexico_City:20260324T120000
DTSTAMP:20260420T124939
CREATED:20260323T234732Z
LAST-MODIFIED:20260323T234732Z
UID:10012021-1774350000-1774353600@calendario.actualizandome.com
SUMMARY:Tópicos de Seguridad Social - #BarraActualizandome
DESCRIPTION:
URL:https://calendario.actualizandome.com/event/topicos-de-seguridad-social-barraactualizandome-25/
CATEGORIES:Aula Virtual
ATTACH;FMTTYPE=image/png:https://calendario.actualizandome.com/wp-content/uploads/2026/03/topss-1.png
END:VEVENT
BEGIN:VEVENT
DTSTART;TZID=America/Mexico_City:20260324T120000
DTEND;TZID=America/Mexico_City:20260324T130000
DTSTAMP:20260420T124939
CREATED:20260323T234829Z
LAST-MODIFIED:20260323T234829Z
UID:10012022-1774353600-1774357200@calendario.actualizandome.com
SUMMARY:Panorama Empresarial - #BarraActualizandome
DESCRIPTION:
URL:https://calendario.actualizandome.com/event/panorama-empresarial-barraactualizandome-55/
CATEGORIES:Aula Virtual
ATTACH;FMTTYPE=image/png:https://calendario.actualizandome.com/wp-content/uploads/2026/03/panoram-1.png
END:VEVENT
BEGIN:VEVENT
DTSTART;TZID=America/Mexico_City:20260324T130000
DTEND;TZID=America/Mexico_City:20260324T140000
DTSTAMP:20260420T124939
CREATED:20260323T234952Z
LAST-MODIFIED:20260323T234952Z
UID:10012023-1774357200-1774360800@calendario.actualizandome.com
SUMMARY:Transformación\, Fusión y Liquidación de Sociedades (R) - #BarraActualizandome
DESCRIPTION:
URL:https://calendario.actualizandome.com/event/transformacion-fusion-y-liquidacion-de-sociedades-r-barraactualizandome-8/
CATEGORIES:Aula Virtual
ATTACH;FMTTYPE=image/png:https://calendario.actualizandome.com/wp-content/uploads/2026/03/sociedades.png
END:VEVENT
BEGIN:VEVENT
DTSTART;TZID=America/Mexico_City:20260324T170000
DTEND;TZID=America/Mexico_City:20260324T180000
DTSTAMP:20260420T124939
CREATED:20260323T235050Z
LAST-MODIFIED:20260323T235050Z
UID:10012024-1774371600-1774375200@calendario.actualizandome.com
SUMMARY:Mitos y Realidades Tributarias - #BarraActualizandome
DESCRIPTION:
URL:https://calendario.actualizandome.com/event/mitos-y-realidades-tributarias-barraactualizandome-31/
CATEGORIES:Aula Virtual
ATTACH;FMTTYPE=image/png:https://calendario.actualizandome.com/wp-content/uploads/2026/03/mitos.png
END:VEVENT
BEGIN:VEVENT
DTSTART;TZID=America/Mexico_City:20260324T180000
DTEND;TZID=America/Mexico_City:20260324T190000
DTSTAMP:20260420T124939
CREATED:20260323T235201Z
LAST-MODIFIED:20260323T235201Z
UID:10012025-1774375200-1774378800@calendario.actualizandome.com
SUMMARY:Sesión Interactiva (R) - #BarraActualizandome
DESCRIPTION:
URL:https://calendario.actualizandome.com/event/sesion-interactiva-r-barraactualizandome-23/
CATEGORIES:Aula Virtual
ATTACH;FMTTYPE=image/png:https://calendario.actualizandome.com/wp-content/uploads/2026/03/interac.png
END:VEVENT
BEGIN:VEVENT
DTSTART;VALUE=DATE:20260325
DTEND;VALUE=DATE:20260326
DTSTAMP:20260420T124939
CREATED:20260320T205506Z
LAST-MODIFIED:20260324T182924Z
UID:10012007-1774396800-1774483199@calendario.actualizandome.com
SUMMARY:Programación de la Barra Actualizandome
DESCRIPTION:
URL:https://calendario.actualizandome.com/event/programacion-de-la-barra-actualizandome-647/
CATEGORIES:Aula Virtual
ATTACH;FMTTYPE=image/png:https://calendario.actualizandome.com/wp-content/uploads/2026/03/miercs-2.png
END:VEVENT
BEGIN:VEVENT
DTSTART;TZID=America/Mexico_City:20260325T100000
DTEND;TZID=America/Mexico_City:20260325T110000
DTSTAMP:20260420T124939
CREATED:20260324T201234Z
LAST-MODIFIED:20260325T161216Z
UID:10012029-1774432800-1774436400@calendario.actualizandome.com
SUMMARY:Tríada Fiscal - #BarraActualizandome
DESCRIPTION:
URL:https://calendario.actualizandome.com/event/triada-fiscal-depositos-bancarios-cuando-se-convierten-en-un-problema-fiscal-barraactualizandome-2/
CATEGORIES:Aula Virtual
ATTACH;FMTTYPE=image/png:https://calendario.actualizandome.com/wp-content/uploads/2026/03/triada-3.png
END:VEVENT
BEGIN:VEVENT
DTSTART;TZID=America/Mexico_City:20260325T110000
DTEND;TZID=America/Mexico_City:20260325T120000
DTSTAMP:20260420T124939
CREATED:20260324T201416Z
LAST-MODIFIED:20260324T201416Z
UID:10012030-1774436400-1774440000@calendario.actualizandome.com
SUMMARY:Foro Fiscal - #BarraActualizandome
DESCRIPTION:
URL:https://calendario.actualizandome.com/event/foro-fiscal-barraactualizandome-58/
CATEGORIES:Aula Virtual
ATTACH;FMTTYPE=image/png:https://calendario.actualizandome.com/wp-content/uploads/2026/03/foro-1.png
END:VEVENT
BEGIN:VEVENT
DTSTART;TZID=America/Mexico_City:20260325T120000
DTEND;TZID=America/Mexico_City:20260325T130000
DTSTAMP:20260420T124939
CREATED:20260321T170922Z
LAST-MODIFIED:20260321T170922Z
UID:10012019-1774440000-1774443600@calendario.actualizandome.com
SUMMARY:Radar Jurídico - La Obligación alimentaria del padre biológico desde el nacimiento. Un criterio relevante de la Suprema Corte de Justicia de la Nación. - #BarraActualizandome
DESCRIPTION:
URL:https://calendario.actualizandome.com/event/radar-juridico-la-obligacion-alimentaria-del-padre-biologico-desde-el-nacimiento-un-criterio-relevante-de-la-suprema-corte-de-justicia-de-la-nacion-barraactualizandome/
CATEGORIES:Aula Virtual
ATTACH;FMTTYPE=image/jpeg:https://calendario.actualizandome.com/wp-content/uploads/2026/03/radar.jpg
END:VEVENT
BEGIN:VEVENT
DTSTART;TZID=America/Mexico_City:20260325T130000
DTEND;TZID=America/Mexico_City:20260325T140000
DTSTAMP:20260420T124939
CREATED:20260324T201650Z
LAST-MODIFIED:20260324T201650Z
UID:10012031-1774443600-1774447200@calendario.actualizandome.com
SUMMARY:Punto Fiscal - #BarraActualizandome
DESCRIPTION:
URL:https://calendario.actualizandome.com/event/punto-fiscal-barraactualizandome-13/
CATEGORIES:Aula Virtual
ATTACH;FMTTYPE=image/png:https://calendario.actualizandome.com/wp-content/uploads/2026/03/puntf.png
END:VEVENT
BEGIN:VEVENT
DTSTART;TZID=America/Mexico_City:20260325T170000
DTEND;TZID=America/Mexico_City:20260325T180000
DTSTAMP:20260420T124939
CREATED:20260324T201850Z
LAST-MODIFIED:20260324T201850Z
UID:10012032-1774458000-1774461600@calendario.actualizandome.com
SUMMARY:Compliance más allá de la Norma - #BarraActualizandome
DESCRIPTION:
URL:https://calendario.actualizandome.com/event/compliance-mas-alla-de-la-norma-barraactualizandome-48/
CATEGORIES:Aula Virtual
ATTACH;FMTTYPE=image/png:https://calendario.actualizandome.com/wp-content/uploads/2026/03/compliance-1.png
END:VEVENT
BEGIN:VEVENT
DTSTART;TZID=America/Mexico_City:20260325T180000
DTEND;TZID=America/Mexico_City:20260325T190000
DTSTAMP:20260420T124939
CREATED:20260324T202122Z
LAST-MODIFIED:20260324T202122Z
UID:10012033-1774461600-1774465200@calendario.actualizandome.com
SUMMARY:Defensa Fiscal a la Medida - #BarraActualizandome
DESCRIPTION:
URL:https://calendario.actualizandome.com/event/defensa-fiscal-a-la-medida-barraactualizandome-36/
CATEGORIES:Aula Virtual
ATTACH;FMTTYPE=image/png:https://calendario.actualizandome.com/wp-content/uploads/2026/03/defensa-2.png
END:VEVENT
BEGIN:VEVENT
DTSTART;TZID=America/Mexico_City:20260325T210000
DTEND;TZID=America/Mexico_City:20260325T210000
DTSTAMP:20260420T124939
CREATED:20231109T233529Z
LAST-MODIFIED:20260129T002251Z
UID:10001461-1774472400-1774472400@calendario.actualizandome.com
SUMMARY:Club de estudio sobre Reglas Misceláneas 2026
DESCRIPTION:
URL:https://calendario.actualizandome.com/event/club-de-estudio-sobre-reglas-miscelaneas-2026/2026-03-25/
CATEGORIES:academia,Cursos
ATTACH;FMTTYPE=image/png:https://calendario.actualizandome.com/wp-content/uploads/2023/11/Club-de-estudio-sobre-Reglas-Miscelaneas-2024-26-1400x788-1.png
END:VEVENT
BEGIN:VEVENT
DTSTART;VALUE=DATE:20260326
DTEND;VALUE=DATE:20260327
DTSTAMP:20260420T124939
CREATED:20260320T205604Z
LAST-MODIFIED:20260325T201913Z
UID:10012008-1774483200-1774569599@calendario.actualizandome.com
SUMMARY:Programación de la Barra Actualizandome
DESCRIPTION:
URL:https://calendario.actualizandome.com/event/programacion-de-la-barra-actualizandome-648/
CATEGORIES:Aula Virtual
ATTACH;FMTTYPE=image/png:https://calendario.actualizandome.com/wp-content/uploads/2026/03/jueves-1.png
END:VEVENT
BEGIN:VEVENT
DTSTART;TZID=America/Mexico_City:20260326T100000
DTEND;TZID=America/Mexico_City:20260326T110000
DTSTAMP:20260420T124939
CREATED:20260325T211249Z
LAST-MODIFIED:20260325T211249Z
UID:10012035-1774519200-1774522800@calendario.actualizandome.com
SUMMARY:En Sintonía Fiscal - Devoluciones Personas Físicas - #BarraActualizandome
DESCRIPTION:
URL:https://calendario.actualizandome.com/event/en-sintonia-fiscal-devoluciones-personas-fisicas-barraactualizandome/
CATEGORIES:Aula Virtual
ATTACH;FMTTYPE=image/png:https://calendario.actualizandome.com/wp-content/uploads/2026/03/sintonia-1.png
END:VEVENT
BEGIN:VEVENT
DTSTART;TZID=America/Mexico_City:20260326T100000
DTEND;TZID=America/Mexico_City:20260326T140000
DTSTAMP:20260420T124939
CREATED:20260303T010012Z
LAST-MODIFIED:20260321T192739Z
UID:10011550-1774519200-1774533600@calendario.actualizandome.com
SUMMARY:DECLARACIÓN ANUAL PERSONAS FÍSICAS ANTE SUS DIVERSOS INGRESOS A DECLARAR 2025 - Presencial y On-Line
DESCRIPTION:
URL:https://calendario.actualizandome.com/event/declaracion-anual-personas-fisicas-ante-sus-diversos-ingresos-a-declarar-2025-presencial-y-on-line/
CATEGORIES:Cursos,On line,Presencial
ATTACH;FMTTYPE=image/png:https://calendario.actualizandome.com/wp-content/uploads/2026/03/Blue-and-Purple-Modern-Business-Services-Facebook-Post-2026-03-21T132317.325.png
END:VEVENT
BEGIN:VEVENT
DTSTART;TZID=America/Mexico_City:20260326T110000
DTEND;TZID=America/Mexico_City:20260326T120000
DTSTAMP:20260420T124939
CREATED:20260325T211421Z
LAST-MODIFIED:20260325T211421Z
UID:10012036-1774522800-1774526400@calendario.actualizandome.com
SUMMARY:Desde la Experiencia: Finanzas y Valores - #BarraActualizandome
DESCRIPTION:
URL:https://calendario.actualizandome.com/event/desde-la-experiencia-finanzas-y-valores-barraactualizandome-11/
CATEGORIES:Aula Virtual
ATTACH;FMTTYPE=image/png:https://calendario.actualizandome.com/wp-content/uploads/2026/03/desde-2.png
END:VEVENT
BEGIN:VEVENT
DTSTART;TZID=America/Mexico_City:20260326T120000
DTEND;TZID=America/Mexico_City:20260326T130000
DTSTAMP:20260420T124939
CREATED:20260324T202257Z
LAST-MODIFIED:20260324T202257Z
UID:10012034-1774526400-1774530000@calendario.actualizandome.com
SUMMARY:Diálogos Fiscales - Defensa Fiscal vs Créditos y/o Multas INFONAVIT - #BarraActualizandome
DESCRIPTION:
URL:https://calendario.actualizandome.com/event/dialogos-fiscales-defensa-fiscal-vs-creditos-y-o-multas-infonavit-barraactualizandome/
CATEGORIES:Aula Virtual
ATTACH;FMTTYPE=image/png:https://calendario.actualizandome.com/wp-content/uploads/2026/03/dialogos.png
END:VEVENT
BEGIN:VEVENT
DTSTART;TZID=America/Mexico_City:20260326T130000
DTEND;TZID=America/Mexico_City:20260326T140000
DTSTAMP:20260420T124939
CREATED:20260325T211536Z
LAST-MODIFIED:20260325T211536Z
UID:10012037-1774530000-1774533600@calendario.actualizandome.com
SUMMARY:Participando en Grupo - #BarraActualizandome
DESCRIPTION:
URL:https://calendario.actualizandome.com/event/participando-en-grupo-barraactualizandome-44/
CATEGORIES:Aula Virtual
ATTACH;FMTTYPE=image/png:https://calendario.actualizandome.com/wp-content/uploads/2026/03/participando.png
END:VEVENT
END:VCALENDAR