BEGIN:VCALENDAR
VERSION:2.0
PRODID:-//ACTUALIZANDOME - ECPv6.15.16//NONSGML v1.0//EN
CALSCALE:GREGORIAN
METHOD:PUBLISH
X-ORIGINAL-URL:https://calendario.actualizandome.com
X-WR-CALDESC:Eventos para ACTUALIZANDOME
REFRESH-INTERVAL;VALUE=DURATION:PT1H
X-Robots-Tag:noindex
X-PUBLISHED-TTL:PT1H
BEGIN:VTIMEZONE
TZID:America/Mexico_City
BEGIN:STANDARD
TZOFFSETFROM:-0600
TZOFFSETTO:-0600
TZNAME:CST
DTSTART:20250101T000000
END:STANDARD
END:VTIMEZONE
BEGIN:VEVENT
DTSTART;TZID=America/Mexico_City:20260307T120000
DTEND;TZID=America/Mexico_City:20260307T140000
DTSTAMP:20260421T134711
CREATED:20260305T230539Z
LAST-MODIFIED:20260305T230539Z
UID:10011575-1772884800-1772892000@calendario.actualizandome.com
SUMMARY:Sesión del Club de Reglas Misceláneas 2026 REGULARIZACIÓN FISCAL 2026
DESCRIPTION:
URL:https://calendario.actualizandome.com/event/sesion-del-club-de-reglas-miscelaneas-2026-regularizacion-fiscal-2026/
CATEGORIES:academia,Cursos,Videoconferencia
ATTACH;FMTTYPE=image/png:https://calendario.actualizandome.com/wp-content/uploads/2026/03/Celebrando-la-Contaduria-Publica-47.png
END:VEVENT
BEGIN:VEVENT
DTSTART;VALUE=DATE:20260309
DTEND;VALUE=DATE:20260310
DTSTAMP:20260421T134711
CREATED:20260305T223321Z
LAST-MODIFIED:20260305T223321Z
UID:10011570-1773014400-1773100799@calendario.actualizandome.com
SUMMARY:Programación de la Barra Actualizandome
DESCRIPTION:
URL:https://calendario.actualizandome.com/event/programacion-de-la-barra-actualizandome-635/
CATEGORIES:Aula Virtual
ATTACH;FMTTYPE=image/png:https://calendario.actualizandome.com/wp-content/uploads/2026/03/lunes.png
END:VEVENT
BEGIN:VEVENT
DTSTART;TZID=America/Mexico_City:20260309T100000
DTEND;TZID=America/Mexico_City:20260309T110000
DTSTAMP:20260421T134711
CREATED:20260306T194247Z
LAST-MODIFIED:20260306T194247Z
UID:10011945-1773050400-1773054000@calendario.actualizandome.com
SUMMARY:Reflexionando Desde Israel - #BarraActualizandome
DESCRIPTION:
URL:https://calendario.actualizandome.com/event/reflexionando-desde-israel-barraactualizandome-44/
CATEGORIES:Aula Virtual
ATTACH;FMTTYPE=image/png:https://calendario.actualizandome.com/wp-content/uploads/2026/03/reflex.png
END:VEVENT
BEGIN:VEVENT
DTSTART;TZID=America/Mexico_City:20260309T110000
DTEND;TZID=America/Mexico_City:20260309T120000
DTSTAMP:20260421T134711
CREATED:20260306T194522Z
LAST-MODIFIED:20260306T194522Z
UID:10011946-1773054000-1773057600@calendario.actualizandome.com
SUMMARY:Conociendo Actualizandome - #BarraActualizandome
DESCRIPTION:
URL:https://calendario.actualizandome.com/event/conociendo-actualizandome-barraactualizandome-103/
CATEGORIES:Aula Virtual
ATTACH;FMTTYPE=image/png:https://calendario.actualizandome.com/wp-content/uploads/2026/03/actuali.png
END:VEVENT
BEGIN:VEVENT
DTSTART;TZID=America/Mexico_City:20260309T120000
DTEND;TZID=America/Mexico_City:20260309T130000
DTSTAMP:20260421T134711
CREATED:20260306T194652Z
LAST-MODIFIED:20260306T194652Z
UID:10011947-1773057600-1773061200@calendario.actualizandome.com
SUMMARY:Curso Básico de Impuestos (R) - #BarraActualizandome
DESCRIPTION:
URL:https://calendario.actualizandome.com/event/curso-basico-de-impuestos-r-barraactualizandome-8/
CATEGORIES:Aula Virtual
ATTACH;FMTTYPE=image/png:https://calendario.actualizandome.com/wp-content/uploads/2026/03/basico.png
END:VEVENT
BEGIN:VEVENT
DTSTART;TZID=America/Mexico_City:20260309T130000
DTEND;TZID=America/Mexico_City:20260309T140000
DTSTAMP:20260421T134711
CREATED:20260306T194846Z
LAST-MODIFIED:20260306T194846Z
UID:10011948-1773061200-1773064800@calendario.actualizandome.com
SUMMARY:La Hora AMCPMX - Gobernar con la Inteligencia Artificial - 2da. Sesión - #BarraActualizandome
DESCRIPTION:
URL:https://calendario.actualizandome.com/event/la-hora-amcpmx-gobernar-con-la-inteligencia-artificial-2da-sesion-barraactualizandome/
CATEGORIES:Aula Virtual
ATTACH;FMTTYPE=image/png:https://calendario.actualizandome.com/wp-content/uploads/2026/03/amcpmx.png
END:VEVENT
BEGIN:VEVENT
DTSTART;TZID=America/Mexico_City:20260309T140000
DTEND;TZID=America/Mexico_City:20260309T150000
DTSTAMP:20260421T134711
CREATED:20260306T195017Z
LAST-MODIFIED:20260306T195017Z
UID:10011949-1773064800-1773068400@calendario.actualizandome.com
SUMMARY:Consultoría Fiscal Empresarial - #BarraActualizandome
DESCRIPTION:
URL:https://calendario.actualizandome.com/event/consultoria-fiscal-empresarial-barraactualizandome-57/
CATEGORIES:Aula Virtual
ATTACH;FMTTYPE=image/png:https://calendario.actualizandome.com/wp-content/uploads/2026/03/consult.png
END:VEVENT
BEGIN:VEVENT
DTSTART;TZID=America/Mexico_City:20260309T170000
DTEND;TZID=America/Mexico_City:20260309T180000
DTSTAMP:20260421T134711
CREATED:20260306T195437Z
LAST-MODIFIED:20260306T195437Z
UID:10011950-1773075600-1773079200@calendario.actualizandome.com
SUMMARY:El Derecho y su Círculo de Acción - Movimientos Sociales en los Derechos Humanos - #BarraActualizandome
DESCRIPTION:
URL:https://calendario.actualizandome.com/event/el-derecho-y-su-circulo-de-accion-movimientos-sociales-en-los-derechos-humanos-barraactualizandome/
CATEGORIES:Aula Virtual
ATTACH;FMTTYPE=image/png:https://calendario.actualizandome.com/wp-content/uploads/2026/03/derecho.png
END:VEVENT
BEGIN:VEVENT
DTSTART;TZID=America/Mexico_City:20260309T180000
DTEND;TZID=America/Mexico_City:20260309T190000
DTSTAMP:20260421T134711
CREATED:20260306T195611Z
LAST-MODIFIED:20260306T195627Z
UID:10011951-1773079200-1773082800@calendario.actualizandome.com
SUMMARY:ABC de lo Fiscal - #BarraActualizandome
DESCRIPTION:
URL:https://calendario.actualizandome.com/event/abc-de-lo-fiscal-barraactualizandome-55/
CATEGORIES:Aula Virtual
ATTACH;FMTTYPE=image/png:https://calendario.actualizandome.com/wp-content/uploads/2026/03/abc.png
END:VEVENT
BEGIN:VEVENT
DTSTART;VALUE=DATE:20260310
DTEND;VALUE=DATE:20260311
DTSTAMP:20260421T134711
CREATED:20260305T223413Z
LAST-MODIFIED:20260305T223413Z
UID:10011571-1773100800-1773187199@calendario.actualizandome.com
SUMMARY:Programación de la Barra Actualizandome
DESCRIPTION:
URL:https://calendario.actualizandome.com/event/programacion-de-la-barra-actualizandome-636/
CATEGORIES:Aula Virtual
ATTACH;FMTTYPE=image/png:https://calendario.actualizandome.com/wp-content/uploads/2026/03/marts.png
END:VEVENT
BEGIN:VEVENT
DTSTART;TZID=America/Mexico_City:20260310T100000
DTEND;TZID=America/Mexico_City:20260310T110000
DTSTAMP:20260421T134711
CREATED:20260309T223658Z
LAST-MODIFIED:20260309T223658Z
UID:10011952-1773136800-1773140400@calendario.actualizandome.com
SUMMARY:El Poder de los Seguros - #BarraActualizandome
DESCRIPTION:
URL:https://calendario.actualizandome.com/event/el-poder-de-los-seguros-barraactualizandome-51/
CATEGORIES:Aula Virtual
ATTACH;FMTTYPE=image/png:https://calendario.actualizandome.com/wp-content/uploads/2026/03/poder.png
END:VEVENT
BEGIN:VEVENT
DTSTART;TZID=America/Mexico_City:20260310T100000
DTEND;TZID=America/Mexico_City:20260310T113000
DTSTAMP:20260421T134711
CREATED:20260302T194248Z
LAST-MODIFIED:20260302T194248Z
UID:10011540-1773136800-1773142200@calendario.actualizandome.com
SUMMARY:Sesión Club de Estudio Contable Fiscal de las Abarroteras
DESCRIPTION:
URL:https://calendario.actualizandome.com/event/sesion-club-de-estudio-contable-fiscal-de-las-abarroteras-2/
CATEGORIES:academia,Videoconferencia
ATTACH;FMTTYPE=image/png:https://calendario.actualizandome.com/wp-content/uploads/2026/03/2.png
END:VEVENT
BEGIN:VEVENT
DTSTART;TZID=America/Mexico_City:20260310T110000
DTEND;TZID=America/Mexico_City:20260310T120000
DTSTAMP:20260421T134711
CREATED:20260309T223814Z
LAST-MODIFIED:20260310T161122Z
UID:10011953-1773140400-1773144000@calendario.actualizandome.com
SUMMARY:Tópicos de Seguridad Social - Reducción de la Jornada - #BarraActualizandome
DESCRIPTION:
URL:https://calendario.actualizandome.com/event/topicos-de-seguridad-social-barraactualizandome-24/
CATEGORIES:Aula Virtual
ATTACH;FMTTYPE=image/png:https://calendario.actualizandome.com/wp-content/uploads/2026/03/tss.png
END:VEVENT
BEGIN:VEVENT
DTSTART;TZID=America/Mexico_City:20260310T120000
DTEND;TZID=America/Mexico_City:20260310T130000
DTSTAMP:20260421T134711
CREATED:20260309T223916Z
LAST-MODIFIED:20260309T223916Z
UID:10011954-1773144000-1773147600@calendario.actualizandome.com
SUMMARY:Panorama Empresarial - #BarraActualizandome
DESCRIPTION:
URL:https://calendario.actualizandome.com/event/panorama-empresarial-barraactualizandome-54/
CATEGORIES:Aula Virtual
ATTACH;FMTTYPE=image/png:https://calendario.actualizandome.com/wp-content/uploads/2026/03/panoram.png
END:VEVENT
BEGIN:VEVENT
DTSTART;TZID=America/Mexico_City:20260310T130000
DTEND;TZID=America/Mexico_City:20260310T140000
DTSTAMP:20260421T134711
CREATED:20260309T224051Z
LAST-MODIFIED:20260309T224051Z
UID:10011955-1773147600-1773151200@calendario.actualizandome.com
SUMMARY:Transformación\, Fusión y Liquidación de Sociedades (R) - #BarraActualizandome
DESCRIPTION:
URL:https://calendario.actualizandome.com/event/transformacion-fusion-y-liquidacion-de-sociedades-r-barraactualizandome-7/
CATEGORIES:Aula Virtual
ATTACH;FMTTYPE=image/png:https://calendario.actualizandome.com/wp-content/uploads/2026/03/socied.png
END:VEVENT
BEGIN:VEVENT
DTSTART;TZID=America/Mexico_City:20260310T170000
DTEND;TZID=America/Mexico_City:20260310T180000
DTSTAMP:20260421T134711
CREATED:20260309T224230Z
LAST-MODIFIED:20260309T224230Z
UID:10011956-1773162000-1773165600@calendario.actualizandome.com
SUMMARY:Mitos y Realidades Tributarias - #BarraActualizandome
DESCRIPTION:
URL:https://calendario.actualizandome.com/event/mitos-y-realidades-tributarias-barraactualizandome-30/
CATEGORIES:Aula Virtual
ATTACH;FMTTYPE=image/png:https://calendario.actualizandome.com/wp-content/uploads/2026/03/mito.png
END:VEVENT
BEGIN:VEVENT
DTSTART;TZID=America/Mexico_City:20260310T180000
DTEND;TZID=America/Mexico_City:20260310T190000
DTSTAMP:20260421T134711
CREATED:20260309T224414Z
LAST-MODIFIED:20260309T224431Z
UID:10011957-1773165600-1773169200@calendario.actualizandome.com
SUMMARY:Sesión Interactiva de la Revista Digital Actualizandome (R) - #BarraActualizandome
DESCRIPTION:
URL:https://calendario.actualizandome.com/event/sesion-interactiva-de-la-revista-digital-actualizandome-r-barraactualizandome-23/
CATEGORIES:Aula Virtual
ATTACH;FMTTYPE=image/png:https://calendario.actualizandome.com/wp-content/uploads/2026/03/interact.png
END:VEVENT
BEGIN:VEVENT
DTSTART;VALUE=DATE:20260311
DTEND;VALUE=DATE:20260312
DTSTAMP:20260421T134712
CREATED:20260305T223722Z
LAST-MODIFIED:20260305T223722Z
UID:10011572-1773187200-1773273599@calendario.actualizandome.com
SUMMARY:Programación de la Barra Actualizandome
DESCRIPTION:
URL:https://calendario.actualizandome.com/event/programacion-de-la-barra-actualizandome-637/
CATEGORIES:Aula Virtual
ATTACH;FMTTYPE=image/png:https://calendario.actualizandome.com/wp-content/uploads/2026/03/miercs.png
END:VEVENT
BEGIN:VEVENT
DTSTART;TZID=America/Mexico_City:20260311T100000
DTEND;TZID=America/Mexico_City:20260311T110000
DTSTAMP:20260421T134712
CREATED:20260310T222326Z
LAST-MODIFIED:20260311T165015Z
UID:10011958-1773223200-1773226800@calendario.actualizandome.com
SUMMARY:Tríada Fiscal - #BarraActualizandome
DESCRIPTION:
URL:https://calendario.actualizandome.com/event/triada-fiscal-depositos-bancarios-cuando-se-convierten-en-un-problema-fiscal-barraactualizandome/
CATEGORIES:Aula Virtual
ATTACH;FMTTYPE=image/png:https://calendario.actualizandome.com/wp-content/uploads/2026/03/triada-1.png
END:VEVENT
BEGIN:VEVENT
DTSTART;TZID=America/Mexico_City:20260311T110000
DTEND;TZID=America/Mexico_City:20260311T120000
DTSTAMP:20260421T134712
CREATED:20260310T222724Z
LAST-MODIFIED:20260310T222724Z
UID:10011959-1773226800-1773230400@calendario.actualizandome.com
SUMMARY:Foro Fiscal - #BarraActualizandome
DESCRIPTION:
URL:https://calendario.actualizandome.com/event/foro-fiscal-barraactualizandome-57/
CATEGORIES:Aula Virtual
ATTACH;FMTTYPE=image/png:https://calendario.actualizandome.com/wp-content/uploads/2026/03/foro.png
END:VEVENT
BEGIN:VEVENT
DTSTART;TZID=America/Mexico_City:20260311T120000
DTEND;TZID=America/Mexico_City:20260311T130000
DTSTAMP:20260421T134712
CREATED:20260310T223156Z
LAST-MODIFIED:20260310T223156Z
UID:10011960-1773230400-1773234000@calendario.actualizandome.com
SUMMARY:Curso Básico de Impuestos (R) – #BarraActualizandome
DESCRIPTION:
URL:https://calendario.actualizandome.com/event/curso-basico-de-impuestos-r-barraactualizandome-9/
CATEGORIES:Aula Virtual
ATTACH;FMTTYPE=image/png:https://calendario.actualizandome.com/wp-content/uploads/2026/03/imptos-1.png
END:VEVENT
BEGIN:VEVENT
DTSTART;TZID=America/Mexico_City:20260311T130000
DTEND;TZID=America/Mexico_City:20260311T140000
DTSTAMP:20260421T134712
CREATED:20260310T223309Z
LAST-MODIFIED:20260310T223309Z
UID:10011961-1773234000-1773237600@calendario.actualizandome.com
SUMMARY:Punto Fiscal - #BarraActualizandome
DESCRIPTION:
URL:https://calendario.actualizandome.com/event/punto-fiscal-barraactualizandome-12/
CATEGORIES:Aula Virtual
ATTACH;FMTTYPE=image/png:https://calendario.actualizandome.com/wp-content/uploads/2026/03/punto-fiscal.png
END:VEVENT
BEGIN:VEVENT
DTSTART;TZID=America/Mexico_City:20260311T170000
DTEND;TZID=America/Mexico_City:20260311T180000
DTSTAMP:20260421T134712
CREATED:20260310T223455Z
LAST-MODIFIED:20260310T223455Z
UID:10011962-1773248400-1773252000@calendario.actualizandome.com
SUMMARY:Compliance más allá de la Norma - #BarraActualizandome
DESCRIPTION:
URL:https://calendario.actualizandome.com/event/compliance-mas-alla-de-la-norma-barraactualizandome-47/
CATEGORIES:Aula Virtual
ATTACH;FMTTYPE=image/png:https://calendario.actualizandome.com/wp-content/uploads/2026/03/compliance.png
END:VEVENT
BEGIN:VEVENT
DTSTART;TZID=America/Mexico_City:20260311T180000
DTEND;TZID=America/Mexico_City:20260311T190000
DTSTAMP:20260421T134712
CREATED:20260310T223601Z
LAST-MODIFIED:20260310T223601Z
UID:10011963-1773252000-1773255600@calendario.actualizandome.com
SUMMARY:Defensa Fiscal a la Medida - #BarraActualizandome
DESCRIPTION:
URL:https://calendario.actualizandome.com/event/defensa-fiscal-a-la-medida-barraactualizandome-35/
CATEGORIES:Aula Virtual
ATTACH;FMTTYPE=image/png:https://calendario.actualizandome.com/wp-content/uploads/2026/03/defensa.png
END:VEVENT
BEGIN:VEVENT
DTSTART;TZID=America/Mexico_City:20260311T190000
DTEND;TZID=America/Mexico_City:20260311T210000
DTSTAMP:20260421T134712
CREATED:20260219T180432Z
LAST-MODIFIED:20260302T172508Z
UID:10011427-1773255600-1773262800@calendario.actualizandome.com
SUMMARY:Videoconferencia PUNTOS FINOS Y PRÁCTICOS SOBRE LAS ANUALES PERSONAS MORALES
DESCRIPTION:
URL:https://calendario.actualizandome.com/event/videoconferencia-puntos-finos-y-practicos-sobre-las-anuales-personas-morales/2026-03-11/
CATEGORIES:Cursos,On line,Videoconferencia
ATTACH;FMTTYPE=image/png:https://calendario.actualizandome.com/wp-content/uploads/2026/02/Blue-and-White-Modern-Professional-Accounting-And-Bookkeeping-Service-Instagram-Post.png
END:VEVENT
BEGIN:VEVENT
DTSTART;TZID=America/Mexico_City:20260311T210000
DTEND;TZID=America/Mexico_City:20260311T210000
DTSTAMP:20260421T134712
CREATED:20231109T233529Z
LAST-MODIFIED:20260129T002251Z
UID:10001459-1773262800-1773262800@calendario.actualizandome.com
SUMMARY:Club de estudio sobre Reglas Misceláneas 2026
DESCRIPTION:
URL:https://calendario.actualizandome.com/event/club-de-estudio-sobre-reglas-miscelaneas-2026/2026-03-11/
CATEGORIES:academia,Cursos
ATTACH;FMTTYPE=image/png:https://calendario.actualizandome.com/wp-content/uploads/2023/11/Club-de-estudio-sobre-Reglas-Miscelaneas-2024-26-1400x788-1.png
END:VEVENT
BEGIN:VEVENT
DTSTART;VALUE=DATE:20260312
DTEND;VALUE=DATE:20260313
DTSTAMP:20260421T134712
CREATED:20260305T223809Z
LAST-MODIFIED:20260305T223809Z
UID:10011573-1773273600-1773359999@calendario.actualizandome.com
SUMMARY:Programación de la Barra Actualizandome
DESCRIPTION:
URL:https://calendario.actualizandome.com/event/programacion-de-la-barra-actualizandome-638/
CATEGORIES:Aula Virtual
ATTACH;FMTTYPE=image/png:https://calendario.actualizandome.com/wp-content/uploads/2026/03/juevs.png
END:VEVENT
BEGIN:VEVENT
DTSTART;TZID=America/Mexico_City:20260312T100000
DTEND;TZID=America/Mexico_City:20260312T110000
DTSTAMP:20260421T134712
CREATED:20260311T222931Z
LAST-MODIFIED:20260311T222931Z
UID:10011967-1773309600-1773313200@calendario.actualizandome.com
SUMMARY:En Sintonía Fiscal - FORMA O FONDO: Fracción IX del Artículo 29-A del CFF - #BarraActualizandome
DESCRIPTION:
URL:https://calendario.actualizandome.com/event/en-sintonia-fiscal-forma-o-fondo-fraccion-ix-del-articulo-29-a-del-cff-barraactualizandome/
CATEGORIES:Aula Virtual
ATTACH;FMTTYPE=image/png:https://calendario.actualizandome.com/wp-content/uploads/2026/03/sintonia.png
END:VEVENT
BEGIN:VEVENT
DTSTART;TZID=America/Mexico_City:20260312T110000
DTEND;TZID=America/Mexico_City:20260312T120000
DTSTAMP:20260421T134712
CREATED:20260311T223041Z
LAST-MODIFIED:20260312T163953Z
UID:10011968-1773313200-1773316800@calendario.actualizandome.com
SUMMARY:Desde la Experiencia: Finanzas y Valores - Cambiando de Mentalidad - #BarraActualizandome
DESCRIPTION:
URL:https://calendario.actualizandome.com/event/desde-la-experiencia-finanzas-y-valores-barraactualizandome-10/
CATEGORIES:Aula Virtual
ATTACH;FMTTYPE=image/png:https://calendario.actualizandome.com/wp-content/uploads/2026/03/desde-1.png
END:VEVENT
BEGIN:VEVENT
DTSTART;TZID=America/Mexico_City:20260312T120000
DTEND;TZID=America/Mexico_City:20260312T140000
DTSTAMP:20260421T134712
CREATED:20260305T200239Z
LAST-MODIFIED:20260311T180129Z
UID:10011568-1773316800-1773324000@calendario.actualizandome.com
SUMMARY:Diálogos Fiscales - Defensa Fiscal vs las Visitas Domiciliarias de Comprobantes Fiscales Falsos - Sesión de 2 Horas - #BarraActualizandome
DESCRIPTION:
URL:https://calendario.actualizandome.com/event/dialogos-fiscales-defensa-fiscal-vs-las-visitas-domiciliarias-de-comprobantes-fiscales-falsos-sesion-de-2-horas-barraactualizandome/
CATEGORIES:Aula Virtual
ATTACH;FMTTYPE=image/png:https://calendario.actualizandome.com/wp-content/uploads/2026/03/dialogos-1.png
END:VEVENT
END:VCALENDAR