BEGIN:VCALENDAR
VERSION:2.0
PRODID:-//ACTUALIZANDOME - ECPv6.15.16//NONSGML v1.0//EN
CALSCALE:GREGORIAN
METHOD:PUBLISH
X-WR-CALNAME:ACTUALIZANDOME
X-ORIGINAL-URL:https://calendario.actualizandome.com
X-WR-CALDESC:Eventos para ACTUALIZANDOME
REFRESH-INTERVAL;VALUE=DURATION:PT1H
X-Robots-Tag:noindex
X-PUBLISHED-TTL:PT1H
BEGIN:VTIMEZONE
TZID:America/Mexico_City
BEGIN:STANDARD
TZOFFSETFROM:-0600
TZOFFSETTO:-0600
TZNAME:CST
DTSTART:20250101T000000
END:STANDARD
END:VTIMEZONE
BEGIN:VEVENT
DTSTART;TZID=America/Mexico_City:20261104T210000
DTEND;TZID=America/Mexico_City:20261104T210000
DTSTAMP:20260420T093457
CREATED:20231109T233529Z
LAST-MODIFIED:20260129T002251Z
UID:10001493-1793826000-1793826000@calendario.actualizandome.com
SUMMARY:Club de estudio sobre Reglas Misceláneas 2026
DESCRIPTION:
URL:https://calendario.actualizandome.com/event/club-de-estudio-sobre-reglas-miscelaneas-2026/2026-11-04/
CATEGORIES:academia,Cursos
ATTACH;FMTTYPE=image/png:https://calendario.actualizandome.com/wp-content/uploads/2023/11/Club-de-estudio-sobre-Reglas-Miscelaneas-2024-26-1400x788-1.png
END:VEVENT
BEGIN:VEVENT
DTSTART;TZID=America/Mexico_City:20261106T180000
DTEND;TZID=America/Mexico_City:20261106T200000
DTSTAMP:20260420T093457
CREATED:20260302T175322Z
LAST-MODIFIED:20260302T175322Z
UID:10011519-1793988000-1793995200@calendario.actualizandome.com
SUMMARY:Sesión del Seminario en Prevención de Lavado de Dinero
DESCRIPTION:
URL:https://calendario.actualizandome.com/event/sesion-del-seminario-en-prevencion-de-lavado-de-dinero-2/2026-11-06/
CATEGORIES:academia,Cursos,Videoconferencia
ATTACH;FMTTYPE=image/png:https://calendario.actualizandome.com/wp-content/uploads/2026/03/Blue-and-Purple-Modern-Business-Services-Facebook-Post-89.png
END:VEVENT
BEGIN:VEVENT
DTSTART;TZID=America/Mexico_City:20261111T210000
DTEND;TZID=America/Mexico_City:20261111T210000
DTSTAMP:20260420T093457
CREATED:20231109T233529Z
LAST-MODIFIED:20260129T002251Z
UID:10001494-1794430800-1794430800@calendario.actualizandome.com
SUMMARY:Club de estudio sobre Reglas Misceláneas 2026
DESCRIPTION:
URL:https://calendario.actualizandome.com/event/club-de-estudio-sobre-reglas-miscelaneas-2026/2026-11-11/
CATEGORIES:academia,Cursos
ATTACH;FMTTYPE=image/png:https://calendario.actualizandome.com/wp-content/uploads/2023/11/Club-de-estudio-sobre-Reglas-Miscelaneas-2024-26-1400x788-1.png
END:VEVENT
BEGIN:VEVENT
DTSTART;TZID=America/Mexico_City:20261113T180000
DTEND;TZID=America/Mexico_City:20261113T200000
DTSTAMP:20260420T093457
CREATED:20260302T175322Z
LAST-MODIFIED:20260302T175322Z
UID:10011520-1794592800-1794600000@calendario.actualizandome.com
SUMMARY:Sesión del Seminario en Prevención de Lavado de Dinero
DESCRIPTION:
URL:https://calendario.actualizandome.com/event/sesion-del-seminario-en-prevencion-de-lavado-de-dinero-2/2026-11-13/
CATEGORIES:academia,Cursos,Videoconferencia
ATTACH;FMTTYPE=image/png:https://calendario.actualizandome.com/wp-content/uploads/2026/03/Blue-and-Purple-Modern-Business-Services-Facebook-Post-89.png
END:VEVENT
BEGIN:VEVENT
DTSTART;TZID=America/Mexico_City:20261118T210000
DTEND;TZID=America/Mexico_City:20261118T210000
DTSTAMP:20260420T093457
CREATED:20231109T233529Z
LAST-MODIFIED:20260129T002251Z
UID:10001495-1795035600-1795035600@calendario.actualizandome.com
SUMMARY:Club de estudio sobre Reglas Misceláneas 2026
DESCRIPTION:
URL:https://calendario.actualizandome.com/event/club-de-estudio-sobre-reglas-miscelaneas-2026/2026-11-18/
CATEGORIES:academia,Cursos
ATTACH;FMTTYPE=image/png:https://calendario.actualizandome.com/wp-content/uploads/2023/11/Club-de-estudio-sobre-Reglas-Miscelaneas-2024-26-1400x788-1.png
END:VEVENT
BEGIN:VEVENT
DTSTART;TZID=America/Mexico_City:20261120T180000
DTEND;TZID=America/Mexico_City:20261120T200000
DTSTAMP:20260420T093457
CREATED:20260302T175322Z
LAST-MODIFIED:20260302T175322Z
UID:10011521-1795197600-1795204800@calendario.actualizandome.com
SUMMARY:Sesión del Seminario en Prevención de Lavado de Dinero
DESCRIPTION:
URL:https://calendario.actualizandome.com/event/sesion-del-seminario-en-prevencion-de-lavado-de-dinero-2/2026-11-20/
CATEGORIES:academia,Cursos,Videoconferencia
ATTACH;FMTTYPE=image/png:https://calendario.actualizandome.com/wp-content/uploads/2026/03/Blue-and-Purple-Modern-Business-Services-Facebook-Post-89.png
END:VEVENT
BEGIN:VEVENT
DTSTART;TZID=America/Mexico_City:20261125T210000
DTEND;TZID=America/Mexico_City:20261125T210000
DTSTAMP:20260420T093457
CREATED:20231109T233529Z
LAST-MODIFIED:20260129T002251Z
UID:10001496-1795640400-1795640400@calendario.actualizandome.com
SUMMARY:Club de estudio sobre Reglas Misceláneas 2026
DESCRIPTION:
URL:https://calendario.actualizandome.com/event/club-de-estudio-sobre-reglas-miscelaneas-2026/2026-11-25/
CATEGORIES:academia,Cursos
ATTACH;FMTTYPE=image/png:https://calendario.actualizandome.com/wp-content/uploads/2023/11/Club-de-estudio-sobre-Reglas-Miscelaneas-2024-26-1400x788-1.png
END:VEVENT
BEGIN:VEVENT
DTSTART;TZID=America/Mexico_City:20261127T180000
DTEND;TZID=America/Mexico_City:20261127T200000
DTSTAMP:20260420T093457
CREATED:20260302T175322Z
LAST-MODIFIED:20260302T175322Z
UID:10011522-1795802400-1795809600@calendario.actualizandome.com
SUMMARY:Sesión del Seminario en Prevención de Lavado de Dinero
DESCRIPTION:
URL:https://calendario.actualizandome.com/event/sesion-del-seminario-en-prevencion-de-lavado-de-dinero-2/2026-11-27/
CATEGORIES:academia,Cursos,Videoconferencia
ATTACH;FMTTYPE=image/png:https://calendario.actualizandome.com/wp-content/uploads/2026/03/Blue-and-Purple-Modern-Business-Services-Facebook-Post-89.png
END:VEVENT
BEGIN:VEVENT
DTSTART;TZID=America/Mexico_City:20261202T210000
DTEND;TZID=America/Mexico_City:20261202T210000
DTSTAMP:20260420T093457
CREATED:20231109T233529Z
LAST-MODIFIED:20260129T002251Z
UID:10001497-1796245200-1796245200@calendario.actualizandome.com
SUMMARY:Club de estudio sobre Reglas Misceláneas 2026
DESCRIPTION:
URL:https://calendario.actualizandome.com/event/club-de-estudio-sobre-reglas-miscelaneas-2026/2026-12-02/
CATEGORIES:academia,Cursos
ATTACH;FMTTYPE=image/png:https://calendario.actualizandome.com/wp-content/uploads/2023/11/Club-de-estudio-sobre-Reglas-Miscelaneas-2024-26-1400x788-1.png
END:VEVENT
BEGIN:VEVENT
DTSTART;TZID=America/Mexico_City:20261204T180000
DTEND;TZID=America/Mexico_City:20261204T200000
DTSTAMP:20260420T093457
CREATED:20260302T175322Z
LAST-MODIFIED:20260302T175322Z
UID:10011523-1796407200-1796414400@calendario.actualizandome.com
SUMMARY:Sesión del Seminario en Prevención de Lavado de Dinero
DESCRIPTION:
URL:https://calendario.actualizandome.com/event/sesion-del-seminario-en-prevencion-de-lavado-de-dinero-2/2026-12-04/
CATEGORIES:academia,Cursos,Videoconferencia
ATTACH;FMTTYPE=image/png:https://calendario.actualizandome.com/wp-content/uploads/2026/03/Blue-and-Purple-Modern-Business-Services-Facebook-Post-89.png
END:VEVENT
BEGIN:VEVENT
DTSTART;TZID=America/Mexico_City:20261209T210000
DTEND;TZID=America/Mexico_City:20261209T210000
DTSTAMP:20260420T093457
CREATED:20231109T233529Z
LAST-MODIFIED:20260129T002251Z
UID:10001498-1796850000-1796850000@calendario.actualizandome.com
SUMMARY:Club de estudio sobre Reglas Misceláneas 2026
DESCRIPTION:
URL:https://calendario.actualizandome.com/event/club-de-estudio-sobre-reglas-miscelaneas-2026/2026-12-09/
CATEGORIES:academia,Cursos
ATTACH;FMTTYPE=image/png:https://calendario.actualizandome.com/wp-content/uploads/2023/11/Club-de-estudio-sobre-Reglas-Miscelaneas-2024-26-1400x788-1.png
END:VEVENT
BEGIN:VEVENT
DTSTART;TZID=America/Mexico_City:20261211T180000
DTEND;TZID=America/Mexico_City:20261211T200000
DTSTAMP:20260420T093457
CREATED:20260302T175322Z
LAST-MODIFIED:20260302T175322Z
UID:10011524-1797012000-1797019200@calendario.actualizandome.com
SUMMARY:Sesión del Seminario en Prevención de Lavado de Dinero
DESCRIPTION:
URL:https://calendario.actualizandome.com/event/sesion-del-seminario-en-prevencion-de-lavado-de-dinero-2/2026-12-11/
CATEGORIES:academia,Cursos,Videoconferencia
ATTACH;FMTTYPE=image/png:https://calendario.actualizandome.com/wp-content/uploads/2026/03/Blue-and-Purple-Modern-Business-Services-Facebook-Post-89.png
END:VEVENT
BEGIN:VEVENT
DTSTART;TZID=America/Mexico_City:20261216T210000
DTEND;TZID=America/Mexico_City:20261216T210000
DTSTAMP:20260420T093457
CREATED:20231109T233529Z
LAST-MODIFIED:20260129T002251Z
UID:10001499-1797454800-1797454800@calendario.actualizandome.com
SUMMARY:Club de estudio sobre Reglas Misceláneas 2026
DESCRIPTION:
URL:https://calendario.actualizandome.com/event/club-de-estudio-sobre-reglas-miscelaneas-2026/2026-12-16/
CATEGORIES:academia,Cursos
ATTACH;FMTTYPE=image/png:https://calendario.actualizandome.com/wp-content/uploads/2023/11/Club-de-estudio-sobre-Reglas-Miscelaneas-2024-26-1400x788-1.png
END:VEVENT
BEGIN:VEVENT
DTSTART;TZID=America/Mexico_City:20261218T180000
DTEND;TZID=America/Mexico_City:20261218T200000
DTSTAMP:20260420T093457
CREATED:20260302T175322Z
LAST-MODIFIED:20260302T175322Z
UID:10011525-1797616800-1797624000@calendario.actualizandome.com
SUMMARY:Sesión del Seminario en Prevención de Lavado de Dinero
DESCRIPTION:
URL:https://calendario.actualizandome.com/event/sesion-del-seminario-en-prevencion-de-lavado-de-dinero-2/2026-12-18/
CATEGORIES:academia,Cursos,Videoconferencia
ATTACH;FMTTYPE=image/png:https://calendario.actualizandome.com/wp-content/uploads/2026/03/Blue-and-Purple-Modern-Business-Services-Facebook-Post-89.png
END:VEVENT
BEGIN:VEVENT
DTSTART;TZID=America/Mexico_City:20261223T210000
DTEND;TZID=America/Mexico_City:20261223T210000
DTSTAMP:20260420T093457
CREATED:20231109T233529Z
LAST-MODIFIED:20260129T002251Z
UID:10001500-1798059600-1798059600@calendario.actualizandome.com
SUMMARY:Club de estudio sobre Reglas Misceláneas 2026
DESCRIPTION:
URL:https://calendario.actualizandome.com/event/club-de-estudio-sobre-reglas-miscelaneas-2026/2026-12-23/
CATEGORIES:academia,Cursos
ATTACH;FMTTYPE=image/png:https://calendario.actualizandome.com/wp-content/uploads/2023/11/Club-de-estudio-sobre-Reglas-Miscelaneas-2024-26-1400x788-1.png
END:VEVENT
BEGIN:VEVENT
DTSTART;TZID=America/Mexico_City:20261225T180000
DTEND;TZID=America/Mexico_City:20261225T200000
DTSTAMP:20260420T093457
CREATED:20260302T175322Z
LAST-MODIFIED:20260302T175322Z
UID:10011526-1798221600-1798228800@calendario.actualizandome.com
SUMMARY:Sesión del Seminario en Prevención de Lavado de Dinero
DESCRIPTION:
URL:https://calendario.actualizandome.com/event/sesion-del-seminario-en-prevencion-de-lavado-de-dinero-2/2026-12-25/
CATEGORIES:academia,Cursos,Videoconferencia
ATTACH;FMTTYPE=image/png:https://calendario.actualizandome.com/wp-content/uploads/2026/03/Blue-and-Purple-Modern-Business-Services-Facebook-Post-89.png
END:VEVENT
BEGIN:VEVENT
DTSTART;TZID=America/Mexico_City:20261230T210000
DTEND;TZID=America/Mexico_City:20261230T210000
DTSTAMP:20260420T093457
CREATED:20231109T233529Z
LAST-MODIFIED:20260129T002251Z
UID:10001501-1798664400-1798664400@calendario.actualizandome.com
SUMMARY:Club de estudio sobre Reglas Misceláneas 2026
DESCRIPTION:
URL:https://calendario.actualizandome.com/event/club-de-estudio-sobre-reglas-miscelaneas-2026/2026-12-30/
CATEGORIES:academia,Cursos
ATTACH;FMTTYPE=image/png:https://calendario.actualizandome.com/wp-content/uploads/2023/11/Club-de-estudio-sobre-Reglas-Miscelaneas-2024-26-1400x788-1.png
END:VEVENT
BEGIN:VEVENT
DTSTART;TZID=America/Mexico_City:20270101T180000
DTEND;TZID=America/Mexico_City:20270101T200000
DTSTAMP:20260420T093457
CREATED:20260302T175322Z
LAST-MODIFIED:20260302T175322Z
UID:10011527-1798826400-1798833600@calendario.actualizandome.com
SUMMARY:Sesión del Seminario en Prevención de Lavado de Dinero
DESCRIPTION:
URL:https://calendario.actualizandome.com/event/sesion-del-seminario-en-prevencion-de-lavado-de-dinero-2/2027-01-01/
CATEGORIES:academia,Cursos,Videoconferencia
ATTACH;FMTTYPE=image/png:https://calendario.actualizandome.com/wp-content/uploads/2026/03/Blue-and-Purple-Modern-Business-Services-Facebook-Post-89.png
END:VEVENT
BEGIN:VEVENT
DTSTART;TZID=America/Mexico_City:20270106T210000
DTEND;TZID=America/Mexico_City:20270106T210000
DTSTAMP:20260420T093457
CREATED:20231109T233529Z
LAST-MODIFIED:20260129T002251Z
UID:10001502-1799269200-1799269200@calendario.actualizandome.com
SUMMARY:Club de estudio sobre Reglas Misceláneas 2026
DESCRIPTION:
URL:https://calendario.actualizandome.com/event/club-de-estudio-sobre-reglas-miscelaneas-2026/2027-01-06/
CATEGORIES:academia,Cursos
ATTACH;FMTTYPE=image/png:https://calendario.actualizandome.com/wp-content/uploads/2023/11/Club-de-estudio-sobre-Reglas-Miscelaneas-2024-26-1400x788-1.png
END:VEVENT
BEGIN:VEVENT
DTSTART;TZID=America/Mexico_City:20270108T180000
DTEND;TZID=America/Mexico_City:20270108T200000
DTSTAMP:20260420T093457
CREATED:20260302T175322Z
LAST-MODIFIED:20260302T175322Z
UID:10011528-1799431200-1799438400@calendario.actualizandome.com
SUMMARY:Sesión del Seminario en Prevención de Lavado de Dinero
DESCRIPTION:
URL:https://calendario.actualizandome.com/event/sesion-del-seminario-en-prevencion-de-lavado-de-dinero-2/2027-01-08/
CATEGORIES:academia,Cursos,Videoconferencia
ATTACH;FMTTYPE=image/png:https://calendario.actualizandome.com/wp-content/uploads/2026/03/Blue-and-Purple-Modern-Business-Services-Facebook-Post-89.png
END:VEVENT
BEGIN:VEVENT
DTSTART;TZID=America/Mexico_City:20270113T210000
DTEND;TZID=America/Mexico_City:20270113T210000
DTSTAMP:20260420T093457
CREATED:20231109T233529Z
LAST-MODIFIED:20260129T002251Z
UID:10001503-1799874000-1799874000@calendario.actualizandome.com
SUMMARY:Club de estudio sobre Reglas Misceláneas 2026
DESCRIPTION:
URL:https://calendario.actualizandome.com/event/club-de-estudio-sobre-reglas-miscelaneas-2026/2027-01-13/
CATEGORIES:academia,Cursos
ATTACH;FMTTYPE=image/png:https://calendario.actualizandome.com/wp-content/uploads/2023/11/Club-de-estudio-sobre-Reglas-Miscelaneas-2024-26-1400x788-1.png
END:VEVENT
BEGIN:VEVENT
DTSTART;TZID=America/Mexico_City:20270115T180000
DTEND;TZID=America/Mexico_City:20270115T200000
DTSTAMP:20260420T093457
CREATED:20260302T175322Z
LAST-MODIFIED:20260302T175322Z
UID:10011529-1800036000-1800043200@calendario.actualizandome.com
SUMMARY:Sesión del Seminario en Prevención de Lavado de Dinero
DESCRIPTION:
URL:https://calendario.actualizandome.com/event/sesion-del-seminario-en-prevencion-de-lavado-de-dinero-2/2027-01-15/
CATEGORIES:academia,Cursos,Videoconferencia
ATTACH;FMTTYPE=image/png:https://calendario.actualizandome.com/wp-content/uploads/2026/03/Blue-and-Purple-Modern-Business-Services-Facebook-Post-89.png
END:VEVENT
BEGIN:VEVENT
DTSTART;TZID=America/Mexico_City:20270120T210000
DTEND;TZID=America/Mexico_City:20270120T210000
DTSTAMP:20260420T093457
CREATED:20231109T233529Z
LAST-MODIFIED:20260129T002251Z
UID:10001504-1800478800-1800478800@calendario.actualizandome.com
SUMMARY:Club de estudio sobre Reglas Misceláneas 2026
DESCRIPTION:
URL:https://calendario.actualizandome.com/event/club-de-estudio-sobre-reglas-miscelaneas-2026/2027-01-20/
CATEGORIES:academia,Cursos
ATTACH;FMTTYPE=image/png:https://calendario.actualizandome.com/wp-content/uploads/2023/11/Club-de-estudio-sobre-Reglas-Miscelaneas-2024-26-1400x788-1.png
END:VEVENT
BEGIN:VEVENT
DTSTART;TZID=America/Mexico_City:20270122T180000
DTEND;TZID=America/Mexico_City:20270122T200000
DTSTAMP:20260420T093457
CREATED:20260302T175322Z
LAST-MODIFIED:20260302T175322Z
UID:10011530-1800640800-1800648000@calendario.actualizandome.com
SUMMARY:Sesión del Seminario en Prevención de Lavado de Dinero
DESCRIPTION:
URL:https://calendario.actualizandome.com/event/sesion-del-seminario-en-prevencion-de-lavado-de-dinero-2/2027-01-22/
CATEGORIES:academia,Cursos,Videoconferencia
ATTACH;FMTTYPE=image/png:https://calendario.actualizandome.com/wp-content/uploads/2026/03/Blue-and-Purple-Modern-Business-Services-Facebook-Post-89.png
END:VEVENT
BEGIN:VEVENT
DTSTART;TZID=America/Mexico_City:20270127T210000
DTEND;TZID=America/Mexico_City:20270127T210000
DTSTAMP:20260420T093457
CREATED:20231109T233529Z
LAST-MODIFIED:20260129T002251Z
UID:10001505-1801083600-1801083600@calendario.actualizandome.com
SUMMARY:Club de estudio sobre Reglas Misceláneas 2026
DESCRIPTION:
URL:https://calendario.actualizandome.com/event/club-de-estudio-sobre-reglas-miscelaneas-2026/2027-01-27/
CATEGORIES:academia,Cursos
ATTACH;FMTTYPE=image/png:https://calendario.actualizandome.com/wp-content/uploads/2023/11/Club-de-estudio-sobre-Reglas-Miscelaneas-2024-26-1400x788-1.png
END:VEVENT
BEGIN:VEVENT
DTSTART;TZID=America/Mexico_City:20270129T180000
DTEND;TZID=America/Mexico_City:20270129T200000
DTSTAMP:20260420T093457
CREATED:20260302T175322Z
LAST-MODIFIED:20260302T175322Z
UID:10011531-1801245600-1801252800@calendario.actualizandome.com
SUMMARY:Sesión del Seminario en Prevención de Lavado de Dinero
DESCRIPTION:
URL:https://calendario.actualizandome.com/event/sesion-del-seminario-en-prevencion-de-lavado-de-dinero-2/2027-01-29/
CATEGORIES:academia,Cursos,Videoconferencia
ATTACH;FMTTYPE=image/png:https://calendario.actualizandome.com/wp-content/uploads/2026/03/Blue-and-Purple-Modern-Business-Services-Facebook-Post-89.png
END:VEVENT
BEGIN:VEVENT
DTSTART;TZID=America/Mexico_City:20270203T210000
DTEND;TZID=America/Mexico_City:20270203T210000
DTSTAMP:20260420T093457
CREATED:20231109T233529Z
LAST-MODIFIED:20260129T002251Z
UID:10001506-1801688400-1801688400@calendario.actualizandome.com
SUMMARY:Club de estudio sobre Reglas Misceláneas 2026
DESCRIPTION:
URL:https://calendario.actualizandome.com/event/club-de-estudio-sobre-reglas-miscelaneas-2026/2027-02-03/
CATEGORIES:academia,Cursos
ATTACH;FMTTYPE=image/png:https://calendario.actualizandome.com/wp-content/uploads/2023/11/Club-de-estudio-sobre-Reglas-Miscelaneas-2024-26-1400x788-1.png
END:VEVENT
BEGIN:VEVENT
DTSTART;TZID=America/Mexico_City:20270205T180000
DTEND;TZID=America/Mexico_City:20270205T200000
DTSTAMP:20260420T093457
CREATED:20260302T175322Z
LAST-MODIFIED:20260302T175322Z
UID:10011532-1801850400-1801857600@calendario.actualizandome.com
SUMMARY:Sesión del Seminario en Prevención de Lavado de Dinero
DESCRIPTION:
URL:https://calendario.actualizandome.com/event/sesion-del-seminario-en-prevencion-de-lavado-de-dinero-2/2027-02-05/
CATEGORIES:academia,Cursos,Videoconferencia
ATTACH;FMTTYPE=image/png:https://calendario.actualizandome.com/wp-content/uploads/2026/03/Blue-and-Purple-Modern-Business-Services-Facebook-Post-89.png
END:VEVENT
BEGIN:VEVENT
DTSTART;TZID=America/Mexico_City:20270210T210000
DTEND;TZID=America/Mexico_City:20270210T210000
DTSTAMP:20260420T093457
CREATED:20231109T233529Z
LAST-MODIFIED:20260129T002251Z
UID:10001507-1802293200-1802293200@calendario.actualizandome.com
SUMMARY:Club de estudio sobre Reglas Misceláneas 2026
DESCRIPTION:
URL:https://calendario.actualizandome.com/event/club-de-estudio-sobre-reglas-miscelaneas-2026/2027-02-10/
CATEGORIES:academia,Cursos
ATTACH;FMTTYPE=image/png:https://calendario.actualizandome.com/wp-content/uploads/2023/11/Club-de-estudio-sobre-Reglas-Miscelaneas-2024-26-1400x788-1.png
END:VEVENT
BEGIN:VEVENT
DTSTART;TZID=America/Mexico_City:20270212T180000
DTEND;TZID=America/Mexico_City:20270212T200000
DTSTAMP:20260420T093457
CREATED:20260302T175322Z
LAST-MODIFIED:20260302T175322Z
UID:10011533-1802455200-1802462400@calendario.actualizandome.com
SUMMARY:Sesión del Seminario en Prevención de Lavado de Dinero
DESCRIPTION:
URL:https://calendario.actualizandome.com/event/sesion-del-seminario-en-prevencion-de-lavado-de-dinero-2/2027-02-12/
CATEGORIES:academia,Cursos,Videoconferencia
ATTACH;FMTTYPE=image/png:https://calendario.actualizandome.com/wp-content/uploads/2026/03/Blue-and-Purple-Modern-Business-Services-Facebook-Post-89.png
END:VEVENT
END:VCALENDAR