BEGIN:VCALENDAR
VERSION:2.0
PRODID:-//ACTUALIZANDOME - ECPv6.15.16//NONSGML v1.0//EN
CALSCALE:GREGORIAN
METHOD:PUBLISH
X-WR-CALNAME:ACTUALIZANDOME
X-ORIGINAL-URL:https://calendario.actualizandome.com
X-WR-CALDESC:Eventos para ACTUALIZANDOME
REFRESH-INTERVAL;VALUE=DURATION:PT1H
X-Robots-Tag:noindex
X-PUBLISHED-TTL:PT1H
BEGIN:VTIMEZONE
TZID:America/Mexico_City
BEGIN:STANDARD
TZOFFSETFROM:-0600
TZOFFSETTO:-0600
TZNAME:CST
DTSTART:20250101T000000
END:STANDARD
END:VTIMEZONE
BEGIN:VEVENT
DTSTART;VALUE=DATE:20260420
DTEND;VALUE=DATE:20260421
DTSTAMP:20260419T234304
CREATED:20260416T200454Z
LAST-MODIFIED:20260416T200454Z
UID:10012140-1776643200-1776729599@calendario.actualizandome.com
SUMMARY:Programación de la Barra Actualizandome
DESCRIPTION:
URL:https://calendario.actualizandome.com/event/programacion-de-la-barra-actualizandome-666/
CATEGORIES:Aula Virtual
ATTACH;FMTTYPE=image/png:https://calendario.actualizandome.com/wp-content/uploads/2026/04/lunes-2.png
END:VEVENT
BEGIN:VEVENT
DTSTART;TZID=America/Mexico_City:20260420T100000
DTEND;TZID=America/Mexico_City:20260420T110000
DTSTAMP:20260419T234304
CREATED:20260417T230340Z
LAST-MODIFIED:20260417T230340Z
UID:10012152-1776679200-1776682800@calendario.actualizandome.com
SUMMARY:Reflexionando Desde Israel - #BarraActualizandome
DESCRIPTION:
URL:https://calendario.actualizandome.com/event/reflexionando-desde-israel-barraactualizandome-46/
CATEGORIES:Aula Virtual
ATTACH;FMTTYPE=image/png:https://calendario.actualizandome.com/wp-content/uploads/2026/04/reflex-1.png
END:VEVENT
BEGIN:VEVENT
DTSTART;TZID=America/Mexico_City:20260420T110000
DTEND;TZID=America/Mexico_City:20260420T120000
DTSTAMP:20260419T234304
CREATED:20260417T230447Z
LAST-MODIFIED:20260417T230447Z
UID:10012153-1776682800-1776686400@calendario.actualizandome.com
SUMMARY:Conociendo Actualizandome - #BarraActualizandome
DESCRIPTION:
URL:https://calendario.actualizandome.com/event/conociendo-actualizandome-barraactualizandome-107/
CATEGORIES:Aula Virtual
ATTACH;FMTTYPE=image/png:https://calendario.actualizandome.com/wp-content/uploads/2026/04/actuali-2.png
END:VEVENT
BEGIN:VEVENT
DTSTART;TZID=America/Mexico_City:20260420T120000
DTEND;TZID=America/Mexico_City:20260420T130000
DTSTAMP:20260419T234304
CREATED:20260417T230606Z
LAST-MODIFIED:20260417T230606Z
UID:10012154-1776686400-1776690000@calendario.actualizandome.com
SUMMARY:Curso Básico de Impuestos (R) - #BarraActualizandome
DESCRIPTION:
URL:https://calendario.actualizandome.com/event/curso-basico-de-impuestos-r-barraactualizandome-17/
CATEGORIES:Aula Virtual
ATTACH;FMTTYPE=image/png:https://calendario.actualizandome.com/wp-content/uploads/2026/04/basico-3.png
END:VEVENT
BEGIN:VEVENT
DTSTART;TZID=America/Mexico_City:20260420T130000
DTEND;TZID=America/Mexico_City:20260420T140000
DTSTAMP:20260419T234304
CREATED:20260417T230723Z
LAST-MODIFIED:20260417T230723Z
UID:10012155-1776690000-1776693600@calendario.actualizandome.com
SUMMARY:La Hora AMCPMX - Repasando Temas del IVA - #BarraActualizandome
DESCRIPTION:
URL:https://calendario.actualizandome.com/event/la-hora-amcpmx-repasando-temas-del-iva-barraactualizandome/
CATEGORIES:Aula Virtual
ATTACH;FMTTYPE=image/png:https://calendario.actualizandome.com/wp-content/uploads/2026/04/amcpmx-2.png
END:VEVENT
BEGIN:VEVENT
DTSTART;TZID=America/Mexico_City:20260420T140000
DTEND;TZID=America/Mexico_City:20260420T150000
DTSTAMP:20260419T234304
CREATED:20260417T230848Z
LAST-MODIFIED:20260417T230848Z
UID:10012156-1776693600-1776697200@calendario.actualizandome.com
SUMMARY:Consultoría Fiscal Empresarial - #BarraActualizandome
DESCRIPTION:
URL:https://calendario.actualizandome.com/event/consultoria-fiscal-empresarial-barraactualizandome-60/
CATEGORIES:Aula Virtual
ATTACH;FMTTYPE=image/png:https://calendario.actualizandome.com/wp-content/uploads/2026/04/consultoria-1.png
END:VEVENT
BEGIN:VEVENT
DTSTART;TZID=America/Mexico_City:20260420T170000
DTEND;TZID=America/Mexico_City:20260420T180000
DTSTAMP:20260419T234304
CREATED:20260417T231014Z
LAST-MODIFIED:20260417T231014Z
UID:10012157-1776704400-1776708000@calendario.actualizandome.com
SUMMARY:El Derecho y su Círculo de Acción - Funciones que Debe Realizar el Diputado Federal - #BarraActualizandome
DESCRIPTION:
URL:https://calendario.actualizandome.com/event/el-derecho-y-su-circulo-de-accion-funciones-que-debe-realizar-el-diputado-federal-barraactualizandome/
CATEGORIES:Aula Virtual
ATTACH;FMTTYPE=image/png:https://calendario.actualizandome.com/wp-content/uploads/2026/04/derecho-1.png
END:VEVENT
BEGIN:VEVENT
DTSTART;TZID=America/Mexico_City:20260420T180000
DTEND;TZID=America/Mexico_City:20260420T190000
DTSTAMP:20260419T234304
CREATED:20260417T231118Z
LAST-MODIFIED:20260417T231118Z
UID:10012158-1776708000-1776711600@calendario.actualizandome.com
SUMMARY:ABC de lo Fiscal - #BarraActualizandome
DESCRIPTION:
URL:https://calendario.actualizandome.com/event/abc-de-lo-fiscal-barraactualizandome-58/
CATEGORIES:Aula Virtual
ATTACH;FMTTYPE=image/png:https://calendario.actualizandome.com/wp-content/uploads/2026/04/abc-1.png
END:VEVENT
BEGIN:VEVENT
DTSTART;VALUE=DATE:20260421
DTEND;VALUE=DATE:20260422
DTSTAMP:20260419T234304
CREATED:20260416T200542Z
LAST-MODIFIED:20260416T200542Z
UID:10012141-1776729600-1776815999@calendario.actualizandome.com
SUMMARY:Programación de la Barra Actualizandome
DESCRIPTION:
URL:https://calendario.actualizandome.com/event/programacion-de-la-barra-actualizandome-667/
CATEGORIES:Aula Virtual
ATTACH;FMTTYPE=image/png:https://calendario.actualizandome.com/wp-content/uploads/2026/04/martes-1.png
END:VEVENT
BEGIN:VEVENT
DTSTART;VALUE=DATE:20260422
DTEND;VALUE=DATE:20260423
DTSTAMP:20260419T234304
CREATED:20260416T200626Z
LAST-MODIFIED:20260416T200626Z
UID:10012142-1776816000-1776902399@calendario.actualizandome.com
SUMMARY:Programación de la Barra Actualizandome
DESCRIPTION:
URL:https://calendario.actualizandome.com/event/programacion-de-la-barra-actualizandome-668/
CATEGORIES:Aula Virtual
ATTACH;FMTTYPE=image/png:https://calendario.actualizandome.com/wp-content/uploads/2026/04/miercoles-1.png
END:VEVENT
BEGIN:VEVENT
DTSTART;TZID=America/Mexico_City:20260422T210000
DTEND;TZID=America/Mexico_City:20260422T210000
DTSTAMP:20260419T234304
CREATED:20231109T233529Z
LAST-MODIFIED:20260129T002251Z
UID:10001465-1776891600-1776891600@calendario.actualizandome.com
SUMMARY:Club de estudio sobre Reglas Misceláneas 2026
DESCRIPTION:
URL:https://calendario.actualizandome.com/event/club-de-estudio-sobre-reglas-miscelaneas-2026/2026-04-22/
CATEGORIES:academia,Cursos
ATTACH;FMTTYPE=image/png:https://calendario.actualizandome.com/wp-content/uploads/2023/11/Club-de-estudio-sobre-Reglas-Miscelaneas-2024-26-1400x788-1.png
END:VEVENT
BEGIN:VEVENT
DTSTART;VALUE=DATE:20260423
DTEND;VALUE=DATE:20260424
DTSTAMP:20260419T234304
CREATED:20260416T200942Z
LAST-MODIFIED:20260416T201125Z
UID:10012145-1776902400-1776988799@calendario.actualizandome.com
SUMMARY:Programación de la Barra Actualizandome
DESCRIPTION:
URL:https://calendario.actualizandome.com/event/programacion-de-la-barra-actualizandome-671/
CATEGORIES:Aula Virtual
ATTACH;FMTTYPE=image/png:https://calendario.actualizandome.com/wp-content/uploads/2026/04/jueves-3.png
END:VEVENT
BEGIN:VEVENT
DTSTART;VALUE=DATE:20260424
DTEND;VALUE=DATE:20260425
DTSTAMP:20260419T234304
CREATED:20260416T200753Z
LAST-MODIFIED:20260416T200803Z
UID:10012144-1776988800-1777075199@calendario.actualizandome.com
SUMMARY:Programación de la Barra Actualizandome
DESCRIPTION:
URL:https://calendario.actualizandome.com/event/programacion-de-la-barra-actualizandome-670/
CATEGORIES:Aula Virtual
ATTACH;FMTTYPE=image/png:https://calendario.actualizandome.com/wp-content/uploads/2026/04/viernes-2.png
END:VEVENT
BEGIN:VEVENT
DTSTART;TZID=America/Mexico_City:20260424T180000
DTEND;TZID=America/Mexico_City:20260424T200000
DTSTAMP:20260419T234304
CREATED:20260302T175322Z
LAST-MODIFIED:20260302T175322Z
UID:10011491-1777053600-1777060800@calendario.actualizandome.com
SUMMARY:Sesión del Seminario en Prevención de Lavado de Dinero
DESCRIPTION:
URL:https://calendario.actualizandome.com/event/sesion-del-seminario-en-prevencion-de-lavado-de-dinero-2/2026-04-24/
CATEGORIES:academia,Cursos,Videoconferencia
ATTACH;FMTTYPE=image/png:https://calendario.actualizandome.com/wp-content/uploads/2026/03/Blue-and-Purple-Modern-Business-Services-Facebook-Post-89.png
END:VEVENT
BEGIN:VEVENT
DTSTART;TZID=America/Mexico_City:20260425T100000
DTEND;TZID=America/Mexico_City:20260425T140000
DTSTAMP:20260419T234304
CREATED:20260305T170703Z
LAST-MODIFIED:20260323T170901Z
UID:10011563-1777111200-1777125600@calendario.actualizandome.com
SUMMARY:Videoconferencia Atención a Requerimientos de  Cancelación de Sellos Digitales
DESCRIPTION:
URL:https://calendario.actualizandome.com/event/videoconferencia-atencion-a-requerimientos-de-cancelacion-de-sellos-digitales/
CATEGORIES:Cursos,Videoconferencia
ATTACH;FMTTYPE=image/png:https://calendario.actualizandome.com/wp-content/uploads/2026/03/Blue-and-Purple-Modern-Business-Services-Facebook-Post-2026-03-23T110406.802.png
END:VEVENT
BEGIN:VEVENT
DTSTART;TZID=America/Mexico_City:20260429T210000
DTEND;TZID=America/Mexico_City:20260429T210000
DTSTAMP:20260419T234304
CREATED:20231109T233529Z
LAST-MODIFIED:20260129T002251Z
UID:10001466-1777496400-1777496400@calendario.actualizandome.com
SUMMARY:Club de estudio sobre Reglas Misceláneas 2026
DESCRIPTION:
URL:https://calendario.actualizandome.com/event/club-de-estudio-sobre-reglas-miscelaneas-2026/2026-04-29/
CATEGORIES:academia,Cursos
ATTACH;FMTTYPE=image/png:https://calendario.actualizandome.com/wp-content/uploads/2023/11/Club-de-estudio-sobre-Reglas-Miscelaneas-2024-26-1400x788-1.png
END:VEVENT
BEGIN:VEVENT
DTSTART;TZID=America/Mexico_City:20260501T180000
DTEND;TZID=America/Mexico_City:20260501T200000
DTSTAMP:20260419T234304
CREATED:20260302T175322Z
LAST-MODIFIED:20260302T175322Z
UID:10011492-1777658400-1777665600@calendario.actualizandome.com
SUMMARY:Sesión del Seminario en Prevención de Lavado de Dinero
DESCRIPTION:
URL:https://calendario.actualizandome.com/event/sesion-del-seminario-en-prevencion-de-lavado-de-dinero-2/2026-05-01/
CATEGORIES:academia,Cursos,Videoconferencia
ATTACH;FMTTYPE=image/png:https://calendario.actualizandome.com/wp-content/uploads/2026/03/Blue-and-Purple-Modern-Business-Services-Facebook-Post-89.png
END:VEVENT
BEGIN:VEVENT
DTSTART;TZID=America/Mexico_City:20260506T210000
DTEND;TZID=America/Mexico_City:20260506T210000
DTSTAMP:20260419T234304
CREATED:20231109T233529Z
LAST-MODIFIED:20260129T002251Z
UID:10001467-1778101200-1778101200@calendario.actualizandome.com
SUMMARY:Club de estudio sobre Reglas Misceláneas 2026
DESCRIPTION:
URL:https://calendario.actualizandome.com/event/club-de-estudio-sobre-reglas-miscelaneas-2026/2026-05-06/
CATEGORIES:academia,Cursos
ATTACH;FMTTYPE=image/png:https://calendario.actualizandome.com/wp-content/uploads/2023/11/Club-de-estudio-sobre-Reglas-Miscelaneas-2024-26-1400x788-1.png
END:VEVENT
BEGIN:VEVENT
DTSTART;TZID=America/Mexico_City:20260508T180000
DTEND;TZID=America/Mexico_City:20260508T200000
DTSTAMP:20260419T234304
CREATED:20260302T175322Z
LAST-MODIFIED:20260302T175322Z
UID:10011493-1778263200-1778270400@calendario.actualizandome.com
SUMMARY:Sesión del Seminario en Prevención de Lavado de Dinero
DESCRIPTION:
URL:https://calendario.actualizandome.com/event/sesion-del-seminario-en-prevencion-de-lavado-de-dinero-2/2026-05-08/
CATEGORIES:academia,Cursos,Videoconferencia
ATTACH;FMTTYPE=image/png:https://calendario.actualizandome.com/wp-content/uploads/2026/03/Blue-and-Purple-Modern-Business-Services-Facebook-Post-89.png
END:VEVENT
BEGIN:VEVENT
DTSTART;TZID=America/Mexico_City:20260513T210000
DTEND;TZID=America/Mexico_City:20260513T210000
DTSTAMP:20260419T234304
CREATED:20231109T233529Z
LAST-MODIFIED:20260129T002251Z
UID:10001468-1778706000-1778706000@calendario.actualizandome.com
SUMMARY:Club de estudio sobre Reglas Misceláneas 2026
DESCRIPTION:
URL:https://calendario.actualizandome.com/event/club-de-estudio-sobre-reglas-miscelaneas-2026/2026-05-13/
CATEGORIES:academia,Cursos
ATTACH;FMTTYPE=image/png:https://calendario.actualizandome.com/wp-content/uploads/2023/11/Club-de-estudio-sobre-Reglas-Miscelaneas-2024-26-1400x788-1.png
END:VEVENT
BEGIN:VEVENT
DTSTART;TZID=America/Mexico_City:20260515T180000
DTEND;TZID=America/Mexico_City:20260515T200000
DTSTAMP:20260419T234304
CREATED:20260302T175322Z
LAST-MODIFIED:20260302T175322Z
UID:10011494-1778868000-1778875200@calendario.actualizandome.com
SUMMARY:Sesión del Seminario en Prevención de Lavado de Dinero
DESCRIPTION:
URL:https://calendario.actualizandome.com/event/sesion-del-seminario-en-prevencion-de-lavado-de-dinero-2/2026-05-15/
CATEGORIES:academia,Cursos,Videoconferencia
ATTACH;FMTTYPE=image/png:https://calendario.actualizandome.com/wp-content/uploads/2026/03/Blue-and-Purple-Modern-Business-Services-Facebook-Post-89.png
END:VEVENT
BEGIN:VEVENT
DTSTART;TZID=America/Mexico_City:20260520T210000
DTEND;TZID=America/Mexico_City:20260520T210000
DTSTAMP:20260419T234304
CREATED:20231109T233529Z
LAST-MODIFIED:20260129T002251Z
UID:10001469-1779310800-1779310800@calendario.actualizandome.com
SUMMARY:Club de estudio sobre Reglas Misceláneas 2026
DESCRIPTION:
URL:https://calendario.actualizandome.com/event/club-de-estudio-sobre-reglas-miscelaneas-2026/2026-05-20/
CATEGORIES:academia,Cursos
ATTACH;FMTTYPE=image/png:https://calendario.actualizandome.com/wp-content/uploads/2023/11/Club-de-estudio-sobre-Reglas-Miscelaneas-2024-26-1400x788-1.png
END:VEVENT
BEGIN:VEVENT
DTSTART;TZID=America/Mexico_City:20260522T180000
DTEND;TZID=America/Mexico_City:20260522T200000
DTSTAMP:20260419T234304
CREATED:20260302T175322Z
LAST-MODIFIED:20260302T175322Z
UID:10011495-1779472800-1779480000@calendario.actualizandome.com
SUMMARY:Sesión del Seminario en Prevención de Lavado de Dinero
DESCRIPTION:
URL:https://calendario.actualizandome.com/event/sesion-del-seminario-en-prevencion-de-lavado-de-dinero-2/2026-05-22/
CATEGORIES:academia,Cursos,Videoconferencia
ATTACH;FMTTYPE=image/png:https://calendario.actualizandome.com/wp-content/uploads/2026/03/Blue-and-Purple-Modern-Business-Services-Facebook-Post-89.png
END:VEVENT
BEGIN:VEVENT
DTSTART;TZID=America/Mexico_City:20260527T210000
DTEND;TZID=America/Mexico_City:20260527T210000
DTSTAMP:20260419T234304
CREATED:20231109T233529Z
LAST-MODIFIED:20260129T002251Z
UID:10001470-1779915600-1779915600@calendario.actualizandome.com
SUMMARY:Club de estudio sobre Reglas Misceláneas 2026
DESCRIPTION:
URL:https://calendario.actualizandome.com/event/club-de-estudio-sobre-reglas-miscelaneas-2026/2026-05-27/
CATEGORIES:academia,Cursos
ATTACH;FMTTYPE=image/png:https://calendario.actualizandome.com/wp-content/uploads/2023/11/Club-de-estudio-sobre-Reglas-Miscelaneas-2024-26-1400x788-1.png
END:VEVENT
BEGIN:VEVENT
DTSTART;TZID=America/Mexico_City:20260529T180000
DTEND;TZID=America/Mexico_City:20260529T200000
DTSTAMP:20260419T234304
CREATED:20260302T175322Z
LAST-MODIFIED:20260302T175322Z
UID:10011496-1780077600-1780084800@calendario.actualizandome.com
SUMMARY:Sesión del Seminario en Prevención de Lavado de Dinero
DESCRIPTION:
URL:https://calendario.actualizandome.com/event/sesion-del-seminario-en-prevencion-de-lavado-de-dinero-2/2026-05-29/
CATEGORIES:academia,Cursos,Videoconferencia
ATTACH;FMTTYPE=image/png:https://calendario.actualizandome.com/wp-content/uploads/2026/03/Blue-and-Purple-Modern-Business-Services-Facebook-Post-89.png
END:VEVENT
BEGIN:VEVENT
DTSTART;TZID=America/Mexico_City:20260603T210000
DTEND;TZID=America/Mexico_City:20260603T210000
DTSTAMP:20260419T234304
CREATED:20231109T233529Z
LAST-MODIFIED:20260129T002251Z
UID:10001471-1780520400-1780520400@calendario.actualizandome.com
SUMMARY:Club de estudio sobre Reglas Misceláneas 2026
DESCRIPTION:
URL:https://calendario.actualizandome.com/event/club-de-estudio-sobre-reglas-miscelaneas-2026/2026-06-03/
CATEGORIES:academia,Cursos
ATTACH;FMTTYPE=image/png:https://calendario.actualizandome.com/wp-content/uploads/2023/11/Club-de-estudio-sobre-Reglas-Miscelaneas-2024-26-1400x788-1.png
END:VEVENT
BEGIN:VEVENT
DTSTART;TZID=America/Mexico_City:20260605T180000
DTEND;TZID=America/Mexico_City:20260605T200000
DTSTAMP:20260419T234304
CREATED:20260302T175322Z
LAST-MODIFIED:20260302T175322Z
UID:10011497-1780682400-1780689600@calendario.actualizandome.com
SUMMARY:Sesión del Seminario en Prevención de Lavado de Dinero
DESCRIPTION:
URL:https://calendario.actualizandome.com/event/sesion-del-seminario-en-prevencion-de-lavado-de-dinero-2/2026-06-05/
CATEGORIES:academia,Cursos,Videoconferencia
ATTACH;FMTTYPE=image/png:https://calendario.actualizandome.com/wp-content/uploads/2026/03/Blue-and-Purple-Modern-Business-Services-Facebook-Post-89.png
END:VEVENT
BEGIN:VEVENT
DTSTART;TZID=America/Mexico_City:20260610T210000
DTEND;TZID=America/Mexico_City:20260610T210000
DTSTAMP:20260419T234304
CREATED:20231109T233529Z
LAST-MODIFIED:20260129T002251Z
UID:10001472-1781125200-1781125200@calendario.actualizandome.com
SUMMARY:Club de estudio sobre Reglas Misceláneas 2026
DESCRIPTION:
URL:https://calendario.actualizandome.com/event/club-de-estudio-sobre-reglas-miscelaneas-2026/2026-06-10/
CATEGORIES:academia,Cursos
ATTACH;FMTTYPE=image/png:https://calendario.actualizandome.com/wp-content/uploads/2023/11/Club-de-estudio-sobre-Reglas-Miscelaneas-2024-26-1400x788-1.png
END:VEVENT
BEGIN:VEVENT
DTSTART;TZID=America/Mexico_City:20260612T180000
DTEND;TZID=America/Mexico_City:20260612T200000
DTSTAMP:20260419T234304
CREATED:20260302T175322Z
LAST-MODIFIED:20260302T175322Z
UID:10011498-1781287200-1781294400@calendario.actualizandome.com
SUMMARY:Sesión del Seminario en Prevención de Lavado de Dinero
DESCRIPTION:
URL:https://calendario.actualizandome.com/event/sesion-del-seminario-en-prevencion-de-lavado-de-dinero-2/2026-06-12/
CATEGORIES:academia,Cursos,Videoconferencia
ATTACH;FMTTYPE=image/png:https://calendario.actualizandome.com/wp-content/uploads/2026/03/Blue-and-Purple-Modern-Business-Services-Facebook-Post-89.png
END:VEVENT
BEGIN:VEVENT
DTSTART;TZID=America/Mexico_City:20260617T210000
DTEND;TZID=America/Mexico_City:20260617T210000
DTSTAMP:20260419T234304
CREATED:20231109T233529Z
LAST-MODIFIED:20260129T002251Z
UID:10001473-1781730000-1781730000@calendario.actualizandome.com
SUMMARY:Club de estudio sobre Reglas Misceláneas 2026
DESCRIPTION:
URL:https://calendario.actualizandome.com/event/club-de-estudio-sobre-reglas-miscelaneas-2026/2026-06-17/
CATEGORIES:academia,Cursos
ATTACH;FMTTYPE=image/png:https://calendario.actualizandome.com/wp-content/uploads/2023/11/Club-de-estudio-sobre-Reglas-Miscelaneas-2024-26-1400x788-1.png
END:VEVENT
END:VCALENDAR