BEGIN:VCALENDAR
VERSION:2.0
PRODID:-//ACTUALIZANDOME - ECPv6.15.16//NONSGML v1.0//EN
CALSCALE:GREGORIAN
METHOD:PUBLISH
X-WR-CALNAME:ACTUALIZANDOME
X-ORIGINAL-URL:https://calendario.actualizandome.com
X-WR-CALDESC:Eventos para ACTUALIZANDOME
REFRESH-INTERVAL;VALUE=DURATION:PT1H
X-Robots-Tag:noindex
X-PUBLISHED-TTL:PT1H
BEGIN:VTIMEZONE
TZID:America/Mexico_City
BEGIN:STANDARD
TZOFFSETFROM:-0600
TZOFFSETTO:-0600
TZNAME:CST
DTSTART:20250101T000000
END:STANDARD
END:VTIMEZONE
BEGIN:VEVENT
DTSTART;VALUE=DATE:20260408
DTEND;VALUE=DATE:20260409
DTSTAMP:20260419T220415
CREATED:20260406T195411Z
LAST-MODIFIED:20260406T195411Z
UID:10012079-1775606400-1775692799@calendario.actualizandome.com
SUMMARY:Programación de la Barra Actualizandome
DESCRIPTION:
URL:https://calendario.actualizandome.com/event/programacion-de-la-barra-actualizandome-657/
CATEGORIES:Aula Virtual
ATTACH;FMTTYPE=image/png:https://calendario.actualizandome.com/wp-content/uploads/2026/04/miercs.png
END:VEVENT
BEGIN:VEVENT
DTSTART;TZID=America/Mexico_City:20260408T100000
DTEND;TZID=America/Mexico_City:20260408T110000
DTSTAMP:20260419T220415
CREATED:20260407T220357Z
LAST-MODIFIED:20260407T220357Z
UID:10012088-1775642400-1775646000@calendario.actualizandome.com
SUMMARY:Tríada Fiscal - #BarraActualizandome
DESCRIPTION:
URL:https://calendario.actualizandome.com/event/triada-fiscal-barraactualizandome-45/
CATEGORIES:Aula Virtual
ATTACH;FMTTYPE=image/png:https://calendario.actualizandome.com/wp-content/uploads/2026/04/triada.png
END:VEVENT
BEGIN:VEVENT
DTSTART;TZID=America/Mexico_City:20260408T110000
DTEND;TZID=America/Mexico_City:20260408T120000
DTSTAMP:20260419T220415
CREATED:20260407T220503Z
LAST-MODIFIED:20260407T220503Z
UID:10012089-1775646000-1775649600@calendario.actualizandome.com
SUMMARY:Foro Fiscal - #BarraActualizandome
DESCRIPTION:
URL:https://calendario.actualizandome.com/event/foro-fiscal-barraactualizandome-59/
CATEGORIES:Aula Virtual
ATTACH;FMTTYPE=image/png:https://calendario.actualizandome.com/wp-content/uploads/2026/04/foro.png
END:VEVENT
BEGIN:VEVENT
DTSTART;TZID=America/Mexico_City:20260408T120000
DTEND;TZID=America/Mexico_City:20260408T130000
DTSTAMP:20260419T220415
CREATED:20260407T220647Z
LAST-MODIFIED:20260407T220647Z
UID:10012090-1775649600-1775653200@calendario.actualizandome.com
SUMMARY:Radar Jurídico - #BarraActualizandome
DESCRIPTION:
URL:https://calendario.actualizandome.com/event/radar-juridico-barraactualizandome/
CATEGORIES:Aula Virtual
ATTACH;FMTTYPE=image/png:https://calendario.actualizandome.com/wp-content/uploads/2026/04/radar.png
END:VEVENT
BEGIN:VEVENT
DTSTART;TZID=America/Mexico_City:20260408T130000
DTEND;TZID=America/Mexico_City:20260408T140000
DTSTAMP:20260419T220415
CREATED:20260407T220804Z
LAST-MODIFIED:20260407T220804Z
UID:10012091-1775653200-1775656800@calendario.actualizandome.com
SUMMARY:Punto Fiscal - #BarraActualizandome
DESCRIPTION:
URL:https://calendario.actualizandome.com/event/punto-fiscal-barraactualizandome-14/
CATEGORIES:Aula Virtual
ATTACH;FMTTYPE=image/png:https://calendario.actualizandome.com/wp-content/uploads/2026/04/puntofis.png
END:VEVENT
BEGIN:VEVENT
DTSTART;TZID=America/Mexico_City:20260408T170000
DTEND;TZID=America/Mexico_City:20260408T180000
DTSTAMP:20260419T220415
CREATED:20260407T220908Z
LAST-MODIFIED:20260407T220908Z
UID:10012092-1775667600-1775671200@calendario.actualizandome.com
SUMMARY:Compliance más allá de la Norma - #BarraActualizandome
DESCRIPTION:
URL:https://calendario.actualizandome.com/event/compliance-mas-alla-de-la-norma-barraactualizandome-49/
CATEGORIES:Aula Virtual
ATTACH;FMTTYPE=image/png:https://calendario.actualizandome.com/wp-content/uploads/2026/04/compliance.png
END:VEVENT
BEGIN:VEVENT
DTSTART;TZID=America/Mexico_City:20260408T180000
DTEND;TZID=America/Mexico_City:20260408T190000
DTSTAMP:20260419T220415
CREATED:20260407T221103Z
LAST-MODIFIED:20260407T221103Z
UID:10012093-1775671200-1775674800@calendario.actualizandome.com
SUMMARY:Defensa Fiscal a la Medida - #BarraActualizandome
DESCRIPTION:
URL:https://calendario.actualizandome.com/event/defensa-fiscal-a-la-medida-barraactualizandome-37/
CATEGORIES:Aula Virtual
ATTACH;FMTTYPE=image/png:https://calendario.actualizandome.com/wp-content/uploads/2026/04/defens.png
END:VEVENT
BEGIN:VEVENT
DTSTART;TZID=America/Mexico_City:20260408T190000
DTEND;TZID=America/Mexico_City:20260408T210000
DTSTAMP:20260419T220415
CREATED:20260306T192522Z
LAST-MODIFIED:20260330T181343Z
UID:10011578-1775674800-1775682000@calendario.actualizandome.com
SUMMARY:SESIONES VIRTUALES SOBRE LA DECLARACIÓN ANUAL DE PERSONAS FÍSICAS 2025
DESCRIPTION:
URL:https://calendario.actualizandome.com/event/sesiones-virtuales-sobre-la-declaracion-anual-de-personas-fisicas-2025/2026-04-08/
CATEGORIES:Cursos,Videoconferencia
ATTACH;FMTTYPE=image/jpeg:https://calendario.actualizandome.com/wp-content/uploads/2026/03/WhatsApp-Image-2026-03-30-at-9.58.12-AM.jpeg
END:VEVENT
BEGIN:VEVENT
DTSTART;TZID=America/Mexico_City:20260408T210000
DTEND;TZID=America/Mexico_City:20260408T210000
DTSTAMP:20260419T220415
CREATED:20231109T233529Z
LAST-MODIFIED:20260129T002251Z
UID:10001463-1775682000-1775682000@calendario.actualizandome.com
SUMMARY:Club de estudio sobre Reglas Misceláneas 2026
DESCRIPTION:
URL:https://calendario.actualizandome.com/event/club-de-estudio-sobre-reglas-miscelaneas-2026/2026-04-08/
CATEGORIES:academia,Cursos
ATTACH;FMTTYPE=image/png:https://calendario.actualizandome.com/wp-content/uploads/2023/11/Club-de-estudio-sobre-Reglas-Miscelaneas-2024-26-1400x788-1.png
END:VEVENT
BEGIN:VEVENT
DTSTART;VALUE=DATE:20260409
DTEND;VALUE=DATE:20260410
DTSTAMP:20260419T220415
CREATED:20260406T195849Z
LAST-MODIFIED:20260408T174053Z
UID:10012080-1775692800-1775779199@calendario.actualizandome.com
SUMMARY:Programación de la Barra Actualizandome
DESCRIPTION:
URL:https://calendario.actualizandome.com/event/programacion-de-la-barra-actualizandome-658/
CATEGORIES:Aula Virtual
ATTACH;FMTTYPE=image/png:https://calendario.actualizandome.com/wp-content/uploads/2026/04/jueves.png
END:VEVENT
BEGIN:VEVENT
DTSTART;TZID=America/Mexico_City:20260409T080000
DTEND;TZID=America/Mexico_City:20260409T170000
DTSTAMP:20260419T220415
CREATED:20260409T195134Z
LAST-MODIFIED:20260409T195134Z
UID:10012103-1775721600-1775754000@calendario.actualizandome.com
SUMMARY:Programación de la Barra Actualizandome
DESCRIPTION:
URL:https://calendario.actualizandome.com/event/programacion-de-la-barra-actualizandome-661/
CATEGORIES:Aula Virtual
ATTACH;FMTTYPE=image/png:https://calendario.actualizandome.com/wp-content/uploads/2026/04/martes.png
END:VEVENT
BEGIN:VEVENT
DTSTART;TZID=America/Mexico_City:20260409T100000
DTEND;TZID=America/Mexico_City:20260409T110000
DTSTAMP:20260419T220415
CREATED:20260408T194427Z
LAST-MODIFIED:20260408T194427Z
UID:10012095-1775728800-1775732400@calendario.actualizandome.com
SUMMARY:En Sintonía Fiscal - #BarraActualizandome
DESCRIPTION:
URL:https://calendario.actualizandome.com/event/en-sintonia-fiscal-barraactualizandome-44/
CATEGORIES:Aula Virtual
ATTACH;FMTTYPE=image/png:https://calendario.actualizandome.com/wp-content/uploads/2026/04/sinton.png
END:VEVENT
BEGIN:VEVENT
DTSTART;TZID=America/Mexico_City:20260409T110000
DTEND;TZID=America/Mexico_City:20260409T120000
DTSTAMP:20260419T220415
CREATED:20260408T194548Z
LAST-MODIFIED:20260408T194548Z
UID:10012096-1775732400-1775736000@calendario.actualizandome.com
SUMMARY:Desde la Experiencia: Finanzas y Valores - #BarraActualizandome
DESCRIPTION:
URL:https://calendario.actualizandome.com/event/desde-la-experiencia-finanzas-y-valores-barraactualizandome-12/
CATEGORIES:Aula Virtual
ATTACH;FMTTYPE=image/png:https://calendario.actualizandome.com/wp-content/uploads/2026/04/exper.png
END:VEVENT
BEGIN:VEVENT
DTSTART;TZID=America/Mexico_City:20260409T120000
DTEND;TZID=America/Mexico_City:20260409T130000
DTSTAMP:20260419T220415
CREATED:20260408T194735Z
LAST-MODIFIED:20260408T194735Z
UID:10012097-1775736000-1775739600@calendario.actualizandome.com
SUMMARY:Diálogos Fiscales - #BarraActualizandome
DESCRIPTION:
URL:https://calendario.actualizandome.com/event/dialogos-fiscales-barraactualizandome-19/
CATEGORIES:Aula Virtual
ATTACH;FMTTYPE=image/png:https://calendario.actualizandome.com/wp-content/uploads/2026/04/dialogos.png
END:VEVENT
BEGIN:VEVENT
DTSTART;TZID=America/Mexico_City:20260409T130000
DTEND;TZID=America/Mexico_City:20260409T140000
DTSTAMP:20260419T220415
CREATED:20260408T194849Z
LAST-MODIFIED:20260409T171030Z
UID:10012098-1775739600-1775743200@calendario.actualizandome.com
SUMMARY:Participando en Grupo - Deducciones Personales de Personas Físicas - #BarraActualizandome
DESCRIPTION:
URL:https://calendario.actualizandome.com/event/participando-en-grupo-barraactualizandome-45/
CATEGORIES:Aula Virtual
ATTACH;FMTTYPE=image/png:https://calendario.actualizandome.com/wp-content/uploads/2026/04/participando.png
END:VEVENT
BEGIN:VEVENT
DTSTART;TZID=America/Mexico_City:20260409T140000
DTEND;TZID=America/Mexico_City:20260409T150000
DTSTAMP:20260419T220415
CREATED:20260408T195047Z
LAST-MODIFIED:20260408T195047Z
UID:10012099-1775743200-1775746800@calendario.actualizandome.com
SUMMARY:Hablemos de Pensiones - ¿Puedo Reclamar un Error en mi Pensión Después de ser Otorgada - #BarraActualizandome
DESCRIPTION:
URL:https://calendario.actualizandome.com/event/hablemos-de-pensiones-puedo-reclamar-un-error-en-mi-pension-despues-de-ser-otorgada-barraactualizandome/
CATEGORIES:Aula Virtual
ATTACH;FMTTYPE=image/png:https://calendario.actualizandome.com/wp-content/uploads/2026/04/pensiones.png
END:VEVENT
BEGIN:VEVENT
DTSTART;TZID=America/Mexico_City:20260409T170000
DTEND;TZID=America/Mexico_City:20260409T180000
DTSTAMP:20260419T220415
CREATED:20260408T195256Z
LAST-MODIFIED:20260408T195256Z
UID:10012100-1775754000-1775757600@calendario.actualizandome.com
SUMMARY:Defensa Fiscal Práctica - #BarraActualizandome
DESCRIPTION:
URL:https://calendario.actualizandome.com/event/defensa-fiscal-practica-barraactualizandome-40/
CATEGORIES:Aula Virtual
ATTACH;FMTTYPE=image/png:https://calendario.actualizandome.com/wp-content/uploads/2026/04/defensa.png
END:VEVENT
BEGIN:VEVENT
DTSTART;TZID=America/Mexico_City:20260409T180000
DTEND;TZID=America/Mexico_City:20260409T190000
DTSTAMP:20260419T220415
CREATED:20260408T195415Z
LAST-MODIFIED:20260408T195415Z
UID:10012101-1775757600-1775761200@calendario.actualizandome.com
SUMMARY:Nutrición - #BarraActualizandome
DESCRIPTION:
URL:https://calendario.actualizandome.com/event/nutricion-barraactualizandome-8/
CATEGORIES:Aula Virtual
ATTACH;FMTTYPE=image/png:https://calendario.actualizandome.com/wp-content/uploads/2026/04/nutricion.png
END:VEVENT
BEGIN:VEVENT
DTSTART;TZID=America/Mexico_City:20260409T190000
DTEND;TZID=America/Mexico_City:20260409T210000
DTSTAMP:20260419T220415
CREATED:20260306T192522Z
LAST-MODIFIED:20260330T181343Z
UID:10011579-1775761200-1775768400@calendario.actualizandome.com
SUMMARY:SESIONES VIRTUALES SOBRE LA DECLARACIÓN ANUAL DE PERSONAS FÍSICAS 2025
DESCRIPTION:
URL:https://calendario.actualizandome.com/event/sesiones-virtuales-sobre-la-declaracion-anual-de-personas-fisicas-2025/2026-04-09/
CATEGORIES:Cursos,Videoconferencia
ATTACH;FMTTYPE=image/jpeg:https://calendario.actualizandome.com/wp-content/uploads/2026/03/WhatsApp-Image-2026-03-30-at-9.58.12-AM.jpeg
END:VEVENT
BEGIN:VEVENT
DTSTART;VALUE=DATE:20260410
DTEND;VALUE=DATE:20260411
DTSTAMP:20260419T220415
CREATED:20260406T201521Z
LAST-MODIFIED:20260408T174841Z
UID:10012081-1775779200-1775865599@calendario.actualizandome.com
SUMMARY:Programación de la Barra Actualizandome
DESCRIPTION:
URL:https://calendario.actualizandome.com/event/programacion-de-la-barra-actualizandome-659/
CATEGORIES:Aula Virtual
ATTACH;FMTTYPE=image/png:https://calendario.actualizandome.com/wp-content/uploads/2026/04/viernes.png
END:VEVENT
BEGIN:VEVENT
DTSTART;TZID=America/Mexico_City:20260410T100000
DTEND;TZID=America/Mexico_City:20260410T110000
DTSTAMP:20260419T220415
CREATED:20260409T220954Z
LAST-MODIFIED:20260409T220954Z
UID:10012108-1775815200-1775818800@calendario.actualizandome.com
SUMMARY:Sembrando el Conocimiento (R) - #BarraActualizandome
DESCRIPTION:
URL:https://calendario.actualizandome.com/event/sembrando-el-conocimiento-r-barraactualizandome-4/
CATEGORIES:Aula Virtual
ATTACH;FMTTYPE=image/png:https://calendario.actualizandome.com/wp-content/uploads/2026/04/sembrando.png
END:VEVENT
BEGIN:VEVENT
DTSTART;TZID=America/Mexico_City:20260410T110000
DTEND;TZID=America/Mexico_City:20260410T120000
DTSTAMP:20260419T220415
CREATED:20260409T221112Z
LAST-MODIFIED:20260409T221112Z
UID:10012109-1775818800-1775822400@calendario.actualizandome.com
SUMMARY:Metamorfosis - #BarraActualizandome
DESCRIPTION:
URL:https://calendario.actualizandome.com/event/metamorfosis-barraactualizandome-46/
CATEGORIES:Aula Virtual
ATTACH;FMTTYPE=image/png:https://calendario.actualizandome.com/wp-content/uploads/2026/04/meta.png
END:VEVENT
BEGIN:VEVENT
DTSTART;TZID=America/Mexico_City:20260410T120000
DTEND;TZID=America/Mexico_City:20260410T130000
DTSTAMP:20260419T220415
CREATED:20260409T221340Z
LAST-MODIFIED:20260409T221340Z
UID:10012110-1775822400-1775826000@calendario.actualizandome.com
SUMMARY:Conociendo Parte de Nuestro México - Contabilidad y Otras Maravillas - #BarraActualizandome
DESCRIPTION:
URL:https://calendario.actualizandome.com/event/conociendo-parte-de-nuestro-mexico-contabilidad-y-otras-maravillas-barraactualizandome-18/
CATEGORIES:Aula Virtual
ATTACH;FMTTYPE=image/png:https://calendario.actualizandome.com/wp-content/uploads/2026/04/conociendomx.png
END:VEVENT
BEGIN:VEVENT
DTSTART;TZID=America/Mexico_City:20260410T130000
DTEND;TZID=America/Mexico_City:20260410T140000
DTSTAMP:20260419T220415
CREATED:20260409T221748Z
LAST-MODIFIED:20260409T221748Z
UID:10012111-1775826000-1775829600@calendario.actualizandome.com
SUMMARY:La Nómina del Mañana - #BarraActualizandome
DESCRIPTION:
URL:https://calendario.actualizandome.com/event/la-nomina-del-manana-barraactualizandome-18/
CATEGORIES:Aula Virtual
ATTACH;FMTTYPE=image/png:https://calendario.actualizandome.com/wp-content/uploads/2026/04/nominama.png
END:VEVENT
BEGIN:VEVENT
DTSTART;TZID=America/Mexico_City:20260410T170000
DTEND;TZID=America/Mexico_City:20260410T180000
DTSTAMP:20260419T220415
CREATED:20260409T222303Z
LAST-MODIFIED:20260409T222303Z
UID:10012112-1775840400-1775844000@calendario.actualizandome.com
SUMMARY:Está Bien No Estar Bien - Cuando el Futuro Pesa: Metas no Alcanzadas\, Incertidumbre y el Miedo a Envejecer #BarraActualizandome
DESCRIPTION:
URL:https://calendario.actualizandome.com/event/esta-bien-no-estar-bien-cuando-el-futuro-pesa-metas-no-alcanzadas-incertidumbre-y-el-miedo-a-envejecer-barraactualizandome/
CATEGORIES:Aula Virtual
ATTACH;FMTTYPE=image/png:https://calendario.actualizandome.com/wp-content/uploads/2026/04/estabeiin.png
END:VEVENT
BEGIN:VEVENT
DTSTART;TZID=America/Mexico_City:20260410T180000
DTEND;TZID=America/Mexico_City:20260410T190000
DTSTAMP:20260419T220415
CREATED:20260409T222647Z
LAST-MODIFIED:20260409T222647Z
UID:10012113-1775844000-1775847600@calendario.actualizandome.com
SUMMARY:Tres a las Seis - #BarraActualizamdome
DESCRIPTION:
URL:https://calendario.actualizandome.com/event/tres-a-las-seis-barraactualizamdome/
CATEGORIES:Aula Virtual
ATTACH;FMTTYPE=image/png:https://calendario.actualizandome.com/wp-content/uploads/2026/04/tres.png
END:VEVENT
BEGIN:VEVENT
DTSTART;TZID=America/Mexico_City:20260410T180000
DTEND;TZID=America/Mexico_City:20260410T200000
DTSTAMP:20260419T220415
CREATED:20260302T175322Z
LAST-MODIFIED:20260302T175322Z
UID:10011489-1775844000-1775851200@calendario.actualizandome.com
SUMMARY:Sesión del Seminario en Prevención de Lavado de Dinero
DESCRIPTION:
URL:https://calendario.actualizandome.com/event/sesion-del-seminario-en-prevencion-de-lavado-de-dinero-2/2026-04-10/
CATEGORIES:academia,Cursos,Videoconferencia
ATTACH;FMTTYPE=image/png:https://calendario.actualizandome.com/wp-content/uploads/2026/03/Blue-and-Purple-Modern-Business-Services-Facebook-Post-89.png
END:VEVENT
BEGIN:VEVENT
DTSTART;TZID=America/Mexico_City:20260411T120000
DTEND;TZID=America/Mexico_City:20260411T140000
DTSTAMP:20260419T220415
CREATED:20260410T004546Z
LAST-MODIFIED:20260410T004546Z
UID:10012114-1775908800-1775916000@calendario.actualizandome.com
SUMMARY:Sesión Interactiva de la Revista Digital Actualizandome edición 197
DESCRIPTION:
URL:https://calendario.actualizandome.com/event/sesion-interactiva-de-la-revista-digital-actualizandome-edicion-197/
CATEGORIES:Cursos,On line
ATTACH;FMTTYPE=image/jpeg:https://calendario.actualizandome.com/wp-content/uploads/2026/04/sesionint.jpg
END:VEVENT
BEGIN:VEVENT
DTSTART;VALUE=DATE:20260413
DTEND;VALUE=DATE:20260414
DTSTAMP:20260419T220415
CREATED:20260409T195035Z
LAST-MODIFIED:20260411T002022Z
UID:10012102-1776038400-1776124799@calendario.actualizandome.com
SUMMARY:Programación de la Barra Actualizandome
DESCRIPTION:
URL:https://calendario.actualizandome.com/event/programacion-de-la-barra-actualizandome-660/
CATEGORIES:Aula Virtual
ATTACH;FMTTYPE=image/png:https://calendario.actualizandome.com/wp-content/uploads/2026/04/lun13.png
END:VEVENT
BEGIN:VEVENT
DTSTART;TZID=America/Mexico_City:20260413T100000
DTEND;TZID=America/Mexico_City:20260413T110000
DTSTAMP:20260419T220415
CREATED:20260411T000458Z
LAST-MODIFIED:20260411T000458Z
UID:10012115-1776074400-1776078000@calendario.actualizandome.com
SUMMARY:Conociendo Actualizandome - #BarraActualizandome
DESCRIPTION:
URL:https://calendario.actualizandome.com/event/conociendo-actualizandome-barraactualizandome-106/
CATEGORIES:Aula Virtual
ATTACH;FMTTYPE=image/png:https://calendario.actualizandome.com/wp-content/uploads/2026/04/actuali-1.png
END:VEVENT
END:VCALENDAR