BEGIN:VCALENDAR
VERSION:2.0
PRODID:-//ACTUALIZANDOME - ECPv6.15.16//NONSGML v1.0//EN
CALSCALE:GREGORIAN
METHOD:PUBLISH
X-WR-CALNAME:ACTUALIZANDOME
X-ORIGINAL-URL:https://calendario.actualizandome.com
X-WR-CALDESC:Eventos para ACTUALIZANDOME
REFRESH-INTERVAL;VALUE=DURATION:PT1H
X-Robots-Tag:noindex
X-PUBLISHED-TTL:PT1H
BEGIN:VTIMEZONE
TZID:America/Mexico_City
BEGIN:STANDARD
TZOFFSETFROM:-0600
TZOFFSETTO:-0600
TZNAME:CST
DTSTART:20250101T000000
END:STANDARD
END:VTIMEZONE
BEGIN:VEVENT
DTSTART;VALUE=DATE:20260403
DTEND;VALUE=DATE:20260404
DTSTAMP:20260419T221045
CREATED:20260324T185245Z
LAST-MODIFIED:20260324T185245Z
UID:10012028-1775174400-1775260799@calendario.actualizandome.com
SUMMARY:Programación de la Barra Actualizandome
DESCRIPTION:
URL:https://calendario.actualizandome.com/event/programacion-de-la-barra-actualizandome-654/
CATEGORIES:Aula Virtual
ATTACH;FMTTYPE=image/png:https://calendario.actualizandome.com/wp-content/uploads/2026/03/VIERNS-2.png
END:VEVENT
BEGIN:VEVENT
DTSTART;TZID=America/Mexico_City:20260403T180000
DTEND;TZID=America/Mexico_City:20260403T200000
DTSTAMP:20260419T221045
CREATED:20260302T175322Z
LAST-MODIFIED:20260302T175322Z
UID:10011488-1775239200-1775246400@calendario.actualizandome.com
SUMMARY:Sesión del Seminario en Prevención de Lavado de Dinero
DESCRIPTION:
URL:https://calendario.actualizandome.com/event/sesion-del-seminario-en-prevencion-de-lavado-de-dinero-2/2026-04-03/
CATEGORIES:academia,Cursos,Videoconferencia
ATTACH;FMTTYPE=image/png:https://calendario.actualizandome.com/wp-content/uploads/2026/03/Blue-and-Purple-Modern-Business-Services-Facebook-Post-89.png
END:VEVENT
BEGIN:VEVENT
DTSTART;VALUE=DATE:20260406
DTEND;VALUE=DATE:20260407
DTSTAMP:20260419T221045
CREATED:20260406T152929Z
LAST-MODIFIED:20260406T152929Z
UID:10012070-1775433600-1775519999@calendario.actualizandome.com
SUMMARY:Programación de la Barra Actualizandome
DESCRIPTION:
URL:https://calendario.actualizandome.com/event/programacion-de-la-barra-actualizandome-655/
CATEGORIES:Aula Virtual
ATTACH;FMTTYPE=image/png:https://calendario.actualizandome.com/wp-content/uploads/2026/04/lunes.png
END:VEVENT
BEGIN:VEVENT
DTSTART;TZID=America/Mexico_City:20260406T100000
DTEND;TZID=America/Mexico_City:20260406T110000
DTSTAMP:20260419T221045
CREATED:20260406T160032Z
LAST-MODIFIED:20260406T160032Z
UID:10012071-1775469600-1775473200@calendario.actualizandome.com
SUMMARY:Reflexionando Desde Israel - #BarraActualizandome
DESCRIPTION:
URL:https://calendario.actualizandome.com/event/reflexionando-desde-israel-barraactualizandome-45/
CATEGORIES:Aula Virtual
ATTACH;FMTTYPE=image/png:https://calendario.actualizandome.com/wp-content/uploads/2026/04/reflex.png
END:VEVENT
BEGIN:VEVENT
DTSTART;TZID=America/Mexico_City:20260406T110000
DTEND;TZID=America/Mexico_City:20260406T120000
DTSTAMP:20260419T221045
CREATED:20260406T160445Z
LAST-MODIFIED:20260406T165043Z
UID:10012072-1775473200-1775476800@calendario.actualizandome.com
SUMMARY:Conociendo Actualizandome - #BarraActualizandome
DESCRIPTION:
URL:https://calendario.actualizandome.com/event/conociendo-actualizandome/
CATEGORIES:Aula Virtual
ATTACH;FMTTYPE=image/png:https://calendario.actualizandome.com/wp-content/uploads/2026/04/actuali.png
END:VEVENT
BEGIN:VEVENT
DTSTART;TZID=America/Mexico_City:20260406T120000
DTEND;TZID=America/Mexico_City:20260406T130000
DTSTAMP:20260419T221045
CREATED:20260406T161033Z
LAST-MODIFIED:20260406T161146Z
UID:10012073-1775476800-1775480400@calendario.actualizandome.com
SUMMARY:Curso Básico de Impuestos (R) - #BarraActualizandome
DESCRIPTION:
URL:https://calendario.actualizandome.com/event/curso-basico-de-impuestos-r-barraactualizandome-14/
CATEGORIES:Aula Virtual
ATTACH;FMTTYPE=image/png:https://calendario.actualizandome.com/wp-content/uploads/2026/04/basico.png
END:VEVENT
BEGIN:VEVENT
DTSTART;TZID=America/Mexico_City:20260406T130000
DTEND;TZID=America/Mexico_City:20260406T140000
DTSTAMP:20260419T221045
CREATED:20260406T161934Z
LAST-MODIFIED:20260406T161949Z
UID:10012074-1775480400-1775484000@calendario.actualizandome.com
SUMMARY:La Hora AMCPMX - Ajustes Fiscales 2026 - 3ra. Parte - #BarraActualizandome
DESCRIPTION:
URL:https://calendario.actualizandome.com/event/la-hora-amcpmx-ajustes-fiscales-2026-3ra-parte-barraactualizandome/
CATEGORIES:Aula Virtual
ATTACH;FMTTYPE=image/png:https://calendario.actualizandome.com/wp-content/uploads/2026/04/amcpmx.png
END:VEVENT
BEGIN:VEVENT
DTSTART;TZID=America/Mexico_City:20260406T140000
DTEND;TZID=America/Mexico_City:20260406T150000
DTSTAMP:20260419T221045
CREATED:20260406T163321Z
LAST-MODIFIED:20260406T163331Z
UID:10012077-1775484000-1775487600@calendario.actualizandome.com
SUMMARY:Consultoría Fiscal Empresarial - #BarraActualizandome
DESCRIPTION:
URL:https://calendario.actualizandome.com/event/consultoria-fiscal-empresarial-barraactualizandome-59/
CATEGORIES:Aula Virtual
ATTACH;FMTTYPE=image/png:https://calendario.actualizandome.com/wp-content/uploads/2026/04/consultoria.png
END:VEVENT
BEGIN:VEVENT
DTSTART;TZID=America/Mexico_City:20260406T170000
DTEND;TZID=America/Mexico_City:20260406T180000
DTSTAMP:20260419T221045
CREATED:20260406T162346Z
LAST-MODIFIED:20260406T162346Z
UID:10012075-1775494800-1775498400@calendario.actualizandome.com
SUMMARY:El Derecho y su Círculo de Acción - Sostenibilidad Empresarial\, Acciones Para Enfrentar los Retos Ecológicos - #BarraActualizandome
DESCRIPTION:
URL:https://calendario.actualizandome.com/event/el-derecho-y-su-circulo-de-accion-sostenibilidad-empresarial-acciones-para-enfrentar-los-retos-ecologicos-barraactualizandome/
CATEGORIES:Aula Virtual
ATTACH;FMTTYPE=image/png:https://calendario.actualizandome.com/wp-content/uploads/2026/04/derecho.png
END:VEVENT
BEGIN:VEVENT
DTSTART;TZID=America/Mexico_City:20260406T180000
DTEND;TZID=America/Mexico_City:20260406T190000
DTSTAMP:20260419T221045
CREATED:20260406T162552Z
LAST-MODIFIED:20260406T162610Z
UID:10012076-1775498400-1775502000@calendario.actualizandome.com
SUMMARY:ABC de lo Fiscal - #BarraActualizandome
DESCRIPTION:
URL:https://calendario.actualizandome.com/event/abc-de-lo-fiscal-barraactualizandome-57/
CATEGORIES:Aula Virtual
ATTACH;FMTTYPE=image/png:https://calendario.actualizandome.com/wp-content/uploads/2026/04/abc.png
END:VEVENT
BEGIN:VEVENT
DTSTART;VALUE=DATE:20260407
DTEND;VALUE=DATE:20260408
DTSTAMP:20260419T221045
CREATED:20260406T195324Z
LAST-MODIFIED:20260406T195324Z
UID:10012078-1775520000-1775606399@calendario.actualizandome.com
SUMMARY:Programación de la Barra Actualizandome
DESCRIPTION:
URL:https://calendario.actualizandome.com/event/programacion-de-la-barra-actualizandome-656/
CATEGORIES:Aula Virtual
ATTACH;FMTTYPE=image/png:https://calendario.actualizandome.com/wp-content/uploads/2026/04/mats.png
END:VEVENT
BEGIN:VEVENT
DTSTART;TZID=America/Mexico_City:20260407T100000
DTEND;TZID=America/Mexico_City:20260407T110000
DTSTAMP:20260419T221045
CREATED:20260406T221319Z
LAST-MODIFIED:20260406T221319Z
UID:10012082-1775556000-1775559600@calendario.actualizandome.com
SUMMARY:El Poder de los Seguros - #BarraActualizandome
DESCRIPTION:
URL:https://calendario.actualizandome.com/event/el-poder-de-los-seguros-barraactualizandome-52/
CATEGORIES:Aula Virtual
ATTACH;FMTTYPE=image/png:https://calendario.actualizandome.com/wp-content/uploads/2026/04/poder.png
END:VEVENT
BEGIN:VEVENT
DTSTART;TZID=America/Mexico_City:20260407T110000
DTEND;TZID=America/Mexico_City:20260407T120000
DTSTAMP:20260419T221045
CREATED:20260406T221427Z
LAST-MODIFIED:20260407T162551Z
UID:10012083-1775559600-1775563200@calendario.actualizandome.com
SUMMARY:Tópicos de Seguridad Social - Retroalimentación de las Últimas Sesiones - #BarraActualizandome
DESCRIPTION:
URL:https://calendario.actualizandome.com/event/topicos-de-seguridad-social-barraactualizandome-26/
CATEGORIES:Aula Virtual
ATTACH;FMTTYPE=image/png:https://calendario.actualizandome.com/wp-content/uploads/2026/04/topicos-1.png
END:VEVENT
BEGIN:VEVENT
DTSTART;TZID=America/Mexico_City:20260407T120000
DTEND;TZID=America/Mexico_City:20260407T130000
DTSTAMP:20260419T221045
CREATED:20260406T221556Z
LAST-MODIFIED:20260406T221607Z
UID:10012084-1775563200-1775566800@calendario.actualizandome.com
SUMMARY:Panorama Empresarial - #BarraActualizandome
DESCRIPTION:
URL:https://calendario.actualizandome.com/event/panorama-empresarial-barraactualizandome-56/
CATEGORIES:Aula Virtual
ATTACH;FMTTYPE=image/png:https://calendario.actualizandome.com/wp-content/uploads/2026/04/panoram.png
END:VEVENT
BEGIN:VEVENT
DTSTART;TZID=America/Mexico_City:20260407T130000
DTEND;TZID=America/Mexico_City:20260407T140000
DTSTAMP:20260419T221045
CREATED:20260406T221730Z
LAST-MODIFIED:20260406T221730Z
UID:10012085-1775566800-1775570400@calendario.actualizandome.com
SUMMARY:Sinergia Laboral InfonavImss - Tutti Frutti Laboral - #BarraActualizandome
DESCRIPTION:
URL:https://calendario.actualizandome.com/event/sinergia-laboral-infonavimss-tutti-frutti-laboral-barraactualizandome-4/
CATEGORIES:Aula Virtual
ATTACH;FMTTYPE=image/png:https://calendario.actualizandome.com/wp-content/uploads/2026/04/sinergia.png
END:VEVENT
BEGIN:VEVENT
DTSTART;TZID=America/Mexico_City:20260407T170000
DTEND;TZID=America/Mexico_City:20260407T180000
DTSTAMP:20260419T221046
CREATED:20260406T221829Z
LAST-MODIFIED:20260406T221829Z
UID:10012086-1775581200-1775584800@calendario.actualizandome.com
SUMMARY:Mitos y Realidades Tributarias - #BarraActualizandome
DESCRIPTION:
URL:https://calendario.actualizandome.com/event/mitos-y-realidades-tributarias-barraactualizandome-32/
CATEGORIES:Aula Virtual
ATTACH;FMTTYPE=image/png:https://calendario.actualizandome.com/wp-content/uploads/2026/04/mitos.png
END:VEVENT
BEGIN:VEVENT
DTSTART;TZID=America/Mexico_City:20260407T180000
DTEND;TZID=America/Mexico_City:20260407T190000
DTSTAMP:20260419T221046
CREATED:20260406T221950Z
LAST-MODIFIED:20260406T222001Z
UID:10012087-1775584800-1775588400@calendario.actualizandome.com
SUMMARY:Sesión Interactica de la Revista Digital Actualizandome (R) - #BarraActualizandome
DESCRIPTION:
URL:https://calendario.actualizandome.com/event/sesion-interactica-de-la-revista-digital-actualizandome-r-barraactualizandome-3/
CATEGORIES:Aula Virtual
ATTACH;FMTTYPE=image/png:https://calendario.actualizandome.com/wp-content/uploads/2026/04/inter.png
END:VEVENT
BEGIN:VEVENT
DTSTART;TZID=America/Mexico_City:20260407T190000
DTEND;TZID=America/Mexico_City:20260407T210000
DTSTAMP:20260419T221046
CREATED:20260306T192522Z
LAST-MODIFIED:20260330T181343Z
UID:10011577-1775588400-1775595600@calendario.actualizandome.com
SUMMARY:SESIONES VIRTUALES SOBRE LA DECLARACIÓN ANUAL DE PERSONAS FÍSICAS 2025
DESCRIPTION:
URL:https://calendario.actualizandome.com/event/sesiones-virtuales-sobre-la-declaracion-anual-de-personas-fisicas-2025/2026-04-07/
CATEGORIES:Cursos,Videoconferencia
ATTACH;FMTTYPE=image/jpeg:https://calendario.actualizandome.com/wp-content/uploads/2026/03/WhatsApp-Image-2026-03-30-at-9.58.12-AM.jpeg
END:VEVENT
BEGIN:VEVENT
DTSTART;VALUE=DATE:20260408
DTEND;VALUE=DATE:20260409
DTSTAMP:20260419T221046
CREATED:20260406T195411Z
LAST-MODIFIED:20260406T195411Z
UID:10012079-1775606400-1775692799@calendario.actualizandome.com
SUMMARY:Programación de la Barra Actualizandome
DESCRIPTION:
URL:https://calendario.actualizandome.com/event/programacion-de-la-barra-actualizandome-657/
CATEGORIES:Aula Virtual
ATTACH;FMTTYPE=image/png:https://calendario.actualizandome.com/wp-content/uploads/2026/04/miercs.png
END:VEVENT
BEGIN:VEVENT
DTSTART;TZID=America/Mexico_City:20260408T100000
DTEND;TZID=America/Mexico_City:20260408T110000
DTSTAMP:20260419T221046
CREATED:20260407T220357Z
LAST-MODIFIED:20260407T220357Z
UID:10012088-1775642400-1775646000@calendario.actualizandome.com
SUMMARY:Tríada Fiscal - #BarraActualizandome
DESCRIPTION:
URL:https://calendario.actualizandome.com/event/triada-fiscal-barraactualizandome-45/
CATEGORIES:Aula Virtual
ATTACH;FMTTYPE=image/png:https://calendario.actualizandome.com/wp-content/uploads/2026/04/triada.png
END:VEVENT
BEGIN:VEVENT
DTSTART;TZID=America/Mexico_City:20260408T110000
DTEND;TZID=America/Mexico_City:20260408T120000
DTSTAMP:20260419T221046
CREATED:20260407T220503Z
LAST-MODIFIED:20260407T220503Z
UID:10012089-1775646000-1775649600@calendario.actualizandome.com
SUMMARY:Foro Fiscal - #BarraActualizandome
DESCRIPTION:
URL:https://calendario.actualizandome.com/event/foro-fiscal-barraactualizandome-59/
CATEGORIES:Aula Virtual
ATTACH;FMTTYPE=image/png:https://calendario.actualizandome.com/wp-content/uploads/2026/04/foro.png
END:VEVENT
BEGIN:VEVENT
DTSTART;TZID=America/Mexico_City:20260408T120000
DTEND;TZID=America/Mexico_City:20260408T130000
DTSTAMP:20260419T221046
CREATED:20260407T220647Z
LAST-MODIFIED:20260407T220647Z
UID:10012090-1775649600-1775653200@calendario.actualizandome.com
SUMMARY:Radar Jurídico - #BarraActualizandome
DESCRIPTION:
URL:https://calendario.actualizandome.com/event/radar-juridico-barraactualizandome/
CATEGORIES:Aula Virtual
ATTACH;FMTTYPE=image/png:https://calendario.actualizandome.com/wp-content/uploads/2026/04/radar.png
END:VEVENT
BEGIN:VEVENT
DTSTART;TZID=America/Mexico_City:20260408T130000
DTEND;TZID=America/Mexico_City:20260408T140000
DTSTAMP:20260419T221046
CREATED:20260407T220804Z
LAST-MODIFIED:20260407T220804Z
UID:10012091-1775653200-1775656800@calendario.actualizandome.com
SUMMARY:Punto Fiscal - #BarraActualizandome
DESCRIPTION:
URL:https://calendario.actualizandome.com/event/punto-fiscal-barraactualizandome-14/
CATEGORIES:Aula Virtual
ATTACH;FMTTYPE=image/png:https://calendario.actualizandome.com/wp-content/uploads/2026/04/puntofis.png
END:VEVENT
BEGIN:VEVENT
DTSTART;TZID=America/Mexico_City:20260408T170000
DTEND;TZID=America/Mexico_City:20260408T180000
DTSTAMP:20260419T221046
CREATED:20260407T220908Z
LAST-MODIFIED:20260407T220908Z
UID:10012092-1775667600-1775671200@calendario.actualizandome.com
SUMMARY:Compliance más allá de la Norma - #BarraActualizandome
DESCRIPTION:
URL:https://calendario.actualizandome.com/event/compliance-mas-alla-de-la-norma-barraactualizandome-49/
CATEGORIES:Aula Virtual
ATTACH;FMTTYPE=image/png:https://calendario.actualizandome.com/wp-content/uploads/2026/04/compliance.png
END:VEVENT
BEGIN:VEVENT
DTSTART;TZID=America/Mexico_City:20260408T180000
DTEND;TZID=America/Mexico_City:20260408T190000
DTSTAMP:20260419T221046
CREATED:20260407T221103Z
LAST-MODIFIED:20260407T221103Z
UID:10012093-1775671200-1775674800@calendario.actualizandome.com
SUMMARY:Defensa Fiscal a la Medida - #BarraActualizandome
DESCRIPTION:
URL:https://calendario.actualizandome.com/event/defensa-fiscal-a-la-medida-barraactualizandome-37/
CATEGORIES:Aula Virtual
ATTACH;FMTTYPE=image/png:https://calendario.actualizandome.com/wp-content/uploads/2026/04/defens.png
END:VEVENT
BEGIN:VEVENT
DTSTART;TZID=America/Mexico_City:20260408T190000
DTEND;TZID=America/Mexico_City:20260408T210000
DTSTAMP:20260419T221046
CREATED:20260306T192522Z
LAST-MODIFIED:20260330T181343Z
UID:10011578-1775674800-1775682000@calendario.actualizandome.com
SUMMARY:SESIONES VIRTUALES SOBRE LA DECLARACIÓN ANUAL DE PERSONAS FÍSICAS 2025
DESCRIPTION:
URL:https://calendario.actualizandome.com/event/sesiones-virtuales-sobre-la-declaracion-anual-de-personas-fisicas-2025/2026-04-08/
CATEGORIES:Cursos,Videoconferencia
ATTACH;FMTTYPE=image/jpeg:https://calendario.actualizandome.com/wp-content/uploads/2026/03/WhatsApp-Image-2026-03-30-at-9.58.12-AM.jpeg
END:VEVENT
BEGIN:VEVENT
DTSTART;TZID=America/Mexico_City:20260408T210000
DTEND;TZID=America/Mexico_City:20260408T210000
DTSTAMP:20260419T221046
CREATED:20231109T233529Z
LAST-MODIFIED:20260129T002251Z
UID:10001463-1775682000-1775682000@calendario.actualizandome.com
SUMMARY:Club de estudio sobre Reglas Misceláneas 2026
DESCRIPTION:
URL:https://calendario.actualizandome.com/event/club-de-estudio-sobre-reglas-miscelaneas-2026/2026-04-08/
CATEGORIES:academia,Cursos
ATTACH;FMTTYPE=image/png:https://calendario.actualizandome.com/wp-content/uploads/2023/11/Club-de-estudio-sobre-Reglas-Miscelaneas-2024-26-1400x788-1.png
END:VEVENT
BEGIN:VEVENT
DTSTART;VALUE=DATE:20260409
DTEND;VALUE=DATE:20260410
DTSTAMP:20260419T221046
CREATED:20260406T195849Z
LAST-MODIFIED:20260408T174053Z
UID:10012080-1775692800-1775779199@calendario.actualizandome.com
SUMMARY:Programación de la Barra Actualizandome
DESCRIPTION:
URL:https://calendario.actualizandome.com/event/programacion-de-la-barra-actualizandome-658/
CATEGORIES:Aula Virtual
ATTACH;FMTTYPE=image/png:https://calendario.actualizandome.com/wp-content/uploads/2026/04/jueves.png
END:VEVENT
BEGIN:VEVENT
DTSTART;TZID=America/Mexico_City:20260409T080000
DTEND;TZID=America/Mexico_City:20260409T170000
DTSTAMP:20260419T221046
CREATED:20260409T195134Z
LAST-MODIFIED:20260409T195134Z
UID:10012103-1775721600-1775754000@calendario.actualizandome.com
SUMMARY:Programación de la Barra Actualizandome
DESCRIPTION:
URL:https://calendario.actualizandome.com/event/programacion-de-la-barra-actualizandome-661/
CATEGORIES:Aula Virtual
ATTACH;FMTTYPE=image/png:https://calendario.actualizandome.com/wp-content/uploads/2026/04/martes.png
END:VEVENT
BEGIN:VEVENT
DTSTART;TZID=America/Mexico_City:20260409T100000
DTEND;TZID=America/Mexico_City:20260409T110000
DTSTAMP:20260419T221046
CREATED:20260408T194427Z
LAST-MODIFIED:20260408T194427Z
UID:10012095-1775728800-1775732400@calendario.actualizandome.com
SUMMARY:En Sintonía Fiscal - #BarraActualizandome
DESCRIPTION:
URL:https://calendario.actualizandome.com/event/en-sintonia-fiscal-barraactualizandome-44/
CATEGORIES:Aula Virtual
ATTACH;FMTTYPE=image/png:https://calendario.actualizandome.com/wp-content/uploads/2026/04/sinton.png
END:VEVENT
END:VCALENDAR