BEGIN:VCALENDAR
VERSION:2.0
PRODID:-//ACTUALIZANDOME - ECPv6.15.16//NONSGML v1.0//EN
CALSCALE:GREGORIAN
METHOD:PUBLISH
X-WR-CALNAME:ACTUALIZANDOME
X-ORIGINAL-URL:https://calendario.actualizandome.com
X-WR-CALDESC:Eventos para ACTUALIZANDOME
REFRESH-INTERVAL;VALUE=DURATION:PT1H
X-Robots-Tag:noindex
X-PUBLISHED-TTL:PT1H
BEGIN:VTIMEZONE
TZID:America/Mexico_City
BEGIN:STANDARD
TZOFFSETFROM:-0600
TZOFFSETTO:-0600
TZNAME:CST
DTSTART:20250101T000000
END:STANDARD
END:VTIMEZONE
BEGIN:VEVENT
DTSTART;VALUE=DATE:20260327
DTEND;VALUE=DATE:20260328
DTSTAMP:20260420T031839
CREATED:20260320T205748Z
LAST-MODIFIED:20260327T152127Z
UID:10012009-1774569600-1774655999@calendario.actualizandome.com
SUMMARY:Programación de la Barra Actualizandome
DESCRIPTION:
URL:https://calendario.actualizandome.com/event/programacion-de-la-barra-actualizandome-649/
CATEGORIES:Aula Virtual
ATTACH;FMTTYPE=image/jpeg:https://calendario.actualizandome.com/wp-content/uploads/2026/03/General-2026-aula-2.jpg
END:VEVENT
BEGIN:VEVENT
DTSTART;TZID=America/Mexico_City:20260327T100000
DTEND;TZID=America/Mexico_City:20260327T110000
DTSTAMP:20260420T031839
CREATED:20260326T232701Z
LAST-MODIFIED:20260326T232701Z
UID:10012042-1774605600-1774609200@calendario.actualizandome.com
SUMMARY:Sembrando el Conocimiento (R) - #BarraActualizandome
DESCRIPTION:
URL:https://calendario.actualizandome.com/event/sembrando-el-conocimiento-r-barraactualizandome-3/
CATEGORIES:Aula Virtual
ATTACH;FMTTYPE=image/png:https://calendario.actualizandome.com/wp-content/uploads/2026/03/sembrando.png
END:VEVENT
BEGIN:VEVENT
DTSTART;TZID=America/Mexico_City:20260327T110000
DTEND;TZID=America/Mexico_City:20260327T120000
DTSTAMP:20260420T031839
CREATED:20260326T232803Z
LAST-MODIFIED:20260326T232803Z
UID:10012043-1774609200-1774612800@calendario.actualizandome.com
SUMMARY:Metamorfosis - #BarraActualizandome
DESCRIPTION:
URL:https://calendario.actualizandome.com/event/metamorfosis-barraactualizandome-45/
CATEGORIES:Aula Virtual
ATTACH;FMTTYPE=image/png:https://calendario.actualizandome.com/wp-content/uploads/2026/03/meta-2.png
END:VEVENT
BEGIN:VEVENT
DTSTART;TZID=America/Mexico_City:20260327T120000
DTEND;TZID=America/Mexico_City:20260327T130000
DTSTAMP:20260420T031839
CREATED:20260326T233150Z
LAST-MODIFIED:20260326T233150Z
UID:10012044-1774612800-1774616400@calendario.actualizandome.com
SUMMARY:Conociendo Parte de Nuestro México – Contabilidad y Otras Maravillas – #BarraActualizandome
DESCRIPTION:
URL:https://calendario.actualizandome.com/event/conociendo-parte-de-nuestro-mexico-contabilidad-y-otras-maravillas-barraactualizandome-17/
CATEGORIES:Aula Virtual
ATTACH;FMTTYPE=image/png:https://calendario.actualizandome.com/wp-content/uploads/2026/03/conociendomx-1.png
END:VEVENT
BEGIN:VEVENT
DTSTART;TZID=America/Mexico_City:20260327T130000
DTEND;TZID=America/Mexico_City:20260327T140000
DTSTAMP:20260420T031839
CREATED:20260326T233302Z
LAST-MODIFIED:20260327T165357Z
UID:10012045-1774616400-1774620000@calendario.actualizandome.com
SUMMARY:La Nómina del Mañana - PENSIONES DORADAS\, ¿EL FIN? - #BarraActualizandome
DESCRIPTION:
URL:https://calendario.actualizandome.com/event/la-nomina-del-manana-barraactualizandome-17/
CATEGORIES:Aula Virtual
ATTACH;FMTTYPE=image/png:https://calendario.actualizandome.com/wp-content/uploads/2026/03/nominama-1.png
END:VEVENT
BEGIN:VEVENT
DTSTART;TZID=America/Mexico_City:20260327T170000
DTEND;TZID=America/Mexico_City:20260327T180000
DTSTAMP:20260420T031839
CREATED:20260326T233627Z
LAST-MODIFIED:20260326T233627Z
UID:10012046-1774630800-1774634400@calendario.actualizandome.com
SUMMARY:Está Bien No Estar Bien - La Generación que no pondrá comprar casa: el Impacto Emocional de una meta que se aleja - #BarraActualizandome
DESCRIPTION:
URL:https://calendario.actualizandome.com/event/esta-bien-no-estar-bien-la-generacion-que-no-pondra-comprar-casa-el-impacto-emocional-de-una-meta-que-se-aleja-barraactualizandome/
CATEGORIES:Aula Virtual
ATTACH;FMTTYPE=image/png:https://calendario.actualizandome.com/wp-content/uploads/2026/03/estabeiin-1.png
END:VEVENT
BEGIN:VEVENT
DTSTART;TZID=America/Mexico_City:20260327T180000
DTEND;TZID=America/Mexico_City:20260327T190000
DTSTAMP:20260420T031839
CREATED:20260326T233737Z
LAST-MODIFIED:20260326T233737Z
UID:10012047-1774634400-1774638000@calendario.actualizandome.com
SUMMARY:Tres a las Seis - #BarraActualizandome
DESCRIPTION:
URL:https://calendario.actualizandome.com/event/tres-a-las-seis-barraactualizandome-46/
CATEGORIES:Aula Virtual
ATTACH;FMTTYPE=image/png:https://calendario.actualizandome.com/wp-content/uploads/2026/03/tres-2.png
END:VEVENT
BEGIN:VEVENT
DTSTART;TZID=America/Mexico_City:20260327T180000
DTEND;TZID=America/Mexico_City:20260327T200000
DTSTAMP:20260420T031839
CREATED:20260302T175322Z
LAST-MODIFIED:20260302T175322Z
UID:10011487-1774634400-1774641600@calendario.actualizandome.com
SUMMARY:Sesión del Seminario en Prevención de Lavado de Dinero
DESCRIPTION:
URL:https://calendario.actualizandome.com/event/sesion-del-seminario-en-prevencion-de-lavado-de-dinero-2/2026-03-27/
CATEGORIES:academia,Cursos,Videoconferencia
ATTACH;FMTTYPE=image/png:https://calendario.actualizandome.com/wp-content/uploads/2026/03/Blue-and-Purple-Modern-Business-Services-Facebook-Post-89.png
END:VEVENT
BEGIN:VEVENT
DTSTART;TZID=America/Mexico_City:20260328T120000
DTEND;TZID=America/Mexico_City:20260328T140000
DTSTAMP:20260420T031839
CREATED:20260327T154549Z
LAST-MODIFIED:20260327T154549Z
UID:10012048-1774699200-1774706400@calendario.actualizandome.com
SUMMARY:Sesión Interactiva de la Revista Digital de Actualizandome.com No. 196
DESCRIPTION:
URL:https://calendario.actualizandome.com/event/sesion-interactiva-de-la-revista-digital-de-actualizandome-com-no-196/
CATEGORIES:Cursos,On line,Videoconferencia
ATTACH;FMTTYPE=image/jpeg:https://calendario.actualizandome.com/wp-content/uploads/2026/03/sesionint-2.jpg
END:VEVENT
BEGIN:VEVENT
DTSTART;VALUE=DATE:20260330
DTEND;VALUE=DATE:20260331
DTSTAMP:20260420T031839
CREATED:20260320T212528Z
LAST-MODIFIED:20260320T212528Z
UID:10012010-1774828800-1774915199@calendario.actualizandome.com
SUMMARY:Programación de la Barra Actualizandome
DESCRIPTION:
URL:https://calendario.actualizandome.com/event/programacion-de-la-barra-actualizandome-650/
CATEGORIES:Aula Virtual
ATTACH;FMTTYPE=image/png:https://calendario.actualizandome.com/wp-content/uploads/2026/03/lun.png
END:VEVENT
BEGIN:VEVENT
DTSTART;TZID=America/Mexico_City:20260330T100000
DTEND;TZID=America/Mexico_City:20260330T110000
DTSTAMP:20260420T031839
CREATED:20260327T223206Z
LAST-MODIFIED:20260327T223206Z
UID:10012049-1774864800-1774868400@calendario.actualizandome.com
SUMMARY:Conociendo Actualizandome - #BarraActualizandome
DESCRIPTION:
URL:https://calendario.actualizandome.com/event/conociendo-actualizandome-barraactualizandome-105/
CATEGORIES:Aula Virtual
ATTACH;FMTTYPE=image/png:https://calendario.actualizandome.com/wp-content/uploads/2026/03/actual-1.png
END:VEVENT
BEGIN:VEVENT
DTSTART;TZID=America/Mexico_City:20260330T110000
DTEND;TZID=America/Mexico_City:20260330T120000
DTSTAMP:20260420T031839
CREATED:20260327T223319Z
LAST-MODIFIED:20260327T223319Z
UID:10012050-1774868400-1774872000@calendario.actualizandome.com
SUMMARY:Expresión Fiscal - #BarraActualizandome
DESCRIPTION:
URL:https://calendario.actualizandome.com/event/expresion-fiscal-barraactualizandome-48/
CATEGORIES:Aula Virtual
ATTACH;FMTTYPE=image/png:https://calendario.actualizandome.com/wp-content/uploads/2026/03/expres.png
END:VEVENT
BEGIN:VEVENT
DTSTART;TZID=America/Mexico_City:20260330T120000
DTEND;TZID=America/Mexico_City:20260330T130000
DTSTAMP:20260420T031839
CREATED:20260327T223541Z
LAST-MODIFIED:20260327T224458Z
UID:10012051-1774872000-1774875600@calendario.actualizandome.com
SUMMARY:Curso Básico de Impuestos (R) - #BarraActualizandome
DESCRIPTION:
URL:https://calendario.actualizandome.com/event/curso-basico-de-impuestos-r-barraactualizandome-13/
CATEGORIES:Aula Virtual
ATTACH;FMTTYPE=image/png:https://calendario.actualizandome.com/wp-content/uploads/2026/03/basico-2.png
END:VEVENT
BEGIN:VEVENT
DTSTART;TZID=America/Mexico_City:20260330T130000
DTEND;TZID=America/Mexico_City:20260330T140000
DTSTAMP:20260420T031839
CREATED:20260327T223902Z
LAST-MODIFIED:20260327T223935Z
UID:10012052-1774875600-1774879200@calendario.actualizandome.com
SUMMARY:La Hora AMCPMX - Ajustes Fiscales 2026 - 2da. Parte - #BarraActualizandome
DESCRIPTION:
URL:https://calendario.actualizandome.com/event/la-hora-amcpmx-ajustes-fiscales-2026-2da-parte/
CATEGORIES:Aula Virtual
ATTACH;FMTTYPE=image/png:https://calendario.actualizandome.com/wp-content/uploads/2026/03/amcpmx-2.png
END:VEVENT
BEGIN:VEVENT
DTSTART;TZID=America/Mexico_City:20260330T170000
DTEND;TZID=America/Mexico_City:20260330T180000
DTSTAMP:20260420T031839
CREATED:20260327T224109Z
LAST-MODIFIED:20260327T224109Z
UID:10012053-1774890000-1774893600@calendario.actualizandome.com
SUMMARY:Conoce las Finanzas - #BarraActualizandome
DESCRIPTION:
URL:https://calendario.actualizandome.com/event/conoce-las-finanzas-barraactualizandome-43/
CATEGORIES:Aula Virtual
ATTACH;FMTTYPE=image/png:https://calendario.actualizandome.com/wp-content/uploads/2026/03/finanz.png
END:VEVENT
BEGIN:VEVENT
DTSTART;TZID=America/Mexico_City:20260330T180000
DTEND;TZID=America/Mexico_City:20260330T190000
DTSTAMP:20260420T031839
CREATED:20260327T224224Z
LAST-MODIFIED:20260327T224224Z
UID:10012054-1774893600-1774897200@calendario.actualizandome.com
SUMMARY:Transformación\, Fusión y Liquidación de Sociedades (R) – #BarraActualizandome
DESCRIPTION:
URL:https://calendario.actualizandome.com/event/transformacion-fusion-y-liquidacion-de-sociedades-r-barraactualizandome-9/
CATEGORIES:Aula Virtual
ATTACH;FMTTYPE=image/png:https://calendario.actualizandome.com/wp-content/uploads/2026/03/SOCIED-1.png
END:VEVENT
BEGIN:VEVENT
DTSTART;VALUE=DATE:20260331
DTEND;VALUE=DATE:20260401
DTSTAMP:20260420T031839
CREATED:20260320T212830Z
LAST-MODIFIED:20260330T234901Z
UID:10012011-1774915200-1775001599@calendario.actualizandome.com
SUMMARY:Programación de la Barra Actualizandome
DESCRIPTION:
URL:https://calendario.actualizandome.com/event/programacion-de-la-barra-actualizandome-651/
CATEGORIES:Aula Virtual
ATTACH;FMTTYPE=image/png:https://calendario.actualizandome.com/wp-content/uploads/2026/03/martes-3.png
END:VEVENT
BEGIN:VEVENT
DTSTART;TZID=America/Mexico_City:20260331T100000
DTEND;TZID=America/Mexico_City:20260331T110000
DTSTAMP:20260420T031839
CREATED:20260330T235438Z
LAST-MODIFIED:20260330T235454Z
UID:10012055-1774951200-1774954800@calendario.actualizandome.com
SUMMARY:Hablemos de Pensiones (R) - #BarraActualizandome
DESCRIPTION:
URL:https://calendario.actualizandome.com/event/hablemos-de-pensioines-r-barraactualizandome/
CATEGORIES:Aula Virtual
ATTACH;FMTTYPE=image/png:https://calendario.actualizandome.com/wp-content/uploads/2026/03/habpen.png
END:VEVENT
BEGIN:VEVENT
DTSTART;TZID=America/Mexico_City:20260331T100000
DTEND;TZID=America/Mexico_City:20260331T113000
DTSTAMP:20260420T031839
CREATED:20260302T194541Z
LAST-MODIFIED:20260303T005049Z
UID:10011543-1774951200-1774956600@calendario.actualizandome.com
SUMMARY:Sesión Club de Estudio Contable Fiscal de las Abarroteras
DESCRIPTION:
URL:https://calendario.actualizandome.com/event/sesion-club-de-estudio-contable-fiscal-de-las-abarroteras-5/
CATEGORIES:academia,Videoconferencia
ATTACH;FMTTYPE=image/jpeg:https://calendario.actualizandome.com/wp-content/uploads/2026/03/Purple-and-White-Professional-Minimalist-Digital-Marketing-Webinar-Instagram-Post-1.jpg
END:VEVENT
BEGIN:VEVENT
DTSTART;TZID=America/Mexico_City:20260331T110000
DTEND;TZID=America/Mexico_City:20260331T120000
DTSTAMP:20260420T031839
CREATED:20260330T235734Z
LAST-MODIFIED:20260330T235734Z
UID:10012056-1774954800-1774958400@calendario.actualizandome.com
SUMMARY:Hora PRODECON - Acuerdos Conclusivos: Aspectos Prácticos - #BarraActualizandome
DESCRIPTION:
URL:https://calendario.actualizandome.com/event/hora-prodecon-acuerdos-conclusivos-aspectos-practicos-barraactualizandome/
CATEGORIES:Aula Virtual
ATTACH;FMTTYPE=image/png:https://calendario.actualizandome.com/wp-content/uploads/2026/03/prodeco-1.png
END:VEVENT
BEGIN:VEVENT
DTSTART;TZID=America/Mexico_City:20260331T120000
DTEND;TZID=America/Mexico_City:20260331T130000
DTSTAMP:20260420T031839
CREATED:20260330T235826Z
LAST-MODIFIED:20260330T235826Z
UID:10012057-1774958400-1774962000@calendario.actualizandome.com
SUMMARY:Tópicos Fiscales - #BarraActualizandome
DESCRIPTION:
URL:https://calendario.actualizandome.com/event/topicos-fiscales-barraactualizandome-37/
CATEGORIES:Aula Virtual
ATTACH;FMTTYPE=image/png:https://calendario.actualizandome.com/wp-content/uploads/2026/03/Topfis-2.png
END:VEVENT
BEGIN:VEVENT
DTSTART;TZID=America/Mexico_City:20260331T130000
DTEND;TZID=America/Mexico_City:20260331T140000
DTSTAMP:20260420T031839
CREATED:20260331T000028Z
LAST-MODIFIED:20260331T000028Z
UID:10012058-1774962000-1774965600@calendario.actualizandome.com
SUMMARY:Litigio Fiscal Estratégico - Implicaciones Legales con la Presentación de la Declaración Anual 2025 - #BarraActualizandome
DESCRIPTION:
URL:https://calendario.actualizandome.com/event/litigio-fiscal-estrategico-implicaciones-legales-con-la-presentacion-de-la-declaracion-anual-2025-barraactualizandome/
CATEGORIES:Aula Virtual
ATTACH;FMTTYPE=image/png:https://calendario.actualizandome.com/wp-content/uploads/2026/03/litigio-1.png
END:VEVENT
BEGIN:VEVENT
DTSTART;TZID=America/Mexico_City:20260331T140000
DTEND;TZID=America/Mexico_City:20260331T150000
DTSTAMP:20260420T031839
CREATED:20260331T000149Z
LAST-MODIFIED:20260331T000149Z
UID:10012059-1774965600-1774969200@calendario.actualizandome.com
SUMMARY:Sesión Interactiva de la Revista Digital Actualizandome Edición 196 - 2da. Parte - #BarraActualizandome
DESCRIPTION:
URL:https://calendario.actualizandome.com/event/sesion-interactiva-de-la-revista-digital-actualizandome-edicion-196-2da-parte-barraactualizandome/
CATEGORIES:Aula Virtual
ATTACH;FMTTYPE=image/png:https://calendario.actualizandome.com/wp-content/uploads/2026/03/sesionint.png
END:VEVENT
BEGIN:VEVENT
DTSTART;TZID=America/Mexico_City:20260331T170000
DTEND;TZID=America/Mexico_City:20260331T180000
DTSTAMP:20260420T031839
CREATED:20260331T000245Z
LAST-MODIFIED:20260331T000245Z
UID:10012060-1774976400-1774980000@calendario.actualizandome.com
SUMMARY:Fiscal por la Tarde - #BarraActualizandome
DESCRIPTION:
URL:https://calendario.actualizandome.com/event/fiscal-por-la-tarde-barraactualizandome-47/
CATEGORIES:Aula Virtual
ATTACH;FMTTYPE=image/png:https://calendario.actualizandome.com/wp-content/uploads/2026/03/fistarde-3.png
END:VEVENT
BEGIN:VEVENT
DTSTART;TZID=America/Mexico_City:20260331T180000
DTEND;TZID=America/Mexico_City:20260331T190000
DTSTAMP:20260420T031839
CREATED:20260331T000357Z
LAST-MODIFIED:20260331T000357Z
UID:10012061-1774980000-1774983600@calendario.actualizandome.com
SUMMARY:Conadfis - Llenado con la Nueva Versión del Aplicativo - #BarraActualizandome
DESCRIPTION:
URL:https://calendario.actualizandome.com/event/conadfis-llenado-con-la-nueva-version-del-aplicativo-barraactualizandome/
CATEGORIES:Aula Virtual
ATTACH;FMTTYPE=image/png:https://calendario.actualizandome.com/wp-content/uploads/2026/03/conadfis-2.png
END:VEVENT
BEGIN:VEVENT
DTSTART;VALUE=DATE:20260401
DTEND;VALUE=DATE:20260402
DTSTAMP:20260420T031839
CREATED:20260324T183930Z
LAST-MODIFIED:20260331T232514Z
UID:10012026-1775001600-1775087999@calendario.actualizandome.com
SUMMARY:Programación de la Barra Actualizandome
DESCRIPTION:
URL:https://calendario.actualizandome.com/event/programacion-de-la-barra-actualizandome-652/
CATEGORIES:Aula Virtual
ATTACH;FMTTYPE=image/png:https://calendario.actualizandome.com/wp-content/uploads/2026/03/miercs-3.png
END:VEVENT
BEGIN:VEVENT
DTSTART;TZID=America/Mexico_City:20260401T090000
DTEND;TZID=America/Mexico_City:20260401T100000
DTSTAMP:20260420T031839
CREATED:20260331T232833Z
LAST-MODIFIED:20260331T232833Z
UID:10012063-1775034000-1775037600@calendario.actualizandome.com
SUMMARY:Litigio Fiscal Estratégico - Implicaciones Legales con la Presentación de la Declaración Anual 2025 – #BarraActualizandome
DESCRIPTION:
URL:https://calendario.actualizandome.com/event/litigio-fiscal-estrategico-implicaciones-legales-con-la-presentacion-de-la-declaracion-anual-2025-barraactualizandome-2/
CATEGORIES:Aula Virtual
ATTACH;FMTTYPE=image/png:https://calendario.actualizandome.com/wp-content/uploads/2026/03/litigio-2.png
END:VEVENT
BEGIN:VEVENT
DTSTART;TZID=America/Mexico_City:20260401T100000
DTEND;TZID=America/Mexico_City:20260401T110000
DTSTAMP:20260420T031839
CREATED:20260331T233005Z
LAST-MODIFIED:20260331T233005Z
UID:10012064-1775037600-1775041200@calendario.actualizandome.com
SUMMARY:Inttegra Sistemas - Servidores Virtuales\, Conceptos Básicos - #BarraActualizandome
DESCRIPTION:
URL:https://calendario.actualizandome.com/event/inttegra-sistemas-servidores-virtuales-conceptos-basicos-barraactualizandome/
CATEGORIES:Aula Virtual
ATTACH;FMTTYPE=image/png:https://calendario.actualizandome.com/wp-content/uploads/2026/03/inttegra-2.png
END:VEVENT
BEGIN:VEVENT
DTSTART;TZID=America/Mexico_City:20260401T110000
DTEND;TZID=America/Mexico_City:20260401T120000
DTSTAMP:20260420T031839
CREATED:20260331T233116Z
LAST-MODIFIED:20260331T233116Z
UID:10012065-1775041200-1775044800@calendario.actualizandome.com
SUMMARY:JB El Fiscal - #BarraActualizandome
DESCRIPTION:
URL:https://calendario.actualizandome.com/event/jb-el-fiscal-barraactualizandome-46/
CATEGORIES:Aula Virtual
ATTACH;FMTTYPE=image/png:https://calendario.actualizandome.com/wp-content/uploads/2026/03/jbfiscal-3.png
END:VEVENT
BEGIN:VEVENT
DTSTART;TZID=America/Mexico_City:20260401T120000
DTEND;TZID=America/Mexico_City:20260401T130000
DTSTAMP:20260420T031839
CREATED:20260331T233245Z
LAST-MODIFIED:20260331T233245Z
UID:10012066-1775044800-1775048400@calendario.actualizandome.com
SUMMARY:Estratégica - Reforma al Reglamento de la Ley Antilavado - #BarraActualizandome
DESCRIPTION:
URL:https://calendario.actualizandome.com/event/estrategica-reforma-al-reglamento-de-la-ley-antilavado-barraactualizandome/
CATEGORIES:Aula Virtual
ATTACH;FMTTYPE=image/png:https://calendario.actualizandome.com/wp-content/uploads/2026/03/estateg.png
END:VEVENT
END:VCALENDAR