BEGIN:VCALENDAR
VERSION:2.0
PRODID:-//ACTUALIZANDOME - ECPv6.15.16//NONSGML v1.0//EN
CALSCALE:GREGORIAN
METHOD:PUBLISH
X-WR-CALNAME:ACTUALIZANDOME
X-ORIGINAL-URL:https://calendario.actualizandome.com
X-WR-CALDESC:Eventos para ACTUALIZANDOME
REFRESH-INTERVAL;VALUE=DURATION:PT1H
X-Robots-Tag:noindex
X-PUBLISHED-TTL:PT1H
BEGIN:VTIMEZONE
TZID:America/Mexico_City
BEGIN:STANDARD
TZOFFSETFROM:-0600
TZOFFSETTO:-0600
TZNAME:CST
DTSTART:20250101T000000
END:STANDARD
END:VTIMEZONE
BEGIN:VEVENT
DTSTART;VALUE=DATE:20260305
DTEND;VALUE=DATE:20260306
DTSTAMP:20260421T150901
CREATED:20260225T193722Z
LAST-MODIFIED:20260225T193722Z
UID:10011464-1772668800-1772755199@calendario.actualizandome.com
SUMMARY:Programación de la Barra Actualizandome
DESCRIPTION:
URL:https://calendario.actualizandome.com/event/programacion-de-la-barra-actualizandome-633/
CATEGORIES:Aula Virtual
ATTACH;FMTTYPE=image/png:https://calendario.actualizandome.com/wp-content/uploads/2026/02/jueves-2.png
END:VEVENT
BEGIN:VEVENT
DTSTART;TZID=America/Mexico_City:20260305T100000
DTEND;TZID=America/Mexico_City:20260305T110000
DTSTAMP:20260421T150901
CREATED:20260304T225818Z
LAST-MODIFIED:20260304T225818Z
UID:10011557-1772704800-1772708400@calendario.actualizandome.com
SUMMARY:Tópicos Empresariales - #BarraActualizandome
DESCRIPTION:
URL:https://calendario.actualizandome.com/event/topicos-empresariales-barraactualizandome-25/
CATEGORIES:Aula Virtual
ATTACH;FMTTYPE=image/png:https://calendario.actualizandome.com/wp-content/uploads/2026/03/topicos.png
END:VEVENT
BEGIN:VEVENT
DTSTART;TZID=America/Mexico_City:20260305T110000
DTEND;TZID=America/Mexico_City:20260305T120000
DTSTAMP:20260421T150901
CREATED:20260304T225920Z
LAST-MODIFIED:20260304T225920Z
UID:10011558-1772708400-1772712000@calendario.actualizandome.com
SUMMARY:Conociendo el Mundo Fiscal - #BarraActualizandome
DESCRIPTION:
URL:https://calendario.actualizandome.com/event/conociendo-el-mundo-fiscal-barraactualizandome-62/
CATEGORIES:Aula Virtual
ATTACH;FMTTYPE=image/png:https://calendario.actualizandome.com/wp-content/uploads/2026/03/conociendo.png
END:VEVENT
BEGIN:VEVENT
DTSTART;TZID=America/Mexico_City:20260305T120000
DTEND;TZID=America/Mexico_City:20260305T130000
DTSTAMP:20260421T150901
CREATED:20260304T230120Z
LAST-MODIFIED:20260304T230120Z
UID:10011559-1772712000-1772715600@calendario.actualizandome.com
SUMMARY:Consultorio Conta Fiscal - Implicaciones Para los Contribuyentes en 2026 - 5ta. Parte - #BarraActualizandome
DESCRIPTION:
URL:https://calendario.actualizandome.com/event/consultorio-conta-fiscal-implicaciones-para-los-contribuyentes-en-2026-5ta-parte-barraactualizandome/
CATEGORIES:Aula Virtual
ATTACH;FMTTYPE=image/png:https://calendario.actualizandome.com/wp-content/uploads/2026/03/consultorio.png
END:VEVENT
BEGIN:VEVENT
DTSTART;TZID=America/Mexico_City:20260305T130000
DTEND;TZID=America/Mexico_City:20260305T140000
DTSTAMP:20260421T150901
CREATED:20260304T231207Z
LAST-MODIFIED:20260305T180715Z
UID:10011562-1772715600-1772719200@calendario.actualizandome.com
SUMMARY:Quadrando la Info - Ley Fiscal VS Ley Antilavado - #BarraActualizandome
DESCRIPTION:
URL:https://calendario.actualizandome.com/event/quadrando-la-info-barraactualizandome-36/
CATEGORIES:Aula Virtual
ATTACH;FMTTYPE=image/png:https://calendario.actualizandome.com/wp-content/uploads/2026/03/quadrasss-1.png
END:VEVENT
BEGIN:VEVENT
DTSTART;TZID=America/Mexico_City:20260305T170000
DTEND;TZID=America/Mexico_City:20260305T180000
DTSTAMP:20260421T150901
CREATED:20260304T230629Z
LAST-MODIFIED:20260304T230629Z
UID:10011560-1772730000-1772733600@calendario.actualizandome.com
SUMMARY:Automatiza Procesos con CONTPAQi - #BarraActualizandome
DESCRIPTION:
URL:https://calendario.actualizandome.com/event/automatiza-procesos-con-contpaqi-barraactualizandome-22/
CATEGORIES:Aula Virtual
ATTACH;FMTTYPE=image/png:https://calendario.actualizandome.com/wp-content/uploads/2026/03/automatiza.png
END:VEVENT
BEGIN:VEVENT
DTSTART;TZID=America/Mexico_City:20260305T180000
DTEND;TZID=America/Mexico_City:20260305T190000
DTSTAMP:20260421T150901
CREATED:20260304T230831Z
LAST-MODIFIED:20260304T230900Z
UID:10011561-1772733600-1772737200@calendario.actualizandome.com
SUMMARY:Updating My Intellect - Técnica Pomodoro y TDH IA - #BarraActualizandome
DESCRIPTION:
URL:https://calendario.actualizandome.com/event/updating-my-intellect-tecnica-pomodoro-y-tdh-ia-barraactualizandome/
CATEGORIES:Aula Virtual
ATTACH;FMTTYPE=image/png:https://calendario.actualizandome.com/wp-content/uploads/2026/03/updat.png
END:VEVENT
BEGIN:VEVENT
DTSTART;TZID=America/Mexico_City:20260305T190000
DTEND;TZID=America/Mexico_City:20260305T210000
DTSTAMP:20260421T150901
CREATED:20260219T180432Z
LAST-MODIFIED:20260302T172508Z
UID:10011426-1772737200-1772744400@calendario.actualizandome.com
SUMMARY:Videoconferencia PUNTOS FINOS Y PRÁCTICOS SOBRE LAS ANUALES PERSONAS MORALES
DESCRIPTION:
URL:https://calendario.actualizandome.com/event/videoconferencia-puntos-finos-y-practicos-sobre-las-anuales-personas-morales/2026-03-05/
CATEGORIES:Cursos,On line,Videoconferencia
ATTACH;FMTTYPE=image/png:https://calendario.actualizandome.com/wp-content/uploads/2026/02/Blue-and-White-Modern-Professional-Accounting-And-Bookkeeping-Service-Instagram-Post.png
END:VEVENT
BEGIN:VEVENT
DTSTART;VALUE=DATE:20260306
DTEND;VALUE=DATE:20260307
DTSTAMP:20260421T150901
CREATED:20260225T193816Z
LAST-MODIFIED:20260305T232759Z
UID:10011465-1772755200-1772841599@calendario.actualizandome.com
SUMMARY:Programación de la Barra Actualizandome
DESCRIPTION:
URL:https://calendario.actualizandome.com/event/programacion-de-la-barra-actualizandome-634/
CATEGORIES:Aula Virtual
ATTACH;FMTTYPE=image/png:https://calendario.actualizandome.com/wp-content/uploads/2026/02/viernes-5.png
END:VEVENT
BEGIN:VEVENT
DTSTART;TZID=America/Mexico_City:20260306T100000
DTEND;TZID=America/Mexico_City:20260306T110000
DTSTAMP:20260421T150901
CREATED:20260305T193612Z
LAST-MODIFIED:20260305T193612Z
UID:10011564-1772791200-1772794800@calendario.actualizandome.com
SUMMARY:Leones Tributarios - #BarraActualizandome
DESCRIPTION:
URL:https://calendario.actualizandome.com/event/leones-tributarios-barraactualizandome-37/
CATEGORIES:Aula Virtual
ATTACH;FMTTYPE=image/png:https://calendario.actualizandome.com/wp-content/uploads/2026/03/leones.png
END:VEVENT
BEGIN:VEVENT
DTSTART;TZID=America/Mexico_City:20260306T110000
DTEND;TZID=America/Mexico_City:20260306T120000
DTSTAMP:20260421T150901
CREATED:20260305T193816Z
LAST-MODIFIED:20260305T193816Z
UID:10011565-1772794800-1772798400@calendario.actualizandome.com
SUMMARY:Yin Yang Fiscal - Cambios en la NIF B-3 y Consideraciones al Estado de Resultados en la Declaración Anual de PM - #BarraActualizandome
DESCRIPTION:
URL:https://calendario.actualizandome.com/event/yin-yang-fiscal-cambios-en-la-nif-b-3-y-consideraciones-al-estado-de-resultados-en-la-declaracion-anual-de-pm-barraactualizandome/
CATEGORIES:Aula Virtual
ATTACH;FMTTYPE=image/png:https://calendario.actualizandome.com/wp-content/uploads/2026/03/yin.png
END:VEVENT
BEGIN:VEVENT
DTSTART;TZID=America/Mexico_City:20260306T120000
DTEND;TZID=America/Mexico_City:20260306T130000
DTSTAMP:20260421T150901
CREATED:20260305T194849Z
LAST-MODIFIED:20260305T194849Z
UID:10011566-1772798400-1772802000@calendario.actualizandome.com
SUMMARY:De Obligaciones y de Derechos - Reformas a los Procedimientos de Fiscalización - #BarraActualizandome
DESCRIPTION:
URL:https://calendario.actualizandome.com/event/de-obligaciones-y-de-derechos-reformas-a-los-procedimientos-de-fiscalizacion-barraactualizandome/
CATEGORIES:Aula Virtual
ATTACH;FMTTYPE=image/png:https://calendario.actualizandome.com/wp-content/uploads/2026/03/oblig.png
END:VEVENT
BEGIN:VEVENT
DTSTART;TZID=America/Mexico_City:20260306T130000
DTEND;TZID=America/Mexico_City:20260306T140000
DTSTAMP:20260421T150901
CREATED:20260305T233553Z
LAST-MODIFIED:20260305T233553Z
UID:10011576-1772802000-1772805600@calendario.actualizandome.com
SUMMARY:Presentación de la Revista Digital Actualizandome Num. 196 (R) – #BarraActualizandome
DESCRIPTION:
URL:https://calendario.actualizandome.com/event/presentacion-de-la-revista-digital-actualizandome-num-196-r-barraactualizandome/
CATEGORIES:Aula Virtual
ATTACH;FMTTYPE=image/png:https://calendario.actualizandome.com/wp-content/uploads/2026/03/revist.png
END:VEVENT
BEGIN:VEVENT
DTSTART;TZID=America/Mexico_City:20260306T170000
DTEND;TZID=America/Mexico_City:20260306T180000
DTSTAMP:20260421T150901
CREATED:20260305T195219Z
LAST-MODIFIED:20260305T195306Z
UID:10011567-1772816400-1772820000@calendario.actualizandome.com
SUMMARY:Frecuencia Empresarial - #BarraActualizandome
DESCRIPTION:
URL:https://calendario.actualizandome.com/event/frecuencia-empresarial-barraactualizandome-43/
CATEGORIES:Aula Virtual
ATTACH;FMTTYPE=image/png:https://calendario.actualizandome.com/wp-content/uploads/2026/03/frecuenc.png
END:VEVENT
BEGIN:VEVENT
DTSTART;TZID=America/Mexico_City:20260306T180000
DTEND;TZID=America/Mexico_City:20260306T190000
DTSTAMP:20260421T150901
CREATED:20260305T215254Z
LAST-MODIFIED:20260305T215254Z
UID:10011569-1772820000-1772823600@calendario.actualizandome.com
SUMMARY:Curso Básico de Impuestos (R) - #BarraActualizandome
DESCRIPTION:
URL:https://calendario.actualizandome.com/event/curso-basico-de-impuestos-r-barraactualizandome-7/
CATEGORIES:Aula Virtual
ATTACH;FMTTYPE=image/png:https://calendario.actualizandome.com/wp-content/uploads/2026/03/cursob.png
END:VEVENT
BEGIN:VEVENT
DTSTART;TZID=America/Mexico_City:20260306T180000
DTEND;TZID=America/Mexico_City:20260306T200000
DTSTAMP:20260421T150901
CREATED:20260302T175322Z
LAST-MODIFIED:20260302T175322Z
UID:10011484-1772820000-1772827200@calendario.actualizandome.com
SUMMARY:Sesión del Seminario en Prevención de Lavado de Dinero
DESCRIPTION:
URL:https://calendario.actualizandome.com/event/sesion-del-seminario-en-prevencion-de-lavado-de-dinero-2/2026-03-06/
CATEGORIES:academia,Cursos,Videoconferencia
ATTACH;FMTTYPE=image/png:https://calendario.actualizandome.com/wp-content/uploads/2026/03/Blue-and-Purple-Modern-Business-Services-Facebook-Post-89.png
END:VEVENT
BEGIN:VEVENT
DTSTART;TZID=America/Mexico_City:20260307T120000
DTEND;TZID=America/Mexico_City:20260307T140000
DTSTAMP:20260421T150901
CREATED:20260305T230539Z
LAST-MODIFIED:20260305T230539Z
UID:10011575-1772884800-1772892000@calendario.actualizandome.com
SUMMARY:Sesión del Club de Reglas Misceláneas 2026 REGULARIZACIÓN FISCAL 2026
DESCRIPTION:
URL:https://calendario.actualizandome.com/event/sesion-del-club-de-reglas-miscelaneas-2026-regularizacion-fiscal-2026/
CATEGORIES:academia,Cursos,Videoconferencia
ATTACH;FMTTYPE=image/png:https://calendario.actualizandome.com/wp-content/uploads/2026/03/Celebrando-la-Contaduria-Publica-47.png
END:VEVENT
BEGIN:VEVENT
DTSTART;VALUE=DATE:20260309
DTEND;VALUE=DATE:20260310
DTSTAMP:20260421T150901
CREATED:20260305T223321Z
LAST-MODIFIED:20260305T223321Z
UID:10011570-1773014400-1773100799@calendario.actualizandome.com
SUMMARY:Programación de la Barra Actualizandome
DESCRIPTION:
URL:https://calendario.actualizandome.com/event/programacion-de-la-barra-actualizandome-635/
CATEGORIES:Aula Virtual
ATTACH;FMTTYPE=image/png:https://calendario.actualizandome.com/wp-content/uploads/2026/03/lunes.png
END:VEVENT
BEGIN:VEVENT
DTSTART;TZID=America/Mexico_City:20260309T100000
DTEND;TZID=America/Mexico_City:20260309T110000
DTSTAMP:20260421T150901
CREATED:20260306T194247Z
LAST-MODIFIED:20260306T194247Z
UID:10011945-1773050400-1773054000@calendario.actualizandome.com
SUMMARY:Reflexionando Desde Israel - #BarraActualizandome
DESCRIPTION:
URL:https://calendario.actualizandome.com/event/reflexionando-desde-israel-barraactualizandome-44/
CATEGORIES:Aula Virtual
ATTACH;FMTTYPE=image/png:https://calendario.actualizandome.com/wp-content/uploads/2026/03/reflex.png
END:VEVENT
BEGIN:VEVENT
DTSTART;TZID=America/Mexico_City:20260309T110000
DTEND;TZID=America/Mexico_City:20260309T120000
DTSTAMP:20260421T150901
CREATED:20260306T194522Z
LAST-MODIFIED:20260306T194522Z
UID:10011946-1773054000-1773057600@calendario.actualizandome.com
SUMMARY:Conociendo Actualizandome - #BarraActualizandome
DESCRIPTION:
URL:https://calendario.actualizandome.com/event/conociendo-actualizandome-barraactualizandome-103/
CATEGORIES:Aula Virtual
ATTACH;FMTTYPE=image/png:https://calendario.actualizandome.com/wp-content/uploads/2026/03/actuali.png
END:VEVENT
BEGIN:VEVENT
DTSTART;TZID=America/Mexico_City:20260309T120000
DTEND;TZID=America/Mexico_City:20260309T130000
DTSTAMP:20260421T150901
CREATED:20260306T194652Z
LAST-MODIFIED:20260306T194652Z
UID:10011947-1773057600-1773061200@calendario.actualizandome.com
SUMMARY:Curso Básico de Impuestos (R) - #BarraActualizandome
DESCRIPTION:
URL:https://calendario.actualizandome.com/event/curso-basico-de-impuestos-r-barraactualizandome-8/
CATEGORIES:Aula Virtual
ATTACH;FMTTYPE=image/png:https://calendario.actualizandome.com/wp-content/uploads/2026/03/basico.png
END:VEVENT
BEGIN:VEVENT
DTSTART;TZID=America/Mexico_City:20260309T130000
DTEND;TZID=America/Mexico_City:20260309T140000
DTSTAMP:20260421T150901
CREATED:20260306T194846Z
LAST-MODIFIED:20260306T194846Z
UID:10011948-1773061200-1773064800@calendario.actualizandome.com
SUMMARY:La Hora AMCPMX - Gobernar con la Inteligencia Artificial - 2da. Sesión - #BarraActualizandome
DESCRIPTION:
URL:https://calendario.actualizandome.com/event/la-hora-amcpmx-gobernar-con-la-inteligencia-artificial-2da-sesion-barraactualizandome/
CATEGORIES:Aula Virtual
ATTACH;FMTTYPE=image/png:https://calendario.actualizandome.com/wp-content/uploads/2026/03/amcpmx.png
END:VEVENT
BEGIN:VEVENT
DTSTART;TZID=America/Mexico_City:20260309T140000
DTEND;TZID=America/Mexico_City:20260309T150000
DTSTAMP:20260421T150901
CREATED:20260306T195017Z
LAST-MODIFIED:20260306T195017Z
UID:10011949-1773064800-1773068400@calendario.actualizandome.com
SUMMARY:Consultoría Fiscal Empresarial - #BarraActualizandome
DESCRIPTION:
URL:https://calendario.actualizandome.com/event/consultoria-fiscal-empresarial-barraactualizandome-57/
CATEGORIES:Aula Virtual
ATTACH;FMTTYPE=image/png:https://calendario.actualizandome.com/wp-content/uploads/2026/03/consult.png
END:VEVENT
BEGIN:VEVENT
DTSTART;TZID=America/Mexico_City:20260309T170000
DTEND;TZID=America/Mexico_City:20260309T180000
DTSTAMP:20260421T150901
CREATED:20260306T195437Z
LAST-MODIFIED:20260306T195437Z
UID:10011950-1773075600-1773079200@calendario.actualizandome.com
SUMMARY:El Derecho y su Círculo de Acción - Movimientos Sociales en los Derechos Humanos - #BarraActualizandome
DESCRIPTION:
URL:https://calendario.actualizandome.com/event/el-derecho-y-su-circulo-de-accion-movimientos-sociales-en-los-derechos-humanos-barraactualizandome/
CATEGORIES:Aula Virtual
ATTACH;FMTTYPE=image/png:https://calendario.actualizandome.com/wp-content/uploads/2026/03/derecho.png
END:VEVENT
BEGIN:VEVENT
DTSTART;TZID=America/Mexico_City:20260309T180000
DTEND;TZID=America/Mexico_City:20260309T190000
DTSTAMP:20260421T150901
CREATED:20260306T195611Z
LAST-MODIFIED:20260306T195627Z
UID:10011951-1773079200-1773082800@calendario.actualizandome.com
SUMMARY:ABC de lo Fiscal - #BarraActualizandome
DESCRIPTION:
URL:https://calendario.actualizandome.com/event/abc-de-lo-fiscal-barraactualizandome-55/
CATEGORIES:Aula Virtual
ATTACH;FMTTYPE=image/png:https://calendario.actualizandome.com/wp-content/uploads/2026/03/abc.png
END:VEVENT
BEGIN:VEVENT
DTSTART;VALUE=DATE:20260310
DTEND;VALUE=DATE:20260311
DTSTAMP:20260421T150901
CREATED:20260305T223413Z
LAST-MODIFIED:20260305T223413Z
UID:10011571-1773100800-1773187199@calendario.actualizandome.com
SUMMARY:Programación de la Barra Actualizandome
DESCRIPTION:
URL:https://calendario.actualizandome.com/event/programacion-de-la-barra-actualizandome-636/
CATEGORIES:Aula Virtual
ATTACH;FMTTYPE=image/png:https://calendario.actualizandome.com/wp-content/uploads/2026/03/marts.png
END:VEVENT
BEGIN:VEVENT
DTSTART;TZID=America/Mexico_City:20260310T100000
DTEND;TZID=America/Mexico_City:20260310T110000
DTSTAMP:20260421T150901
CREATED:20260309T223658Z
LAST-MODIFIED:20260309T223658Z
UID:10011952-1773136800-1773140400@calendario.actualizandome.com
SUMMARY:El Poder de los Seguros - #BarraActualizandome
DESCRIPTION:
URL:https://calendario.actualizandome.com/event/el-poder-de-los-seguros-barraactualizandome-51/
CATEGORIES:Aula Virtual
ATTACH;FMTTYPE=image/png:https://calendario.actualizandome.com/wp-content/uploads/2026/03/poder.png
END:VEVENT
BEGIN:VEVENT
DTSTART;TZID=America/Mexico_City:20260310T100000
DTEND;TZID=America/Mexico_City:20260310T113000
DTSTAMP:20260421T150901
CREATED:20260302T194248Z
LAST-MODIFIED:20260302T194248Z
UID:10011540-1773136800-1773142200@calendario.actualizandome.com
SUMMARY:Sesión Club de Estudio Contable Fiscal de las Abarroteras
DESCRIPTION:
URL:https://calendario.actualizandome.com/event/sesion-club-de-estudio-contable-fiscal-de-las-abarroteras-2/
CATEGORIES:academia,Videoconferencia
ATTACH;FMTTYPE=image/png:https://calendario.actualizandome.com/wp-content/uploads/2026/03/2.png
END:VEVENT
BEGIN:VEVENT
DTSTART;TZID=America/Mexico_City:20260310T110000
DTEND;TZID=America/Mexico_City:20260310T120000
DTSTAMP:20260421T150901
CREATED:20260309T223814Z
LAST-MODIFIED:20260310T161122Z
UID:10011953-1773140400-1773144000@calendario.actualizandome.com
SUMMARY:Tópicos de Seguridad Social - Reducción de la Jornada - #BarraActualizandome
DESCRIPTION:
URL:https://calendario.actualizandome.com/event/topicos-de-seguridad-social-barraactualizandome-24/
CATEGORIES:Aula Virtual
ATTACH;FMTTYPE=image/png:https://calendario.actualizandome.com/wp-content/uploads/2026/03/tss.png
END:VEVENT
BEGIN:VEVENT
DTSTART;TZID=America/Mexico_City:20260310T120000
DTEND;TZID=America/Mexico_City:20260310T130000
DTSTAMP:20260421T150901
CREATED:20260309T223916Z
LAST-MODIFIED:20260309T223916Z
UID:10011954-1773144000-1773147600@calendario.actualizandome.com
SUMMARY:Panorama Empresarial - #BarraActualizandome
DESCRIPTION:
URL:https://calendario.actualizandome.com/event/panorama-empresarial-barraactualizandome-54/
CATEGORIES:Aula Virtual
ATTACH;FMTTYPE=image/png:https://calendario.actualizandome.com/wp-content/uploads/2026/03/panoram.png
END:VEVENT
END:VCALENDAR