BEGIN:VCALENDAR
VERSION:2.0
PRODID:-//ACTUALIZANDOME - ECPv6.15.16//NONSGML v1.0//EN
CALSCALE:GREGORIAN
METHOD:PUBLISH
X-WR-CALNAME:ACTUALIZANDOME
X-ORIGINAL-URL:https://calendario.actualizandome.com
X-WR-CALDESC:Eventos para ACTUALIZANDOME
REFRESH-INTERVAL;VALUE=DURATION:PT1H
X-Robots-Tag:noindex
X-PUBLISHED-TTL:PT1H
BEGIN:VTIMEZONE
TZID:America/Mexico_City
BEGIN:STANDARD
TZOFFSETFROM:-0600
TZOFFSETTO:-0600
TZNAME:CST
DTSTART:20250101T000000
END:STANDARD
END:VTIMEZONE
BEGIN:VEVENT
DTSTART;VALUE=DATE:20260318
DTEND;VALUE=DATE:20260319
DTSTAMP:20260420T160939
CREATED:20260317T230017Z
LAST-MODIFIED:20260317T230017Z
UID:10011986-1773792000-1773878399@calendario.actualizandome.com
SUMMARY:Programación de la Barra Actualizandome
DESCRIPTION:
URL:https://calendario.actualizandome.com/event/programacion-de-la-barra-actualizandome-643/
CATEGORIES:Aula Virtual
ATTACH;FMTTYPE=image/png:https://calendario.actualizandome.com/wp-content/uploads/2026/03/miercs-1.png
END:VEVENT
BEGIN:VEVENT
DTSTART;TZID=America/Mexico_City:20260318T100000
DTEND;TZID=America/Mexico_City:20260318T110000
DTSTAMP:20260420T160939
CREATED:20260317T191645Z
LAST-MODIFIED:20260317T191807Z
UID:10011985-1773828000-1773831600@calendario.actualizandome.com
SUMMARY:Inttegra Sistemas -  Aprende a Configurar IDSE Para Renovar Certificados - #BarraActualizandome
DESCRIPTION:
URL:https://calendario.actualizandome.com/event/inttegra-sistemas-aprende-a-configurar-idse-para-renovar-certificados-barraactualizandome/
CATEGORIES:Aula Virtual
ATTACH;FMTTYPE=image/png:https://calendario.actualizandome.com/wp-content/uploads/2026/03/inttegra-1.png
END:VEVENT
BEGIN:VEVENT
DTSTART;TZID=America/Mexico_City:20260318T110000
DTEND;TZID=America/Mexico_City:20260318T120000
DTSTAMP:20260420T160939
CREATED:20260317T230837Z
LAST-MODIFIED:20260317T230837Z
UID:10011988-1773831600-1773835200@calendario.actualizandome.com
SUMMARY:JB El Fiscal - #BarraActualizandome
DESCRIPTION:
URL:https://calendario.actualizandome.com/event/jb-el-fiscal-barraactualizandome-45/
CATEGORIES:Aula Virtual
ATTACH;FMTTYPE=image/png:https://calendario.actualizandome.com/wp-content/uploads/2026/03/jbfiscal-2.png
END:VEVENT
BEGIN:VEVENT
DTSTART;TZID=America/Mexico_City:20260318T120000
DTEND;TZID=America/Mexico_City:20260318T130000
DTSTAMP:20260420T160939
CREATED:20260317T230946Z
LAST-MODIFIED:20260317T230946Z
UID:10011989-1773835200-1773838800@calendario.actualizandome.com
SUMMARY:Estratégica - #BarraActualizandome
DESCRIPTION:
URL:https://calendario.actualizandome.com/event/estrategica-barraactualizandome-52/
CATEGORIES:Aula Virtual
ATTACH;FMTTYPE=image/png:https://calendario.actualizandome.com/wp-content/uploads/2026/03/estrateg-1.png
END:VEVENT
BEGIN:VEVENT
DTSTART;TZID=America/Mexico_City:20260318T130000
DTEND;TZID=America/Mexico_City:20260318T140000
DTSTAMP:20260420T160939
CREATED:20260317T231117Z
LAST-MODIFIED:20260317T231117Z
UID:10011990-1773838800-1773842400@calendario.actualizandome.com
SUMMARY:Curso Básico de Impuestos (R) - #BarraActualizandome
DESCRIPTION:
URL:https://calendario.actualizandome.com/event/curso-basico-de-impuestos-r-barraactualizandome-10/
CATEGORIES:Aula Virtual
ATTACH;FMTTYPE=image/png:https://calendario.actualizandome.com/wp-content/uploads/2026/03/basicos.png
END:VEVENT
BEGIN:VEVENT
DTSTART;TZID=America/Mexico_City:20260318T170000
DTEND;TZID=America/Mexico_City:20260318T180000
DTSTAMP:20260420T160939
CREATED:20260317T231615Z
LAST-MODIFIED:20260317T231633Z
UID:10011991-1773853200-1773856800@calendario.actualizandome.com
SUMMARY:Sinergia Laboral InfonavImss (R) - #BarraActualizandome
DESCRIPTION:
URL:https://calendario.actualizandome.com/event/sinergia-laboral-infonavimss-r-barraactualizandome-42/
CATEGORIES:Aula Virtual
ATTACH;FMTTYPE=image/png:https://calendario.actualizandome.com/wp-content/uploads/2026/03/sinergia-2.png
END:VEVENT
BEGIN:VEVENT
DTSTART;TZID=America/Mexico_City:20260318T180000
DTEND;TZID=America/Mexico_City:20260318T190000
DTSTAMP:20260420T160939
CREATED:20260317T232813Z
LAST-MODIFIED:20260317T232813Z
UID:10011992-1773856800-1773860400@calendario.actualizandome.com
SUMMARY:De Impuestos y Otros Demonios - ISR – PAGOS PROVISIONALES DE PERSONAS MORALES Segundo ejercicio fiscal: primer pago que comprende enero–marzo y transición a pagos mensuales- #BarraActualizandome
DESCRIPTION:
URL:https://calendario.actualizandome.com/event/de-impuestos-y-otros-demonios-isr-pagos-provisionales-de-personas-morales-segundo-ejercicio-fiscal-primer-pago-que-comprende-enero-marzo-y-transicion-a-pagos-mensuales-barraactu/
CATEGORIES:Aula Virtual
ATTACH;FMTTYPE=image/png:https://calendario.actualizandome.com/wp-content/uploads/2026/03/impuestos.png
END:VEVENT
BEGIN:VEVENT
DTSTART;TZID=America/Mexico_City:20260318T210000
DTEND;TZID=America/Mexico_City:20260318T210000
DTSTAMP:20260420T160939
CREATED:20231109T233529Z
LAST-MODIFIED:20260129T002251Z
UID:10001460-1773867600-1773867600@calendario.actualizandome.com
SUMMARY:Club de estudio sobre Reglas Misceláneas 2026
DESCRIPTION:
URL:https://calendario.actualizandome.com/event/club-de-estudio-sobre-reglas-miscelaneas-2026/2026-03-18/
CATEGORIES:academia,Cursos
ATTACH;FMTTYPE=image/png:https://calendario.actualizandome.com/wp-content/uploads/2023/11/Club-de-estudio-sobre-Reglas-Miscelaneas-2024-26-1400x788-1.png
END:VEVENT
END:VCALENDAR