BEGIN:VCALENDAR
VERSION:2.0
PRODID:-//ACTUALIZANDOME - ECPv6.15.16//NONSGML v1.0//EN
CALSCALE:GREGORIAN
METHOD:PUBLISH
X-ORIGINAL-URL:https://calendario.actualizandome.com
X-WR-CALDESC:Eventos para ACTUALIZANDOME
REFRESH-INTERVAL;VALUE=DURATION:PT1H
X-Robots-Tag:noindex
X-PUBLISHED-TTL:PT1H
BEGIN:VTIMEZONE
TZID:America/Mexico_City
BEGIN:STANDARD
TZOFFSETFROM:-0600
TZOFFSETTO:-0600
TZNAME:CST
DTSTART:20250101T000000
END:STANDARD
END:VTIMEZONE
BEGIN:VEVENT
DTSTART;VALUE=DATE:20260313
DTEND;VALUE=DATE:20260314
DTSTAMP:20260421T003828
CREATED:20260305T223900Z
LAST-MODIFIED:20260311T230230Z
UID:10011574-1773360000-1773446399@calendario.actualizandome.com
SUMMARY:Programación de la Barra Actualizandome
DESCRIPTION:
URL:https://calendario.actualizandome.com/event/programacion-de-la-barra-actualizandome-639/
CATEGORIES:Aula Virtual
ATTACH;FMTTYPE=image/png:https://calendario.actualizandome.com/wp-content/uploads/2026/03/vierns-1.png
END:VEVENT
BEGIN:VEVENT
DTSTART;TZID=America/Mexico_City:20260313T100000
DTEND;TZID=America/Mexico_City:20260313T110000
DTSTAMP:20260421T003828
CREATED:20260311T225936Z
LAST-MODIFIED:20260311T230007Z
UID:10011972-1773396000-1773399600@calendario.actualizandome.com
SUMMARY:Sinergia Laboral InfonavImss - Marzo Otro Poco - #BarraActualizandome
DESCRIPTION:
URL:https://calendario.actualizandome.com/event/sinergia-laboral-infonavimss-marzo-otro-poco-barraactualizandome/
CATEGORIES:Aula Virtual
ATTACH;FMTTYPE=image/png:https://calendario.actualizandome.com/wp-content/uploads/2026/03/sinergia-1.png
END:VEVENT
BEGIN:VEVENT
DTSTART;TZID=America/Mexico_City:20260313T110000
DTEND;TZID=America/Mexico_City:20260313T120000
DTSTAMP:20260421T003828
CREATED:20260312T233304Z
LAST-MODIFIED:20260313T163109Z
UID:10011974-1773399600-1773403200@calendario.actualizandome.com
SUMMARY:Metamorfosis - El Poder de Respirar - #BarraActualizandome
DESCRIPTION:
URL:https://calendario.actualizandome.com/event/metamorfosis-barraactualizandome-44/
CATEGORIES:Aula Virtual
ATTACH;FMTTYPE=image/png:https://calendario.actualizandome.com/wp-content/uploads/2026/03/meta-1.png
END:VEVENT
BEGIN:VEVENT
DTSTART;TZID=America/Mexico_City:20260313T120000
DTEND;TZID=America/Mexico_City:20260313T130000
DTSTAMP:20260421T003828
CREATED:20260312T233418Z
LAST-MODIFIED:20260312T233418Z
UID:10011975-1773403200-1773406800@calendario.actualizandome.com
SUMMARY:Conociendo Parte de Nuestro México - Contabilidad y Otras Maravillas - #BarraActualizandome
DESCRIPTION:
URL:https://calendario.actualizandome.com/event/conociendo-parte-de-nuestro-mexico-contabilidad-y-otras-maravillas-barraactualizandome-16/
CATEGORIES:Aula Virtual
ATTACH;FMTTYPE=image/png:https://calendario.actualizandome.com/wp-content/uploads/2026/03/conociendomx.png
END:VEVENT
BEGIN:VEVENT
DTSTART;TZID=America/Mexico_City:20260313T130000
DTEND;TZID=America/Mexico_City:20260313T140000
DTSTAMP:20260421T003828
CREATED:20260312T233543Z
LAST-MODIFIED:20260312T233543Z
UID:10011976-1773406800-1773410400@calendario.actualizandome.com
SUMMARY:La Nómina del Mañana - Tecnoestrés - #BarraActualizandome
DESCRIPTION:
URL:https://calendario.actualizandome.com/event/la-nomina-del-manana-tecnoestres-barraactualizandome/
CATEGORIES:Aula Virtual
ATTACH;FMTTYPE=image/png:https://calendario.actualizandome.com/wp-content/uploads/2026/03/nominama.png
END:VEVENT
BEGIN:VEVENT
DTSTART;TZID=America/Mexico_City:20260313T170000
DTEND;TZID=America/Mexico_City:20260313T180000
DTSTAMP:20260421T003828
CREATED:20260312T233640Z
LAST-MODIFIED:20260312T233640Z
UID:10011977-1773421200-1773424800@calendario.actualizandome.com
SUMMARY:Está Bien No Estar Bien - #BarraActualizandome
DESCRIPTION:
URL:https://calendario.actualizandome.com/event/esta-bien-no-estar-bien-barraactualizandome-39/
CATEGORIES:Aula Virtual
ATTACH;FMTTYPE=image/png:https://calendario.actualizandome.com/wp-content/uploads/2026/03/estabeiin.png
END:VEVENT
BEGIN:VEVENT
DTSTART;TZID=America/Mexico_City:20260313T180000
DTEND;TZID=America/Mexico_City:20260313T190000
DTSTAMP:20260421T003828
CREATED:20260312T233835Z
LAST-MODIFIED:20260312T233835Z
UID:10011978-1773424800-1773428400@calendario.actualizandome.com
SUMMARY:Tres a las Seis - #BarraActualizandome
DESCRIPTION:
URL:https://calendario.actualizandome.com/event/tres-a-las-seis-barraactualizandome-45/
CATEGORIES:Aula Virtual
ATTACH;FMTTYPE=image/png:https://calendario.actualizandome.com/wp-content/uploads/2026/03/tres.png
END:VEVENT
BEGIN:VEVENT
DTSTART;TZID=America/Mexico_City:20260313T180000
DTEND;TZID=America/Mexico_City:20260313T200000
DTSTAMP:20260421T003828
CREATED:20260302T175322Z
LAST-MODIFIED:20260302T175322Z
UID:10011485-1773424800-1773432000@calendario.actualizandome.com
SUMMARY:Sesión del Seminario en Prevención de Lavado de Dinero
DESCRIPTION:
URL:https://calendario.actualizandome.com/event/sesion-del-seminario-en-prevencion-de-lavado-de-dinero-2/2026-03-13/
CATEGORIES:academia,Cursos,Videoconferencia
ATTACH;FMTTYPE=image/png:https://calendario.actualizandome.com/wp-content/uploads/2026/03/Blue-and-Purple-Modern-Business-Services-Facebook-Post-89.png
END:VEVENT
END:VCALENDAR