BEGIN:VCALENDAR
VERSION:2.0
PRODID:-//ACTUALIZANDOME - ECPv6.15.16//NONSGML v1.0//EN
CALSCALE:GREGORIAN
METHOD:PUBLISH
X-WR-CALNAME:ACTUALIZANDOME
X-ORIGINAL-URL:https://calendario.actualizandome.com
X-WR-CALDESC:Eventos para ACTUALIZANDOME
REFRESH-INTERVAL;VALUE=DURATION:PT1H
X-Robots-Tag:noindex
X-PUBLISHED-TTL:PT1H
BEGIN:VTIMEZONE
TZID:America/Mexico_City
BEGIN:STANDARD
TZOFFSETFROM:-0600
TZOFFSETTO:-0600
TZNAME:CST
DTSTART:20250101T000000
END:STANDARD
END:VTIMEZONE
BEGIN:VEVENT
DTSTART;VALUE=DATE:20260303
DTEND;VALUE=DATE:20260304
DTSTAMP:20260421T164656
CREATED:20260225T193459Z
LAST-MODIFIED:20260303T002628Z
UID:10011462-1772496000-1772582399@calendario.actualizandome.com
SUMMARY:Programación de la Barra Actualizandome
DESCRIPTION:
URL:https://calendario.actualizandome.com/event/programacion-de-la-barra-actualizandome-631/
CATEGORIES:Aula Virtual
ATTACH;FMTTYPE=image/jpeg:https://calendario.actualizandome.com/wp-content/uploads/2026/02/General-2026-aula-1.jpg
END:VEVENT
BEGIN:VEVENT
DTSTART;TZID=America/Mexico_City:20260303T100000
DTEND;TZID=America/Mexico_City:20260303T110000
DTSTAMP:20260421T164656
CREATED:20260302T222401Z
LAST-MODIFIED:20260302T222401Z
UID:10011544-1772532000-1772535600@calendario.actualizandome.com
SUMMARY:Hablemos de Pensiones (R) - #BarraActualizandome
DESCRIPTION:
URL:https://calendario.actualizandome.com/event/hablemos-de-pensiones-r-barraactualizandome-47/
CATEGORIES:Aula Virtual
ATTACH;FMTTYPE=image/png:https://calendario.actualizandome.com/wp-content/uploads/2026/03/habpens.png
END:VEVENT
BEGIN:VEVENT
DTSTART;TZID=America/Mexico_City:20260303T100000
DTEND;TZID=America/Mexico_City:20260303T113000
DTSTAMP:20260421T164656
CREATED:20260225T163030Z
LAST-MODIFIED:20260225T163030Z
UID:10011460-1772532000-1772537400@calendario.actualizandome.com
SUMMARY:Sesión Club de Estudio Contable Fiscal de las Abarroteras
DESCRIPTION:
URL:https://calendario.actualizandome.com/event/sesion-club-de-estudio-contable-fiscal-de-las-abarroteras/
CATEGORIES:academia,Cursos,On line
ATTACH;FMTTYPE=image/jpeg:https://calendario.actualizandome.com/wp-content/uploads/2026/02/Purple-and-White-Professional-Minimalist-Digital-Marketing-Webinar-Instagram-Post-2.jpg
END:VEVENT
BEGIN:VEVENT
DTSTART;TZID=America/Mexico_City:20260303T110000
DTEND;TZID=America/Mexico_City:20260303T120000
DTSTAMP:20260421T164656
CREATED:20260302T222512Z
LAST-MODIFIED:20260302T222512Z
UID:10011545-1772535600-1772539200@calendario.actualizandome.com
SUMMARY:Hora Prodecon - Regímenes Fiscales - #BarraActualizandome
DESCRIPTION:
URL:https://calendario.actualizandome.com/event/hora-prodecon-regimenes-fiscales-barraactualizandome/
CATEGORIES:Aula Virtual
ATTACH;FMTTYPE=image/png:https://calendario.actualizandome.com/wp-content/uploads/2026/03/prodeco.png
END:VEVENT
BEGIN:VEVENT
DTSTART;TZID=America/Mexico_City:20260303T120000
DTEND;TZID=America/Mexico_City:20260303T130000
DTSTAMP:20260421T164656
CREATED:20260302T222710Z
LAST-MODIFIED:20260302T222710Z
UID:10011546-1772539200-1772542800@calendario.actualizandome.com
SUMMARY:Tópicos Fiscales - #BarraActualizandome
DESCRIPTION:
URL:https://calendario.actualizandome.com/event/topicos-fiscales-barraactualizandome-35/
CATEGORIES:Aula Virtual
ATTACH;FMTTYPE=image/png:https://calendario.actualizandome.com/wp-content/uploads/2026/03/Topfis.png
END:VEVENT
BEGIN:VEVENT
DTSTART;TZID=America/Mexico_City:20260303T130000
DTEND;TZID=America/Mexico_City:20260303T140000
DTSTAMP:20260421T164656
CREATED:20260302T222955Z
LAST-MODIFIED:20260303T002700Z
UID:10011547-1772542800-1772546400@calendario.actualizandome.com
SUMMARY:Hora AMCPMX - Gobernar con la inteligencia artificial - #BarraActualizandome
DESCRIPTION:
URL:https://calendario.actualizandome.com/event/litigio-fiscal-estrategico-barraactualizandome-26/
CATEGORIES:Aula Virtual
ATTACH;FMTTYPE=image/jpeg:https://calendario.actualizandome.com/wp-content/uploads/2026/03/amcpmx.jpg
END:VEVENT
BEGIN:VEVENT
DTSTART;TZID=America/Mexico_City:20260303T170000
DTEND;TZID=America/Mexico_City:20260303T180000
DTSTAMP:20260421T164656
CREATED:20260302T223731Z
LAST-MODIFIED:20260303T221705Z
UID:10011548-1772557200-1772560800@calendario.actualizandome.com
SUMMARY:Fiscal por la Tarde - Nuevas Causales de Restricción Temporal del CSD - #BarraActualizandome
DESCRIPTION:
URL:https://calendario.actualizandome.com/event/fiscal-por-la-tarde-barraactualizandome-45/
CATEGORIES:Aula Virtual
ATTACH;FMTTYPE=image/png:https://calendario.actualizandome.com/wp-content/uploads/2026/03/fistarde-1.png
END:VEVENT
BEGIN:VEVENT
DTSTART;TZID=America/Mexico_City:20260303T180000
DTEND;TZID=America/Mexico_City:20260303T190000
DTSTAMP:20260421T164656
CREATED:20260302T223847Z
LAST-MODIFIED:20260302T223847Z
UID:10011549-1772560800-1772564400@calendario.actualizandome.com
SUMMARY:Conadfis - Puntos Ásperos de la Declaración Anual - #BarraActualizandome
DESCRIPTION:
URL:https://calendario.actualizandome.com/event/conadfis-puntos-asperos-de-la-declaracion-anual-barraactualizandome/
CATEGORIES:Aula Virtual
ATTACH;FMTTYPE=image/png:https://calendario.actualizandome.com/wp-content/uploads/2026/03/conadfis.png
END:VEVENT
END:VCALENDAR