BEGIN:VCALENDAR
VERSION:2.0
PRODID:-//ACTUALIZANDOME - ECPv6.15.16//NONSGML v1.0//EN
CALSCALE:GREGORIAN
METHOD:PUBLISH
X-WR-CALNAME:ACTUALIZANDOME
X-ORIGINAL-URL:https://calendario.actualizandome.com
X-WR-CALDESC:Eventos para ACTUALIZANDOME
REFRESH-INTERVAL;VALUE=DURATION:PT1H
X-Robots-Tag:noindex
X-PUBLISHED-TTL:PT1H
BEGIN:VTIMEZONE
TZID:America/Mexico_City
BEGIN:STANDARD
TZOFFSETFROM:-0600
TZOFFSETTO:-0600
TZNAME:CST
DTSTART:20250101T000000
END:STANDARD
END:VTIMEZONE
BEGIN:VEVENT
DTSTART;VALUE=DATE:20260302
DTEND;VALUE=DATE:20260303
DTSTAMP:20260421T181612
CREATED:20260225T192845Z
LAST-MODIFIED:20260227T235815Z
UID:10011461-1772409600-1772495999@calendario.actualizandome.com
SUMMARY:Programación de la Barra Actualizandome
DESCRIPTION:
URL:https://calendario.actualizandome.com/event/programacion-de-la-barra-actualizandome-630/
CATEGORIES:Aula Virtual
ATTACH;FMTTYPE=image/png:https://calendario.actualizandome.com/wp-content/uploads/2026/02/luns.png
END:VEVENT
BEGIN:VEVENT
DTSTART;TZID=America/Mexico_City:20260302T100000
DTEND;TZID=America/Mexico_City:20260302T110000
DTSTAMP:20260421T181612
CREATED:20260227T233725Z
LAST-MODIFIED:20260227T233725Z
UID:10011478-1772445600-1772449200@calendario.actualizandome.com
SUMMARY:Conociendo Actualizandome - #BarraActualizandome
DESCRIPTION:
URL:https://calendario.actualizandome.com/event/conociendo-actualizandome-barraactualizandome-102/
CATEGORIES:Aula Virtual
ATTACH;FMTTYPE=image/png:https://calendario.actualizandome.com/wp-content/uploads/2026/02/actuali-2.png
END:VEVENT
BEGIN:VEVENT
DTSTART;TZID=America/Mexico_City:20260302T110000
DTEND;TZID=America/Mexico_City:20260302T120000
DTSTAMP:20260421T181612
CREATED:20260227T233831Z
LAST-MODIFIED:20260227T233831Z
UID:10011479-1772449200-1772452800@calendario.actualizandome.com
SUMMARY:Expresión Fiscal - #BarraActualizandome
DESCRIPTION:
URL:https://calendario.actualizandome.com/event/expresion-fiscal-barraactualizandome-47/
CATEGORIES:Aula Virtual
ATTACH;FMTTYPE=image/png:https://calendario.actualizandome.com/wp-content/uploads/2026/02/expres.png
END:VEVENT
BEGIN:VEVENT
DTSTART;TZID=America/Mexico_City:20260302T120000
DTEND;TZID=America/Mexico_City:20260302T130000
DTSTAMP:20260421T181612
CREATED:20260227T234016Z
LAST-MODIFIED:20260227T234016Z
UID:10011480-1772452800-1772456400@calendario.actualizandome.com
SUMMARY:Curso Básico de Impuestos (R) - #BarraActualizandome
DESCRIPTION:
URL:https://calendario.actualizandome.com/event/curso-basico-de-impuestos-r-barraactualizandome-6/
CATEGORIES:Aula Virtual
ATTACH;FMTTYPE=image/png:https://calendario.actualizandome.com/wp-content/uploads/2026/02/basic.png
END:VEVENT
BEGIN:VEVENT
DTSTART;TZID=America/Mexico_City:20260302T130000
DTEND;TZID=America/Mexico_City:20260302T140000
DTSTAMP:20260421T181612
CREATED:20260227T234159Z
LAST-MODIFIED:20260302T162448Z
UID:10011481-1772456400-1772460000@calendario.actualizandome.com
SUMMARY:Presentación de la Revista Digital Actualizandome Num. 196 - #BarraActualizandome
DESCRIPTION:
URL:https://calendario.actualizandome.com/event/presentacion-de-la-revista-digital-actualizandome-num-196-barraactualizandome/
CATEGORIES:Aula Virtual
ATTACH;FMTTYPE=image/png:https://calendario.actualizandome.com/wp-content/uploads/2026/02/revist.png
END:VEVENT
BEGIN:VEVENT
DTSTART;TZID=America/Mexico_City:20260302T170000
DTEND;TZID=America/Mexico_City:20260302T180000
DTSTAMP:20260421T181612
CREATED:20260227T234743Z
LAST-MODIFIED:20260227T234743Z
UID:10011482-1772470800-1772474400@calendario.actualizandome.com
SUMMARY:Conoce las Finanzas - #BarraActualizandome
DESCRIPTION:
URL:https://calendario.actualizandome.com/event/conoce-las-finanzas-barraactualizandome-42/
CATEGORIES:Aula Virtual
ATTACH;FMTTYPE=image/png:https://calendario.actualizandome.com/wp-content/uploads/2026/02/finanz-1.png
END:VEVENT
BEGIN:VEVENT
DTSTART;TZID=America/Mexico_City:20260302T180000
DTEND;TZID=America/Mexico_City:20260302T190000
DTSTAMP:20260421T181612
CREATED:20260227T235207Z
LAST-MODIFIED:20260227T235207Z
UID:10011483-1772474400-1772478000@calendario.actualizandome.com
SUMMARY:Transformación\, Fusión y Liquidación de Sociedades (R) – #BarraActualizandome
DESCRIPTION:
URL:https://calendario.actualizandome.com/event/transformacion-fusion-y-liquidacion-de-sociedades-r-barraactualizandome-6/
CATEGORIES:Aula Virtual
ATTACH;FMTTYPE=image/png:https://calendario.actualizandome.com/wp-content/uploads/2026/02/SOCIED-2.png
END:VEVENT
END:VCALENDAR